BEGIN:VCALENDAR
VERSION:2.0
PRODID:-//Ensemble 360 - ECPv6.15.20//NONSGML v1.0//EN
CALSCALE:GREGORIAN
METHOD:PUBLISH
X-WR-CALNAME:Ensemble 360
X-ORIGINAL-URL:https://ensemble360.co.uk
X-WR-CALDESC:Events for Ensemble 360
REFRESH-INTERVAL;VALUE=DURATION:PT1H
X-Robots-Tag:noindex
X-PUBLISHED-TTL:PT1H
BEGIN:VTIMEZONE
TZID:Europe/London
BEGIN:DAYLIGHT
TZOFFSETFROM:+0000
TZOFFSETTO:+0100
TZNAME:BST
DTSTART:20250330T010000
END:DAYLIGHT
BEGIN:STANDARD
TZOFFSETFROM:+0100
TZOFFSETTO:+0000
TZNAME:GMT
DTSTART:20251026T010000
END:STANDARD
BEGIN:DAYLIGHT
TZOFFSETFROM:+0000
TZOFFSETTO:+0100
TZNAME:BST
DTSTART:20260329T010000
END:DAYLIGHT
BEGIN:STANDARD
TZOFFSETFROM:+0100
TZOFFSETTO:+0000
TZNAME:GMT
DTSTART:20261025T010000
END:STANDARD
BEGIN:DAYLIGHT
TZOFFSETFROM:+0000
TZOFFSETTO:+0100
TZNAME:BST
DTSTART:20270328T010000
END:DAYLIGHT
BEGIN:STANDARD
TZOFFSETFROM:+0100
TZOFFSETTO:+0000
TZNAME:GMT
DTSTART:20271031T010000
END:STANDARD
END:VTIMEZONE
BEGIN:VEVENT
DTSTART;TZID=Europe/London:20260303T130000
DTEND;TZID=Europe/London:20260303T130000
DTSTAMP:20260425T200057
CREATED:20251104T144715Z
LAST-MODIFIED:20260303T235150Z
UID:4291-1772542800-1772542800@ensemble360.co.uk
SUMMARY:Cardiff Classical Lunchtime Recitals: Cardiff
DESCRIPTION:Johann Sebastian Bach\, arr. Sitkovetsky: Goldberg Variations
URL:https://ensemble360.co.uk/concert/cardiff-classical-lunchtime-recitals-cardiff/
LOCATION:Eglwys Dewi Sant / Dewi Sant Church\, St Andrew's Crescent\, Cardiff\, CF10 3DD\, Wales
CATEGORIES:Ensemble 360,Rachel Roberts
ATTACH;FMTTYPE=image/jpeg:https://ensemble360.co.uk/wp-content/uploads/Ensemble_360_2024_ref_10_please_credit_Matthew_Johnson_and_Music_in_the_Round_String_Trio-zqd17m.jpg
END:VEVENT
END:VCALENDAR