BEGIN:VCALENDAR
VERSION:2.0
PRODID:-//Ensemble 360 - ECPv6.15.20//NONSGML v1.0//EN
CALSCALE:GREGORIAN
METHOD:PUBLISH
X-ORIGINAL-URL:https://ensemble360.co.uk
X-WR-CALDESC:Events for Ensemble 360
REFRESH-INTERVAL;VALUE=DURATION:PT1H
X-Robots-Tag:noindex
X-PUBLISHED-TTL:PT1H
BEGIN:VTIMEZONE
TZID:Europe/London
BEGIN:DAYLIGHT
TZOFFSETFROM:+0000
TZOFFSETTO:+0100
TZNAME:BST
DTSTART:20250330T010000
END:DAYLIGHT
BEGIN:STANDARD
TZOFFSETFROM:+0100
TZOFFSETTO:+0000
TZNAME:GMT
DTSTART:20251026T010000
END:STANDARD
BEGIN:DAYLIGHT
TZOFFSETFROM:+0000
TZOFFSETTO:+0100
TZNAME:BST
DTSTART:20260329T010000
END:DAYLIGHT
BEGIN:STANDARD
TZOFFSETFROM:+0100
TZOFFSETTO:+0000
TZNAME:GMT
DTSTART:20261025T010000
END:STANDARD
BEGIN:DAYLIGHT
TZOFFSETFROM:+0000
TZOFFSETTO:+0100
TZNAME:BST
DTSTART:20270328T010000
END:DAYLIGHT
BEGIN:STANDARD
TZOFFSETFROM:+0100
TZOFFSETTO:+0000
TZNAME:GMT
DTSTART:20271031T010000
END:STANDARD
END:VTIMEZONE
BEGIN:VEVENT
DTSTART;TZID=Europe/London:20261010T190000
DTEND;TZID=Europe/London:20261010T190000
DTSTAMP:20260426T031459
CREATED:20260202T215214Z
LAST-MODIFIED:20260319T174949Z
UID:4555-1791658800-1791658800@ensemble360.co.uk
SUMMARY:Music@Stansted: Essex
DESCRIPTION:Franz Joseph Haydn: Quartet no. 25 in C major\, op. 20\, no. 2\, Hob.III:32Pyotr Il’yich Tchaikovsky: Quartet no. 1 in D major\, op. 11\, Andante cantabilePyotr Il’yich Tchaikovsky: Serenade for Strings in C major\, Op. 48\, WaltzIntervalSamuel Barber: String Quartet\, op.11\, AdagioAlexande Borodin: String Quartet no. 2 in D major
URL:https://ensemble360.co.uk/concert/musicstansted-essex/
LOCATION:St John’s Church\, Stansted Mountfitchet\, St John's Road\, Stansted Mountfitchet\, Essex\, CM24 8JP\, England
CATEGORIES:Ensemble 360,Rachel Roberts
ATTACH;FMTTYPE=image/jpeg:https://ensemble360.co.uk/wp-content/uploads/Ensemble_360_String_Quartet_Ref-1_please_credit_Kaupo_Kikkas-SMed-apQnvq.tmp_.jpg
END:VEVENT
END:VCALENDAR