BEGIN:VCALENDAR
VERSION:2.0
PRODID:-//Ensemble 360 - ECPv6.15.20//NONSGML v1.0//EN
CALSCALE:GREGORIAN
METHOD:PUBLISH
X-WR-CALNAME:Ensemble 360
X-ORIGINAL-URL:https://ensemble360.co.uk
X-WR-CALDESC:Events for Ensemble 360
REFRESH-INTERVAL;VALUE=DURATION:PT1H
X-Robots-Tag:noindex
X-PUBLISHED-TTL:PT1H
BEGIN:VTIMEZONE
TZID:Europe/London
BEGIN:DAYLIGHT
TZOFFSETFROM:+0000
TZOFFSETTO:+0100
TZNAME:BST
DTSTART:20230326T010000
END:DAYLIGHT
BEGIN:STANDARD
TZOFFSETFROM:+0100
TZOFFSETTO:+0000
TZNAME:GMT
DTSTART:20231029T010000
END:STANDARD
BEGIN:DAYLIGHT
TZOFFSETFROM:+0000
TZOFFSETTO:+0100
TZNAME:BST
DTSTART:20240331T010000
END:DAYLIGHT
BEGIN:STANDARD
TZOFFSETFROM:+0100
TZOFFSETTO:+0000
TZNAME:GMT
DTSTART:20241027T010000
END:STANDARD
BEGIN:DAYLIGHT
TZOFFSETFROM:+0000
TZOFFSETTO:+0100
TZNAME:BST
DTSTART:20250330T010000
END:DAYLIGHT
BEGIN:STANDARD
TZOFFSETFROM:+0100
TZOFFSETTO:+0000
TZNAME:GMT
DTSTART:20251026T010000
END:STANDARD
END:VTIMEZONE
BEGIN:VEVENT
DTSTART;TZID=Europe/London:20241102T110000
DTEND;TZID=Europe/London:20241102T110000
DTSTAMP:20260426T014655
CREATED:20240603T121658Z
LAST-MODIFIED:20241102T200636Z
UID:2879-1730545200-1730545200@ensemble360.co.uk
SUMMARY:Music in the Round: Sheffield
DESCRIPTION:Dove The Monster in the Maze
URL:https://ensemble360.co.uk/concert/music-in-the-round-sheffield-35/
LOCATION:Crucible Main House\, Crucible Theatre\, Sheffield\, S1 1DA\, England
CATEGORIES:Ensemble 360
ATTACH;FMTTYPE=image/png:https://ensemble360.co.uk/wp-content/uploads/MusicintheRoundLogo-Smed-H80vRQ.tmp_.png
END:VEVENT
BEGIN:VEVENT
DTSTART;TZID=Europe/London:20241101T191500
DTEND;TZID=Europe/London:20241101T191500
DTSTAMP:20260426T014655
CREATED:20240603T121658Z
LAST-MODIFIED:20241101T195931Z
UID:2876-1730488500-1730488500@ensemble360.co.uk
SUMMARY:Music in the Round: Sheffield
DESCRIPTION:Dove The Monster in the Maze
URL:https://ensemble360.co.uk/concert/music-in-the-round-sheffield-34/
LOCATION:Crucible Main House\, Crucible Theatre\, Sheffield\, S1 1DA\, England
CATEGORIES:Ensemble 360
ATTACH;FMTTYPE=image/png:https://ensemble360.co.uk/wp-content/uploads/MusicintheRoundLogo-Smed-H80vRQ.tmp_.png
END:VEVENT
BEGIN:VEVENT
DTSTART;TZID=Europe/London:20241101T150000
DTEND;TZID=Europe/London:20241101T150000
DTSTAMP:20260426T014655
CREATED:20240603T121658Z
LAST-MODIFIED:20241101T195930Z
UID:2874-1730473200-1730473200@ensemble360.co.uk
SUMMARY:Music in the Round: Sheffield
DESCRIPTION:Dove The Monster in the Maze
URL:https://ensemble360.co.uk/concert/music-in-the-round-sheffield-32/
LOCATION:Crucible Main House\, Crucible Theatre\, Sheffield\, S1 1DA\, England
CATEGORIES:Ensemble 360,Rachel Roberts,Robert Plane
ATTACH;FMTTYPE=image/png:https://ensemble360.co.uk/wp-content/uploads/MusicintheRoundLogo-Smed-H80vRQ.tmp_.png
END:VEVENT
BEGIN:VEVENT
DTSTART;TZID=Europe/London:20241026T190000
DTEND;TZID=Europe/London:20241026T190000
DTSTAMP:20260426T014655
CREATED:20240603T121658Z
LAST-MODIFIED:20241026T192343Z
UID:2872-1729969200-1729969200@ensemble360.co.uk
SUMMARY:Music in the Round: Sheffield
DESCRIPTION:Mendelssohn Octet with Consone Quartet
URL:https://ensemble360.co.uk/concert/music-in-the-round-sheffield-31/
LOCATION:Upper Chapel\, Norfolk Street\, Sheffield\, S1 2JD\, England
CATEGORIES:Ensemble 360,Rachel Roberts
ATTACH;FMTTYPE=image/png:https://ensemble360.co.uk/wp-content/uploads/MusicintheRoundLogo-Smed-H80vRQ.tmp_.png
END:VEVENT
BEGIN:VEVENT
DTSTART;TZID=Europe/London:20241018T214500
DTEND;TZID=Europe/London:20241018T224500
DTSTAMP:20260426T014655
CREATED:20240603T121658Z
LAST-MODIFIED:20241018T183904Z
UID:2870-1729287900-1729291500@ensemble360.co.uk
SUMMARY:Oxford International Song Festival: Oxford
DESCRIPTION:Joseph Marx: Pierrot DandyClaude Debussy: PierrotAmy Beach: Valse Amoureuse\, from Les Rêves de Columbine\, op. 65Poldowski: ColumbineMax Kowalski: Nordpolfahrt\, from 12 Gedichte Aus Pierrot Lunaire\, op. 4Erich Wolfgang Korngold: Tanzlied des Pierrot\, from Die tote StadtArnold Schönberg: Pierrot Lunaire\, Op. 21
URL:https://ensemble360.co.uk/concert/oxford-international-song-festival-oxford-2/
LOCATION:The Levine Building\, Trinity College Oxford\, Broad Street\, Oxford\, OX1 3BH\, England
CATEGORIES:Ensemble 360,Robert Plane,Tim Horton
ATTACH;FMTTYPE=image/jpeg:https://ensemble360.co.uk/wp-content/uploads/Claire_Booth_ref_LS3_2957_please_credit_Sven_Arnstein-SMed-2Yi2cl.tmp_.jpg
END:VEVENT
BEGIN:VEVENT
DTSTART;TZID=Europe/London:20241018T171500
DTEND;TZID=Europe/London:20241018T181500
DTSTAMP:20260426T014655
CREATED:20240603T121658Z
LAST-MODIFIED:20241018T183903Z
UID:2867-1729271700-1729275300@ensemble360.co.uk
SUMMARY:Oxford International Song Festival: Oxford
DESCRIPTION:with Dietrich Henschel (baritone) \nJohannes Brahms: Piano Quintet in F minor\, op. 34Arnold Schönberg: Ode to Napoleon Buonaparte\, op. 41
URL:https://ensemble360.co.uk/concert/oxford-international-song-festival-oxford/
LOCATION:The Levine Building\, Trinity College Oxford\, Broad Street\, Oxford\, OX1 3BH\, England
CATEGORIES:Ensemble 360,Rachel Roberts,Tim Horton
ATTACH;FMTTYPE=image/jpeg:https://ensemble360.co.uk/wp-content/uploads/Ensemble_360_Strings_Piano_Ref-6_please_credit_Kaupo_Kikkas-SMed-86tGA6.tmp_.jpg
END:VEVENT
BEGIN:VEVENT
DTSTART;TZID=Europe/London:20241018T133000
DTEND;TZID=Europe/London:20241018T133000
DTSTAMP:20260426T014655
CREATED:20240603T121658Z
LAST-MODIFIED:20241018T183904Z
UID:2865-1729258200-1729258200@ensemble360.co.uk
SUMMARY:Music in the Round: Sheffield
DESCRIPTION:Giddy Goat
URL:https://ensemble360.co.uk/concert/music-in-the-round-sheffield-30/
LOCATION:Crucible Main House\, Crucible Theatre\, Sheffield\, S1 1DA\, England
CATEGORIES:Ensemble 360
ATTACH;FMTTYPE=image/png:https://ensemble360.co.uk/wp-content/uploads/MusicintheRoundLogo-Smed-H80vRQ.tmp_.png
END:VEVENT
BEGIN:VEVENT
DTSTART;TZID=Europe/London:20241018T104500
DTEND;TZID=Europe/London:20241018T104500
DTSTAMP:20260426T014655
CREATED:20240603T121657Z
LAST-MODIFIED:20241018T183903Z
UID:2864-1729248300-1729248300@ensemble360.co.uk
SUMMARY:Music in the Round: Sheffield
DESCRIPTION:
URL:https://ensemble360.co.uk/concert/music-in-the-round-sheffield-29/
LOCATION:Crucible Main House\, Crucible Theatre\, Sheffield\, S1 1DA\, England
CATEGORIES:Ensemble 360
ATTACH;FMTTYPE=image/png:https://ensemble360.co.uk/wp-content/uploads/MusicintheRoundLogo-Smed-H80vRQ.tmp_.png
END:VEVENT
BEGIN:VEVENT
DTSTART;TZID=Europe/London:20241017T133000
DTEND;TZID=Europe/London:20241017T133000
DTSTAMP:20260426T014655
CREATED:20240802T165024Z
LAST-MODIFIED:20241017T183924Z
UID:3043-1729171800-1729171800@ensemble360.co.uk
SUMMARY:Music in the Round: Sheffield
DESCRIPTION:Giddy Goat
URL:https://ensemble360.co.uk/concert/music-in-the-round-sheffield-49/
LOCATION:Crucible Main House\, Crucible Theatre\, Sheffield\, S1 1DA\, England
CATEGORIES:Ensemble 360,Rachel Roberts,Robert Plane
ATTACH;FMTTYPE=image/png:https://ensemble360.co.uk/wp-content/uploads/MusicintheRoundLogo-Smed-H80vRQ.tmp_.png
END:VEVENT
BEGIN:VEVENT
DTSTART;TZID=Europe/London:20241017T104500
DTEND;TZID=Europe/London:20241017T104500
DTSTAMP:20260426T014655
CREATED:20240603T121657Z
LAST-MODIFIED:20241017T183923Z
UID:2863-1729161900-1729161900@ensemble360.co.uk
SUMMARY:Music in the Round: Sheffield
DESCRIPTION:Giddy Goat
URL:https://ensemble360.co.uk/concert/music-in-the-round-sheffield-28/
LOCATION:Crucible Main House\, Crucible Theatre\, Sheffield\, S1 1DA\, England
CATEGORIES:Ensemble 360,Rachel Roberts,Robert Plane
ATTACH;FMTTYPE=image/png:https://ensemble360.co.uk/wp-content/uploads/MusicintheRoundLogo-Smed-H80vRQ.tmp_.png
END:VEVENT
BEGIN:VEVENT
DTSTART;TZID=Europe/London:20241016T133000
DTEND;TZID=Europe/London:20241016T133000
DTSTAMP:20260426T014655
CREATED:20240603T121657Z
LAST-MODIFIED:20241016T182454Z
UID:2862-1729085400-1729085400@ensemble360.co.uk
SUMMARY:Music in the Round: Sheffield
DESCRIPTION:Giddy Goat
URL:https://ensemble360.co.uk/concert/music-in-the-round-sheffield-27/
LOCATION:Crucible Main House\, Crucible Theatre\, Sheffield\, S1 1DA\, England
CATEGORIES:Ensemble 360
ATTACH;FMTTYPE=image/png:https://ensemble360.co.uk/wp-content/uploads/MusicintheRoundLogo-Smed-H80vRQ.tmp_.png
END:VEVENT
BEGIN:VEVENT
DTSTART;TZID=Europe/London:20241016T104500
DTEND;TZID=Europe/London:20241016T104500
DTSTAMP:20260426T014655
CREATED:20240603T121657Z
LAST-MODIFIED:20241016T182453Z
UID:2861-1729075500-1729075500@ensemble360.co.uk
SUMMARY:Music in the Round: Sheffield
DESCRIPTION:Giddy Goat
URL:https://ensemble360.co.uk/concert/music-in-the-round-sheffield-26/
LOCATION:Crucible Main House\, Crucible Theatre\, Sheffield\, S1 1DA\, England
CATEGORIES:Ensemble 360
ATTACH;FMTTYPE=image/png:https://ensemble360.co.uk/wp-content/uploads/MusicintheRoundLogo-Smed-H80vRQ.tmp_.png
END:VEVENT
BEGIN:VEVENT
DTSTART;TZID=Europe/London:20241013T170000
DTEND;TZID=Europe/London:20241013T170000
DTSTAMP:20260426T014655
CREATED:20240603T121657Z
LAST-MODIFIED:20241013T181811Z
UID:2860-1728838800-1728838800@ensemble360.co.uk
SUMMARY:Hatfield House Chamber Music Festival: Hertfordshire
DESCRIPTION:Schönberg Pierrot Lunaire\, Op. 21
URL:https://ensemble360.co.uk/concert/hatfield-house-chamber-music-festival-hertfordshire/
LOCATION:The Marble Hall\, Hatfield House\, Hatfield Park\, Hertfordshire\, AL9 5HX\, England
CATEGORIES:Ensemble 360,Robert Plane,Tim Horton
ATTACH;FMTTYPE=image/jpeg:https://ensemble360.co.uk/wp-content/uploads/Claire_Booth_ref_LS3_2957_please_credit_Sven_Arnstein-SMed-2Yi2cl.tmp_.jpg
END:VEVENT
BEGIN:VEVENT
DTSTART;TZID=Europe/London:20241012T191500
DTEND;TZID=Europe/London:20241012T191500
DTSTAMP:20260426T014655
CREATED:20240603T121657Z
LAST-MODIFIED:20241012T180325Z
UID:2859-1728760500-1728760500@ensemble360.co.uk
SUMMARY:Music in the Round: Doncaster
DESCRIPTION:Johann Sebastian Bach: Sonata No. 1 for solo violin in G minor\, BWV 1001Bela Bartók: Sonata for Solo Violin\, Sz. 117IntervalJohann Sebastian Bach: Partita No. 1 for solo violin in B minor\, BWV 1002
URL:https://ensemble360.co.uk/concert/music-in-the-round-doncaster-5/
LOCATION:Cast\, Main Space\, Waterdale\, Doncaster\, DN1 3BU\, England
CATEGORIES:Ensemble 360
ATTACH;FMTTYPE=image/png:https://ensemble360.co.uk/wp-content/uploads/MusicintheRoundLogo-Smed-H80vRQ.tmp_.png
END:VEVENT
BEGIN:VEVENT
DTSTART;TZID=Europe/London:20241011T193000
DTEND;TZID=Europe/London:20241011T193000
DTSTAMP:20260426T014655
CREATED:20240603T121657Z
LAST-MODIFIED:20241011T180507Z
UID:2858-1728675000-1728675000@ensemble360.co.uk
SUMMARY:Music in the Round: Barnsley
DESCRIPTION:Johann Sebastian Bach: Sonata No. 1 for solo violin in G minor\, BWV 1001Bela Bartók: Sonata for Solo Violin\, Sz. 117IntervalJohann Sebastian Bach: Partita No. 1 for solo violin in B minor\, BWV 1002
URL:https://ensemble360.co.uk/concert/music-in-the-round-barnsley-4/
LOCATION:Emmanuel Church\, Barnsley\, Huddersfield Road\, Barnsley\, S75 1DT\, England
CATEGORIES:Ensemble 360
ATTACH;FMTTYPE=image/png:https://ensemble360.co.uk/wp-content/uploads/MusicintheRoundLogo-Smed-H80vRQ.tmp_.png
END:VEVENT
BEGIN:VEVENT
DTSTART;TZID=Europe/London:20241010T190000
DTEND;TZID=Europe/London:20241010T190000
DTSTAMP:20260426T014655
CREATED:20240705T162530Z
LAST-MODIFIED:20241010T180530Z
UID:2986-1728586800-1728586800@ensemble360.co.uk
SUMMARY:Music in the Round: East Riding of Yorkshire
DESCRIPTION:Johann Sebastian Bach: Sonata No. 1 for solo violin in G minor\, BWV 1001Bela Bartók: Sonata for Solo Violin\, Sz. 117IntervalJohann Sebastian Bach: Partita No. 1 for solo violin in B minor\, BWV 1002
URL:https://ensemble360.co.uk/concert/music-in-the-round-east-riding-of-yorkshire-9/
LOCATION:Junction Goole\, Paradise Place\, East Riding of Yorkshire\, DN14 5DL\, England
CATEGORIES:Ensemble 360
ATTACH;FMTTYPE=image/png:https://ensemble360.co.uk/wp-content/uploads/MusicintheRoundLogo-Smed-H80vRQ.tmp_.png
END:VEVENT
BEGIN:VEVENT
DTSTART;TZID=Europe/London:20241004T190000
DTEND;TZID=Europe/London:20241004T190000
DTSTAMP:20260426T014655
CREATED:20240603T121657Z
LAST-MODIFIED:20241004T171633Z
UID:2857-1728068400-1728068400@ensemble360.co.uk
SUMMARY:Music in the Round: Sheffield
DESCRIPTION:Bach Sonata no. 1 in G minorBach Partita no. 1 in B minor
URL:https://ensemble360.co.uk/concert/music-in-the-round-sheffield-25/
LOCATION:Upper Chapel\, Norfolk Street\, Sheffield\, S1 2JD\, England
CATEGORIES:Ensemble 360
ATTACH;FMTTYPE=image/png:https://ensemble360.co.uk/wp-content/uploads/MusicintheRoundLogo-Smed-H80vRQ.tmp_.png
END:VEVENT
BEGIN:VEVENT
DTSTART;TZID=Europe/London:20241004T130000
DTEND;TZID=Europe/London:20241004T130000
DTSTAMP:20260426T014655
CREATED:20240603T121657Z
LAST-MODIFIED:20241004T171632Z
UID:2856-1728046800-1728046800@ensemble360.co.uk
SUMMARY:Music in the Round: Sheffield
DESCRIPTION:Bach Sonata no. 1 in G minorBach Partita no. 1 in B minor
URL:https://ensemble360.co.uk/concert/music-in-the-round-sheffield-24/
LOCATION:Upper Chapel\, Norfolk Street\, Sheffield\, S1 2JD\, England
CATEGORIES:Ensemble 360
ATTACH;FMTTYPE=image/png:https://ensemble360.co.uk/wp-content/uploads/MusicintheRoundLogo-Smed-H80vRQ.tmp_.png
END:VEVENT
BEGIN:VEVENT
DTSTART;TZID=Europe/London:20241003T193000
DTEND;TZID=Europe/London:20241003T193000
DTSTAMP:20260426T014655
CREATED:20240608T164900Z
LAST-MODIFIED:20241003T170256Z
UID:2959-1727983800-1727983800@ensemble360.co.uk
SUMMARY:Chichester Chamber Concerts: Chichester
DESCRIPTION:Sergei Prokofiev: Overture on Hebrew Themes\, op. 34\nWolfgang Amadeus Mozart: Clarinet Quintet in A major\, K. 581\nInterval\nRobert Schumann: Piano Quintet in E flat major\, op. 44
URL:https://ensemble360.co.uk/concert/chichester-chamber-concerts-chichester/
LOCATION:Assembly Room\, Chichester\, North Street\, Chichester\, PO19 1LQ\, England
CATEGORIES:Ensemble 360,Rachel Roberts,Robert Plane,Tim Horton
ATTACH;FMTTYPE=image/jpeg:https://ensemble360.co.uk/wp-content/uploads/Ensemble_360_Strings_Piano_Ref-2_please_credit_Kaupo_Kikkas-SMed-vw4ITN.tmp_.jpg
ORGANIZER;CN="Chichester Chamber Concerts":MAILTO:box.office@cft.org.uk
END:VEVENT
BEGIN:VEVENT
DTSTART;TZID=Europe/London:20240925T193000
DTEND;TZID=Europe/London:20240925T193000
DTSTAMP:20260426T014655
CREATED:20240603T121657Z
LAST-MODIFIED:20240925T161844Z
UID:2855-1727292600-1727292600@ensemble360.co.uk
SUMMARY:Music in the Round: Nottinghamshire
DESCRIPTION:Ralph Vaughan Williams: The Lark AscendingMaurice Ravel: Quartet in F MajorIntervalCharles Villiers Stanford: Fantasy for Horn and Strings in A minorRalph Vaughan Williams: Quintet for piano and strings in C minor
URL:https://ensemble360.co.uk/concert/music-in-the-round-nottinghamshire-4/
LOCATION:Mansfield Palace\, Leeming Street\, Mansfield\, Nottinghamshire\, NG18 1NJ\, England
CATEGORIES:Ensemble 360,Rachel Roberts,Tim Horton
ATTACH;FMTTYPE=image/png:https://ensemble360.co.uk/wp-content/uploads/MusicintheRoundLogo-Smed-H80vRQ.tmp_.png
END:VEVENT
BEGIN:VEVENT
DTSTART;TZID=Europe/London:20240925T133000
DTEND;TZID=Europe/London:20240925T133000
DTSTAMP:20260426T014655
CREATED:20240603T121656Z
LAST-MODIFIED:20240925T161843Z
UID:2854-1727271000-1727271000@ensemble360.co.uk
SUMMARY:Music in the Round: Nottinghamshire
DESCRIPTION:Paul Rissmann: The Chimpanzees of Happytown; Giles Andreae (words)\, Guy Parker-Rees (illustrations)\, Paul Rissmann (music)
URL:https://ensemble360.co.uk/concert/music-in-the-round-nottinghamshire-3/
LOCATION:Mansfield Palace\, Leeming Street\, Mansfield\, Nottinghamshire\, NG18 1NJ\, England
CATEGORIES:Ensemble 360,Rachel Roberts
ATTACH;FMTTYPE=image/png:https://ensemble360.co.uk/wp-content/uploads/MusicintheRoundLogo-Smed-H80vRQ.tmp_.png
END:VEVENT
BEGIN:VEVENT
DTSTART;TZID=Europe/London:20240918T190000
DTEND;TZID=Europe/London:20240918T190000
DTSTAMP:20260426T014655
CREATED:20240603T121656Z
LAST-MODIFIED:20240918T163405Z
UID:2853-1726686000-1726686000@ensemble360.co.uk
SUMMARY:Music in the Round: Sheffield
DESCRIPTION:Pavel Haas: Suite for Oboe and Piano\, op.17Leos Janáček: In the MistsIntervalPavel Haas: Wind Quintet\, op. 10Leos Janáček: Mládí (Youth) for Wind Sextet
URL:https://ensemble360.co.uk/concert/music-in-the-round-sheffield-23/
LOCATION:Crucible Playhouse\, Crucible Theatre\, Sheffield\, S1 1DA\, England
CATEGORIES:Ensemble 360,Robert Plane,Tim Horton
ATTACH;FMTTYPE=image/png:https://ensemble360.co.uk/wp-content/uploads/MusicintheRoundLogo-Smed-H80vRQ.tmp_.png
END:VEVENT
BEGIN:VEVENT
DTSTART;TZID=Europe/London:20240623T160000
DTEND;TZID=Europe/London:20240623T160000
DTSTAMP:20260426T014655
CREATED:20240603T121656Z
LAST-MODIFIED:20240623T040518Z
UID:2852-1719158400-1719158400@ensemble360.co.uk
SUMMARY:Music in the Round: Barnsley
DESCRIPTION:Benjamin Britten: Phantasy Quartet op. 2Edward Elgar: Andante and AllegroWolfgang Amadeus Mozart: String Quartet D Major\, K. 499\, HoffmeisterGerald Finzi: Interlude for Oboe and String QuartetRebecca Clarke: Poem for String QuartetArnold Bax: Oboe Quintet
URL:https://ensemble360.co.uk/concert/music-in-the-round-barnsley-3/
LOCATION:All Saints’ Church\, Darton\, 3 Barnsley Road\, Darton\, Barnsley\, S75 5NQ\, England
CATEGORIES:Ensemble 360
ATTACH;FMTTYPE=image/png:https://ensemble360.co.uk/wp-content/uploads/MusicintheRoundLogo-Smed-H80vRQ.tmp_.png
END:VEVENT
BEGIN:VEVENT
DTSTART;TZID=Europe/London:20240622T191500
DTEND;TZID=Europe/London:20240622T191500
DTSTAMP:20260426T014655
CREATED:20240603T121656Z
LAST-MODIFIED:20240621T170816Z
UID:2851-1719083700-1719083700@ensemble360.co.uk
SUMMARY:Music in the Round: Doncaster
DESCRIPTION:Benjamin Britten: Phantasy Quartet op. 2Edward Elgar: Andante and AllegroWolfgang Amadeus Mozart: String Quartet D Major\, K. 499\, HoffmeisterGerald Finzi: interlude for Oboe and String QuartetIntervalRebecca Clarke: Poem for String QuartetArnold Bax: Oboe Quintet
URL:https://ensemble360.co.uk/concert/music-in-the-round-doncaster-4/
LOCATION:Cast\, Main Space\, Waterdale\, Doncaster\, DN1 3BU\, England
CATEGORIES:Ensemble 360
ATTACH;FMTTYPE=image/png:https://ensemble360.co.uk/wp-content/uploads/MusicintheRoundLogo-Smed-H80vRQ.tmp_.png
END:VEVENT
BEGIN:VEVENT
DTSTART;TZID=Europe/London:20240616T193000
DTEND;TZID=Europe/London:20240616T193000
DTSTAMP:20260426T014655
CREATED:20240603T121656Z
LAST-MODIFIED:20240616T041412Z
UID:2850-1718566200-1718566200@ensemble360.co.uk
SUMMARY:Jordans Music Club: Buckinghamshire
DESCRIPTION:Charles Villiers Stanford: Fantasy no. 1 for Clarinet and String QuartetJohn Ireland: Sextet for Clarinet\, Horn and String QuartetIntervalRebecca Clarke: Two pieces for Viola and CelloJohannes Brahms: Clarinet Quintet in B minor\, op. 115
URL:https://ensemble360.co.uk/concert/jordans-music-club-buckinghamshire/
LOCATION:Jubilee Hall\, Seer Green\, School Lane\, Seer Green\, Buckinghamshire\, HP9 2QJ\, England
CATEGORIES:Ensemble 360,Rachel Roberts,Robert Plane
ATTACH;FMTTYPE=image/jpeg:https://ensemble360.co.uk/wp-content/uploads/Robert-Plane_Ref_001_2019_Please_Credit_Sara_Porter_www.saraporterphotography.co_.uk-SMed-1-1-taPJfj.tmp_.jpg
END:VEVENT
BEGIN:VEVENT
DTSTART;TZID=Europe/London:20240606T133000
DTEND;TZID=Europe/London:20240606T133000
DTSTAMP:20260426T014655
CREATED:20240603T121656Z
LAST-MODIFIED:20240606T163126Z
UID:2849-1717680600-1717680600@ensemble360.co.uk
SUMMARY:Music in the Round
DESCRIPTION:Paul Rissmann: The Chimpanzees of Happytown; Giles Andreae (words)\, Guy Parker-Rees (illustrations)
URL:https://ensemble360.co.uk/concert/music-in-the-round-2/
LOCATION:Dagenham Park Church of England School\, School Road\, RM10 9QH
CATEGORIES:Ensemble 360,Rachel Roberts
ATTACH;FMTTYPE=image/png:https://ensemble360.co.uk/wp-content/uploads/MusicintheRoundLogo-Smed-H80vRQ.tmp_.png
END:VEVENT
BEGIN:VEVENT
DTSTART;TZID=Europe/London:20240606T104500
DTEND;TZID=Europe/London:20240606T104500
DTSTAMP:20260426T014655
CREATED:20240603T121656Z
LAST-MODIFIED:20240606T163126Z
UID:2848-1717670700-1717670700@ensemble360.co.uk
SUMMARY:Music in the Round
DESCRIPTION:Paul Rissmann: The Chimpanzees of Happytown; Giles Andreae (words)\, Guy Parker-Rees (illustrations)
URL:https://ensemble360.co.uk/concert/music-in-the-round/
LOCATION:Dagenham Park Church of England School\, School Road\, RM10 9QH
CATEGORIES:Ensemble 360,Rachel Roberts
ATTACH;FMTTYPE=image/png:https://ensemble360.co.uk/wp-content/uploads/MusicintheRoundLogo-Smed-H80vRQ.tmp_.png
END:VEVENT
BEGIN:VEVENT
DTSTART;TZID=Europe/London:20240525T191500
DTEND;TZID=Europe/London:20240525T191500
DTSTAMP:20260426T014655
CREATED:20240523T155916Z
LAST-MODIFIED:20240525T162307Z
UID:2661-1716664500-1716664500@ensemble360.co.uk
SUMMARY:Sheffield Chamber Music Festival: Sheffield
DESCRIPTION:Ensemble 360 and Steven Isserlis in Festival Finale \nGeorge Onslow: Nonet\, op. 77Gabriel Fauré: Elegie\, op. 24IntervalPyotr Il’yich Tchaikovsky: String Sextet in D minor\, op.70\, Souvenir de Florence \nA grand work for a grand finale: captivating charm and wit from George Onslow’s Nonet. Nicknamed the ‘French Beethoven’\, this is a chance to hear one of his finest and largest-scale chamber works whose five movements move through an expressive array of moods from turbulence to a jubilant conclusion.  \nSteven Isserlis then joins pianist Tim Horton for a heartfelt lament by Gabriel Fauré\, before we sign off with Tchaikovsky’s celebratory musical postcard\, Souvenir de Florence. This hugely popular string sextet by the great Russian composer features both Steven Isserlis and Ensemble 360’s cellist Gemma Rosefield\, and promises to be a fitting farewell to the Festival in our anniversary year.
URL:https://ensemble360.co.uk/concert/sheffield-chamber-music-festival-sheffield-10/
LOCATION:Crucible Playhouse\, Crucible Theatre\, Sheffield\, S1 1DA\, England
CATEGORIES:Ensemble 360,Rachel Roberts,Robert Plane,Tim Horton
ATTACH;FMTTYPE=image/jpeg:https://ensemble360.co.uk/wp-content/uploads/Sheffield-Chamber-Music-Festival-2024-f9kdOS.tmp_.jpg
END:VEVENT
BEGIN:VEVENT
DTSTART;TZID=Europe/London:20240525T103000
DTEND;TZID=Europe/London:20240525T103000
DTSTAMP:20260426T014655
CREATED:20240523T155916Z
LAST-MODIFIED:20240525T162306Z
UID:2660-1716633000-1716633000@ensemble360.co.uk
SUMMARY:Sheffield Chamber Music Festival: Sheffield
DESCRIPTION:Close-Up: Music For Curious Young Minds \nFive wind musicians and a very special guest breathe life into the wondrous world of chamber music. Created specially for young audiences\, this concert combines well-known classical favourites with new works performed on flute\, oboe\, clarinet\, bassoon and horn\, with singer Roderick Williams.  \nIdeal for 7–11 year-olds and their families.
URL:https://ensemble360.co.uk/concert/sheffield-chamber-music-festival-sheffield-9/
LOCATION:Crucible Playhouse\, Crucible Theatre\, Sheffield\, S1 1DA\, England
CATEGORIES:Ensemble 360,Robert Plane
ATTACH;FMTTYPE=image/jpeg:https://ensemble360.co.uk/wp-content/uploads/Sheffield-Chamber-Music-Festival-2024-f9kdOS.tmp_.jpg
END:VEVENT
BEGIN:VEVENT
DTSTART;TZID=Europe/London:20240524T191500
DTEND;TZID=Europe/London:20240524T191500
DTSTAMP:20260426T014655
CREATED:20240523T155916Z
LAST-MODIFIED:20240524T161815Z
UID:2659-1716578100-1716578100@ensemble360.co.uk
SUMMARY:Sheffield Chamber Music Festival: Sheffield
DESCRIPTION:Friday Night in ParisRoderick Williams and Ensemble 360 \nMusical national treasure Roderick Williams\, soloist at King Charles III’s Coronation and Singer-in-Residence with Music in the Round\, returns to the Crucible Playhouse with Ensemble 360 for a magical tour through the City of Light.   \nFauré’s first Piano Quintet was a labour of love that he nurtured over many years\, and the song cycles and works for violin he wrote alongside it echo through this exquisitely constructed piece.  \nPoulenc’s kaleidoscopic sextet encompasses jazz\, ragtime\, pastiche of Mozart and a tribute to Ravel\, whose ‘Madagascan’ songs they follow\, in this programme luxuriating in the many sounds of fin de siècle Paris.   \nCulminating in Fauré’s intricate song-cycle\, crafted from the poems of Paul Verlaine\, this concert reunites Ensemble 360\, with Music in the Round’s singer-in-residence Roderick Williams for the first time since 2017.  \nGabriel Fauré: Piano Quintet no. 1 in D minor\, op. 89Maurice Ravel: Chansons madécassesIntervalFrancis Poulenc: Sextet for Wind Quintet and Piano in C majorGabriel Fauré: La Bonne Chanson for Baritone\, String Quintet and Piano
URL:https://ensemble360.co.uk/concert/sheffield-chamber-music-festival-sheffield-8/
LOCATION:Crucible Playhouse\, Crucible Theatre\, Sheffield\, S1 1DA\, England
CATEGORIES:Ensemble 360,Rachel Roberts,Robert Plane,Tim Horton
ATTACH;FMTTYPE=image/jpeg:https://ensemble360.co.uk/wp-content/uploads/Sheffield-Chamber-Music-Festival-2024-f9kdOS.tmp_.jpg
END:VEVENT
END:VCALENDAR