BEGIN:VCALENDAR
VERSION:2.0
PRODID:-//Ensemble 360 - ECPv6.15.20//NONSGML v1.0//EN
CALSCALE:GREGORIAN
METHOD:PUBLISH
X-ORIGINAL-URL:https://ensemble360.co.uk
X-WR-CALDESC:Events for Ensemble 360
REFRESH-INTERVAL;VALUE=DURATION:PT1H
X-Robots-Tag:noindex
X-PUBLISHED-TTL:PT1H
BEGIN:VTIMEZONE
TZID:Europe/London
BEGIN:DAYLIGHT
TZOFFSETFROM:+0000
TZOFFSETTO:+0100
TZNAME:BST
DTSTART:20230326T010000
END:DAYLIGHT
BEGIN:STANDARD
TZOFFSETFROM:+0100
TZOFFSETTO:+0000
TZNAME:GMT
DTSTART:20231029T010000
END:STANDARD
BEGIN:DAYLIGHT
TZOFFSETFROM:+0000
TZOFFSETTO:+0100
TZNAME:BST
DTSTART:20240331T010000
END:DAYLIGHT
BEGIN:STANDARD
TZOFFSETFROM:+0100
TZOFFSETTO:+0000
TZNAME:GMT
DTSTART:20241027T010000
END:STANDARD
BEGIN:DAYLIGHT
TZOFFSETFROM:+0000
TZOFFSETTO:+0100
TZNAME:BST
DTSTART:20250330T010000
END:DAYLIGHT
BEGIN:STANDARD
TZOFFSETFROM:+0100
TZOFFSETTO:+0000
TZNAME:GMT
DTSTART:20251026T010000
END:STANDARD
BEGIN:DAYLIGHT
TZOFFSETFROM:+0000
TZOFFSETTO:+0100
TZNAME:BST
DTSTART:20260329T010000
END:DAYLIGHT
BEGIN:STANDARD
TZOFFSETFROM:+0100
TZOFFSETTO:+0000
TZNAME:GMT
DTSTART:20261025T010000
END:STANDARD
END:VTIMEZONE
BEGIN:VEVENT
DTSTART;TZID=Europe/London:20250309T150000
DTEND;TZID=Europe/London:20250309T150000
DTSTAMP:20260425T222152
CREATED:20241216T181225Z
LAST-MODIFIED:20250309T174934Z
UID:3672-1741532400-1741532400@ensemble360.co.uk
SUMMARY:Music in the Round: Sheffield
DESCRIPTION:Ensemble 360’s Tim Horton and Gemma Rosefield join Soviet-music specialist Patrick Zuk (Durham University) for an hour of illuminating conversation delving into the life and work of Dimitri Shostakovich. Chaired by Dr Benjamin Tassie\, Music in the Round’s Sheffield Programme Manager.
URL:https://ensemble360.co.uk/concert/music-in-the-round-sheffield-44/
LOCATION:Firth Hall\, Firth Court\, Western Bank\, Sheffield\, S10 2TN\, England
CATEGORIES:Ensemble 360,Tim Horton
ATTACH;FMTTYPE=image/png:https://ensemble360.co.uk/wp-content/uploads/MusicintheRoundLogo-Smed-H80vRQ.tmp_.png
END:VEVENT
BEGIN:VEVENT
DTSTART;TZID=Europe/London:20250308T191500
DTEND;TZID=Europe/London:20250308T191500
DTSTAMP:20260425T222152
CREATED:20241216T181225Z
LAST-MODIFIED:20250308T175033Z
UID:3671-1741461300-1741461300@ensemble360.co.uk
SUMMARY:Music in the Round: Doncaster
DESCRIPTION:A Celebration of Czech Music \nAnton Reicha: Wind Quintet in E flat major\, op. 88\, no. 2Pavel Haas: Wind Quintet\, op. 10IntervalBenjamin Britten: Movement for Wind SextetLeos Janáček: Mládí (Youth) for Wind Sextet
URL:https://ensemble360.co.uk/concert/music-in-the-round-doncaster-9/
LOCATION:Cast\, Second Space\, Waterdale\, Doncaster\, DN1 3BU\, England
CATEGORIES:Ensemble 360,Robert Plane
ATTACH;FMTTYPE=image/png:https://ensemble360.co.uk/wp-content/uploads/MusicintheRoundLogo-Smed-H80vRQ.tmp_.png
END:VEVENT
BEGIN:VEVENT
DTSTART;TZID=Europe/London:20250308T190000
DTEND;TZID=Europe/London:20250308T190000
DTSTAMP:20260425T222152
CREATED:20241216T181225Z
LAST-MODIFIED:20250308T175033Z
UID:3670-1741460400-1741460400@ensemble360.co.uk
SUMMARY:Music in the Round: Sheffield
DESCRIPTION:Revolution: Shostakovich String Quartets \nDmitry Shostakovich: String Quartet no. 10 in A flat major\, op. 118Dmitry Shostakovich: String Quartet no. 12 in D flat major\, op. 133
URL:https://ensemble360.co.uk/concert/music-in-the-round-sheffield-43/
LOCATION:Upper Chapel\, Norfolk Street\, Sheffield\, S1 2JD\, England
CATEGORIES:Ensemble 360,Rachel Roberts
ATTACH;FMTTYPE=image/png:https://ensemble360.co.uk/wp-content/uploads/MusicintheRoundLogo-Smed-H80vRQ.tmp_.png
END:VEVENT
BEGIN:VEVENT
DTSTART;TZID=Europe/London:20250308T140000
DTEND;TZID=Europe/London:20250308T140000
DTSTAMP:20260425T222152
CREATED:20241216T181225Z
LAST-MODIFIED:20250308T175033Z
UID:3669-1741442400-1741442400@ensemble360.co.uk
SUMMARY:Music in the Round: Sheffield
DESCRIPTION:Conflict: Shostakovich String Quartets \nDmitry Shostakovich: String Quartet no. 3 in F major\, op. 73Dmitry Shostakovich: String Quartet no. 8 in C minor\, op. 110
URL:https://ensemble360.co.uk/concert/music-in-the-round-sheffield-42/
LOCATION:Upper Chapel\, Norfolk Street\, Sheffield\, S1 2JD\, England
CATEGORIES:Ensemble 360,Rachel Roberts
ATTACH;FMTTYPE=image/png:https://ensemble360.co.uk/wp-content/uploads/MusicintheRoundLogo-Smed-H80vRQ.tmp_.png
END:VEVENT
BEGIN:VEVENT
DTSTART;TZID=Europe/London:20250308T110000
DTEND;TZID=Europe/London:20250308T110000
DTSTAMP:20260425T222152
CREATED:20241216T181225Z
LAST-MODIFIED:20250308T175032Z
UID:3668-1741431600-1741431600@ensemble360.co.uk
SUMMARY:Music in the Round: Doncaster
DESCRIPTION:CLOSE UP (Family)
URL:https://ensemble360.co.uk/concert/music-in-the-round-doncaster-8/
LOCATION:Cast\, Second Space\, Waterdale\, Doncaster\, DN1 3BU\, England
CATEGORIES:Ensemble 360,Robert Plane
ATTACH;FMTTYPE=image/png:https://ensemble360.co.uk/wp-content/uploads/MusicintheRoundLogo-Smed-H80vRQ.tmp_.png
END:VEVENT
BEGIN:VEVENT
DTSTART;TZID=Europe/London:20250307T193000
DTEND;TZID=Europe/London:20250307T193000
DTSTAMP:20260425T222152
CREATED:20241216T181225Z
LAST-MODIFIED:20250307T173356Z
UID:3666-1741375800-1741375800@ensemble360.co.uk
SUMMARY:Music in the Round: Barnsley
DESCRIPTION:A Celebration of Czech Music \nPavel Haas: Suite for Oboe and Piano\, op.17Leos Janáček: In the MistsIntervalBenjamin Britten: Movement for Wind SextetLeos Janáček: Mládí (Youth) for Wind Sextet
URL:https://ensemble360.co.uk/concert/music-in-the-round-barnsley-6/
LOCATION:Emmanuel Church\, Barnsley\, Huddersfield Road\, Barnsley\, S75 1DT\, England
CATEGORIES:Ensemble 360,Robert Plane,Tim Horton
ATTACH;FMTTYPE=image/png:https://ensemble360.co.uk/wp-content/uploads/MusicintheRoundLogo-Smed-H80vRQ.tmp_.png
END:VEVENT
BEGIN:VEVENT
DTSTART;TZID=Europe/London:20250304T200000
DTEND;TZID=Europe/London:20250304T200000
DTSTAMP:20260425T222152
CREATED:20241216T181225Z
LAST-MODIFIED:20250304T173301Z
UID:3665-1741118400-1741118400@ensemble360.co.uk
SUMMARY:Music in the Round: Milton Keynes
DESCRIPTION:Imogen Holst: Phantasy String QuartetBenjamin Britten: Three DivertimentiJosef Holbrooke: Eilean Shona op.74Herbert Howells: Phantasy String Quartet op. 25IntervalHenry Purcell\, arr. Peter Warlock:  Three-Part Fantasias no. 1-3Herbert Howells: Rhapsodic Quintet\, op\, 31Ralph Vaughan Williams\, arr. Martin Gerigk: The Lark Ascending
URL:https://ensemble360.co.uk/concert/music-in-the-round-milton-keynes-6/
LOCATION:The Stables\, Stockwell Lane\, Wavendon\, Milton Keynes\, MK17 8LU\, England
CATEGORIES:Ensemble 360,Rachel Roberts,Robert Plane
ATTACH;FMTTYPE=image/png:https://ensemble360.co.uk/wp-content/uploads/MusicintheRoundLogo-Smed-H80vRQ.tmp_.png
END:VEVENT
BEGIN:VEVENT
DTSTART;TZID=Europe/London:20250304T130000
DTEND;TZID=Europe/London:20250304T130000
DTSTAMP:20260425T222152
CREATED:20241216T181225Z
LAST-MODIFIED:20250304T173300Z
UID:3664-1741093200-1741093200@ensemble360.co.uk
SUMMARY:Music in the Round: Milton Keynes
DESCRIPTION:Giddy Goat
URL:https://ensemble360.co.uk/concert/music-in-the-round-milton-keynes-5/
LOCATION:The Stables\, Stockwell Lane\, Wavendon\, Milton Keynes\, MK17 8LU\, England
CATEGORIES:Ensemble 360,Rachel Roberts,Robert Plane
ATTACH;FMTTYPE=image/png:https://ensemble360.co.uk/wp-content/uploads/MusicintheRoundLogo-Smed-H80vRQ.tmp_.png
END:VEVENT
BEGIN:VEVENT
DTSTART;TZID=Europe/London:20250304T110000
DTEND;TZID=Europe/London:20250304T110000
DTSTAMP:20260425T222152
CREATED:20241216T181225Z
LAST-MODIFIED:20250304T173300Z
UID:3663-1741086000-1741086000@ensemble360.co.uk
SUMMARY:Music in the Round: Milton Keynes
DESCRIPTION:Giddy Goat
URL:https://ensemble360.co.uk/concert/music-in-the-round-milton-keynes-4/
LOCATION:The Stables\, Stockwell Lane\, Wavendon\, Milton Keynes\, MK17 8LU\, England
CATEGORIES:Ensemble 360,Rachel Roberts,Robert Plane
ATTACH;FMTTYPE=image/png:https://ensemble360.co.uk/wp-content/uploads/MusicintheRoundLogo-Smed-H80vRQ.tmp_.png
END:VEVENT
BEGIN:VEVENT
DTSTART;TZID=Europe/London:20250302T150000
DTEND;TZID=Europe/London:20250302T150000
DTSTAMP:20260425T222152
CREATED:20241216T181225Z
LAST-MODIFIED:20250302T173400Z
UID:3662-1740927600-1740927600@ensemble360.co.uk
SUMMARY:Music in the Round: Leamington Spa
DESCRIPTION:Benjamin Britten: Three DivertimentiSamuel Coleridge-Taylor: Clarinet Quintet in F sharp minor\, op. 10IntervalJosef Holbrooke: Eilean Shona op.74Antonin Dvořák: Quartet no. 12 in F major\, op. 96\, B. 179\, American
URL:https://ensemble360.co.uk/concert/music-in-the-round-leamington-spa-4/
LOCATION:Royal Spa Centre\, Leamington Spa\, CV32 4HN\, England
CATEGORIES:Ensemble 360,Rachel Roberts,Robert Plane
ATTACH;FMTTYPE=image/png:https://ensemble360.co.uk/wp-content/uploads/MusicintheRoundLogo-Smed-H80vRQ.tmp_.png
END:VEVENT
BEGIN:VEVENT
DTSTART;TZID=Europe/London:20250302T113000
DTEND;TZID=Europe/London:20250302T113000
DTSTAMP:20260425T222152
CREATED:20241216T181225Z
LAST-MODIFIED:20250302T173359Z
UID:3661-1740915000-1740915000@ensemble360.co.uk
SUMMARY:Music in the Round: Leamington Spa
DESCRIPTION:Giddy Goat
URL:https://ensemble360.co.uk/concert/music-in-the-round-leamington-spa-3/
LOCATION:Royal Spa Centre\, Leamington Spa\, CV32 4HN\, England
CATEGORIES:Ensemble 360,Rachel Roberts,Robert Plane
ATTACH;FMTTYPE=image/png:https://ensemble360.co.uk/wp-content/uploads/MusicintheRoundLogo-Smed-H80vRQ.tmp_.png
END:VEVENT
BEGIN:VEVENT
DTSTART;TZID=Europe/London:20250222T190000
DTEND;TZID=Europe/London:20250222T190000
DTSTAMP:20260425T222152
CREATED:20241216T181224Z
LAST-MODIFIED:20250222T165632Z
UID:3660-1740250800-1740250800@ensemble360.co.uk
SUMMARY:Music in the Round: Sheffield
DESCRIPTION:Johann Sebastian Bach: Sonata No. 2 for solo violin in A minor\, BWV 1003Johann Sebastian Bach: Partita No. 2 for solo violin in D minor\, BWV 1004
URL:https://ensemble360.co.uk/concert/music-in-the-round-sheffield-41/
LOCATION:Upper Chapel\, Norfolk Street\, Sheffield\, S1 2JD\, England
CATEGORIES:Ensemble 360
ATTACH;FMTTYPE=image/png:https://ensemble360.co.uk/wp-content/uploads/MusicintheRoundLogo-Smed-H80vRQ.tmp_.png
END:VEVENT
BEGIN:VEVENT
DTSTART;TZID=Europe/London:20250222T140000
DTEND;TZID=Europe/London:20250222T140000
DTSTAMP:20260425T222152
CREATED:20241216T181224Z
LAST-MODIFIED:20250222T165632Z
UID:3659-1740232800-1740232800@ensemble360.co.uk
SUMMARY:Music in the Round: Sheffield
DESCRIPTION:Johann Sebastian Bach: Sonata No. 2 for solo violin in A minor\, BWV 1003Johann Sebastian Bach: Partita No. 2 for solo violin in D minor\, BWV 1004
URL:https://ensemble360.co.uk/concert/music-in-the-round-sheffield-40/
LOCATION:Upper Chapel\, Norfolk Street\, Sheffield\, S1 2JD\, England
CATEGORIES:Ensemble 360
ATTACH;FMTTYPE=image/png:https://ensemble360.co.uk/wp-content/uploads/MusicintheRoundLogo-Smed-H80vRQ.tmp_.png
END:VEVENT
BEGIN:VEVENT
DTSTART;TZID=Europe/London:20250217T193000
DTEND;TZID=Europe/London:20250217T193000
DTSTAMP:20260425T222152
CREATED:20241231T195057Z
LAST-MODIFIED:20250217T163540Z
UID:3792-1739820600-1739820600@ensemble360.co.uk
SUMMARY:Music in the Round: Nottinghamshire
DESCRIPTION:Wolfgang Amadeus Mozart: Horn Quintet in E flat major\, K. 407Wolfgang Amadeus Mozart: String Quintet no. 4 in G minor\, K. 516IntervalWolfgang Amadeus Mozart: String Quartet D Major\, K. 499\, Hoffmeister
URL:https://ensemble360.co.uk/concert/music-in-the-round-nottinghamshire-6/
LOCATION:Mansfield Palace Theatre\, Leeming Street\, Mansfield\, Nottinghamshire\, NG18 1NJ\, England
CATEGORIES:Ensemble 360
ATTACH;FMTTYPE=image/png:https://ensemble360.co.uk/wp-content/uploads/MusicintheRoundLogo-Smed-H80vRQ.tmp_.png
END:VEVENT
BEGIN:VEVENT
DTSTART;TZID=Europe/London:20250217T110000
DTEND;TZID=Europe/London:20250217T110000
DTSTAMP:20260425T222152
CREATED:20241231T195057Z
LAST-MODIFIED:20250217T163539Z
UID:3791-1739790000-1739790000@ensemble360.co.uk
SUMMARY:Music in the Round: Nottinghamshire
DESCRIPTION:Giddy Goat
URL:https://ensemble360.co.uk/concert/music-in-the-round-nottinghamshire-5/
LOCATION:Mansfield Palace Theatre\, Leeming Street\, Mansfield\, Nottinghamshire\, NG18 1NJ\, England
CATEGORIES:Ensemble 360
ATTACH;FMTTYPE=image/png:https://ensemble360.co.uk/wp-content/uploads/MusicintheRoundLogo-Smed-H80vRQ.tmp_.png
END:VEVENT
BEGIN:VEVENT
DTSTART;TZID=Europe/London:20250213T130500
DTEND;TZID=Europe/London:20250213T130500
DTSTAMP:20260425T222152
CREATED:20241216T181223Z
LAST-MODIFIED:20250212T235023Z
UID:3644-1739451900-1739451900@ensemble360.co.uk
SUMMARY:Music@LSE: London
DESCRIPTION:Leos Janáček: String Quartet no. 2\, Intimate Letters\nDmitry Shostakovich: String Quartet no. 3 in F major\, op. 73
URL:https://ensemble360.co.uk/concert/musiclse-london/
LOCATION:LSE Shaw Library\, Houghton Street\, WC2B 4RR\, United Kingdom
CATEGORIES:Ensemble 360,Rachel Roberts
ATTACH;FMTTYPE=image/jpeg:https://ensemble360.co.uk/wp-content/uploads/Ensemble_360_2024_ref_8_please_credit_Matthew_Johnson_and_Music_in_the_Round_String_Quartet-tCULiU.tmp_.jpg
END:VEVENT
BEGIN:VEVENT
DTSTART;TZID=Europe/London:20250211T193000
DTEND;TZID=Europe/London:20250211T193000
DTSTAMP:20260425T222152
CREATED:20241216T181218Z
LAST-MODIFIED:20250211T233915Z
UID:3640-1739302200-1739302200@ensemble360.co.uk
SUMMARY:Chipping Sodbury Music Society: South Gloucestershire
DESCRIPTION:Benjamin Britten: Three DivertimentiLeos Janáček: String Quartet no. 2\, Intimate LettersIntervalDmitry Shostakovich: String Quartet no. 3 in F major\, op. 73
URL:https://ensemble360.co.uk/concert/chipping-sodbury-music-society-south-gloucestershire/
LOCATION:Chipping Sodbury Town Hall\, 57-59 Broad St\, Chipping Sodbury\, South Gloucestershire\, BS37 6AD\, England
CATEGORIES:Ensemble 360,Rachel Roberts
ATTACH;FMTTYPE=image/jpeg:https://ensemble360.co.uk/wp-content/uploads/Ensemble_360_2024_ref_8_please_credit_Matthew_Johnson_and_Music_in_the_Round_String_Quartet-tCULiU.tmp_.jpg
END:VEVENT
BEGIN:VEVENT
DTSTART;TZID=Europe/London:20250205T190000
DTEND;TZID=Europe/London:20250205T190000
DTSTAMP:20260425T222152
CREATED:20250113T210420Z
LAST-MODIFIED:20250205T233252Z
UID:3815-1738782000-1738782000@ensemble360.co.uk
SUMMARY:Music in the Round: Sheffield
DESCRIPTION:Imogen Holst: Phantasy String QuartetHerbert Howells: Phantasy String Quartet op. 25Benjamin Britten: Phantasy Quartet op. 2IntervalHenry Purcell\, arr. Peter Warlock:  Three-Part Fantasias no. 1-3Charlotte Bray: Bluer than MidnightRalph Vaughan Williams\, arr. Martin Gerigk: The Lark Ascending
URL:https://ensemble360.co.uk/concert/music-in-the-round-sheffield-51/
LOCATION:Crucible Playhouse\, Crucible Theatre\, Sheffield\, S1 1DA\, England
CATEGORIES:Ensemble 360,Rachel Roberts
ATTACH;FMTTYPE=image/png:https://ensemble360.co.uk/wp-content/uploads/MusicintheRoundLogo-Smed-H80vRQ.tmp_.png
END:VEVENT
BEGIN:VEVENT
DTSTART;TZID=Europe/London:20250205T140000
DTEND;TZID=Europe/London:20250205T140000
DTSTAMP:20260425T222152
CREATED:20241216T181218Z
LAST-MODIFIED:20250205T233252Z
UID:3639-1738764000-1738764000@ensemble360.co.uk
SUMMARY:Music in the Round: Sheffield
DESCRIPTION:Imogen Holst: Phantasy String QuartetHenry Purcell\, arr. Peter Warlock:  Three-Part Fantasias no. 1-3Benjamin Britten: Phantasy Quartet op. 2Ralph Vaughan Williams\, arr. Martin Gerigk: The Lark Ascending
URL:https://ensemble360.co.uk/concert/music-in-the-round-sheffield-39/
LOCATION:Crucible Playhouse\, Crucible Theatre\, Sheffield\, S1 1DA\, England
CATEGORIES:Ensemble 360,Rachel Roberts
ATTACH;FMTTYPE=image/png:https://ensemble360.co.uk/wp-content/uploads/MusicintheRoundLogo-Smed-H80vRQ.tmp_.png
END:VEVENT
BEGIN:VEVENT
DTSTART;VALUE=DATE:20250131
DTEND;VALUE=DATE:20250201
DTSTAMP:20260425T222152
CREATED:20241216T181218Z
LAST-MODIFIED:20250131T223253Z
UID:3638-1738281600-1738367999@ensemble360.co.uk
SUMMARY:Kirker Holidays and Chamber Music Weekends: Santa Cruz de Tenerife
DESCRIPTION:Franz Joseph Haydn: Quartet no. 25 in C major\, op. 20\, no. 2\, Hob.III:32\nRobert Schumann: Märchenerzählungen\, op. 132\nPablo Sarasate: Navarra\, op. 33\nJohannes Brahms: String Quintet no. 2 in G major\, op. 111
URL:https://ensemble360.co.uk/concert/kirker-holidays-and-chamber-music-weekends-santa-cruz-de-tenerife-6/
LOCATION:Hotel Botanico\, Calle Richard J. Yeoward\, 1\, 38400 Puerto de la Cruz\, Santa Cruz de Tenerife\, Spain
CATEGORIES:Ensemble 360,Rachel Roberts,Robert Plane,Tim Horton
ATTACH;FMTTYPE=image/jpeg:https://ensemble360.co.uk/wp-content/uploads/Ensemble_360_2024_ref_9_and_ref_6_please_credit_Matthew_Johnson_and_Music_in_the_Round_Clarinet_and_String_Quartet_and_Piano_montage-hKbzpU.tmp_.jpg
END:VEVENT
BEGIN:VEVENT
DTSTART;VALUE=DATE:20250130
DTEND;VALUE=DATE:20250131
DTSTAMP:20260425T222152
CREATED:20241216T181217Z
LAST-MODIFIED:20250130T223313Z
UID:3637-1738195200-1738281599@ensemble360.co.uk
SUMMARY:Kirker Holidays and Chamber Music Weekends: Santa Cruz de Tenerife
DESCRIPTION:Wolfgang Amadeus Mozart: 12 Variations ‘Ah vous dirai-je\, Maman’ K. 265\nFrédéric François Chopin: Ballade no. 1 in G minor\, op. 23\nIsaac Albeniz: Iberia (selection)\nFrédéric François Chopin: Ballade no. 3 in A flat major\, op. 47\nFranz Joseph Haydn: Piano Sonata in D major\, Hob.XVI:42\nLudwig van Beethoven: Piano Sonata no. 23 in F minor\, op. 57\, Appassionata
URL:https://ensemble360.co.uk/concert/kirker-holidays-and-chamber-music-weekends-santa-cruz-de-tenerife-5/
LOCATION:Hotel Botanico\, Calle Richard J. Yeoward\, 1\, 38400 Puerto de la Cruz\, Santa Cruz de Tenerife\, Spain
CATEGORIES:Ensemble 360,Tim Horton
ATTACH;FMTTYPE=image/jpeg:https://ensemble360.co.uk/wp-content/uploads/Ensemble_360_2024_ref_9_and_ref_6_please_credit_Matthew_Johnson_and_Music_in_the_Round_Clarinet_and_String_Quartet_and_Piano_montage-hKbzpU.tmp_.jpg
END:VEVENT
BEGIN:VEVENT
DTSTART;VALUE=DATE:20250129
DTEND;VALUE=DATE:20250130
DTSTAMP:20260425T222152
CREATED:20241216T181217Z
LAST-MODIFIED:20250129T223521Z
UID:3636-1738108800-1738195199@ensemble360.co.uk
SUMMARY:Kirker Holidays and Chamber Music Weekends: Santa Cruz de Tenerife
DESCRIPTION:Frédéric François Chopin: Introduction et polonaise brillanteIgor Stravinsky: 3 pieces for solo clarinetManuel De Falla: Suite Populaire EspagnoleSimon Rowland-Jones: Taking Time\, for clarinet\, cello and pianoMaurice Ravel: Quartet in F Major
URL:https://ensemble360.co.uk/concert/kirker-holidays-and-chamber-music-weekends-santa-cruz-de-tenerife-4/
LOCATION:Hotel Botanico\, Calle Richard J. Yeoward\, 1\, 38400 Puerto de la Cruz\, Santa Cruz de Tenerife\, Spain
CATEGORIES:Ensemble 360,Rachel Roberts,Robert Plane,Tim Horton
ATTACH;FMTTYPE=image/jpeg:https://ensemble360.co.uk/wp-content/uploads/Ensemble_360_2024_ref_9_and_ref_6_please_credit_Matthew_Johnson_and_Music_in_the_Round_Clarinet_and_String_Quartet_and_Piano_montage-hKbzpU.tmp_.jpg
END:VEVENT
BEGIN:VEVENT
DTSTART;VALUE=DATE:20250128
DTEND;VALUE=DATE:20250129
DTSTAMP:20260425T222152
CREATED:20241216T181217Z
LAST-MODIFIED:20250128T223512Z
UID:3635-1738022400-1738108799@ensemble360.co.uk
SUMMARY:Kirker Holidays and Chamber Music Weekends: Santa Cruz de Tenerife
DESCRIPTION:Sergei Prokofiev: Overture on Hebrew Themes\, op. 34\nFrancis Poulenc: Violin Sonata\nFrank Bridge: 2 pieces for cello and piano: Spring Song and Scherzo\nSamuel Coleridge-Taylor: Clarinet Quintet in F sharp minor\, op. 10
URL:https://ensemble360.co.uk/concert/kirker-holidays-and-chamber-music-weekends-santa-cruz-de-tenerife-3/
LOCATION:Hotel Botanico\, Calle Richard J. Yeoward\, 1\, 38400 Puerto de la Cruz\, Santa Cruz de Tenerife\, Spain
CATEGORIES:Ensemble 360,Rachel Roberts,Robert Plane,Tim Horton
ATTACH;FMTTYPE=image/jpeg:https://ensemble360.co.uk/wp-content/uploads/Ensemble_360_2024_ref_9_and_ref_6_please_credit_Matthew_Johnson_and_Music_in_the_Round_Clarinet_and_String_Quartet_and_Piano_montage-hKbzpU.tmp_.jpg
END:VEVENT
BEGIN:VEVENT
DTSTART;VALUE=DATE:20250127
DTEND;VALUE=DATE:20250128
DTSTAMP:20260425T222152
CREATED:20241216T181217Z
LAST-MODIFIED:20250127T223447Z
UID:3634-1737936000-1738022399@ensemble360.co.uk
SUMMARY:Kirker Holidays and Chamber Music Weekends: Santa Cruz de Tenerife
DESCRIPTION:Sergei Prokofiev: Overture on Hebrew Themes\, op. 34Francis Poulenc: Violin SonataFrank Bridge: Two Pieces\, Caprice and  LamentSamuel Coleridge-Taylor: Clarinet Quintet in F sharp minor\, op. 10
URL:https://ensemble360.co.uk/concert/kirker-holidays-and-chamber-music-weekends-santa-cruz-de-tenerife-2/
LOCATION:Hotel Botanico\, Calle Richard J. Yeoward\, 1\, 38400 Puerto de la Cruz\, Santa Cruz de Tenerife\, Spain
CATEGORIES:Ensemble 360,Rachel Roberts,Tim Horton
ATTACH;FMTTYPE=image/jpeg:https://ensemble360.co.uk/wp-content/uploads/Ensemble_360_2024_ref_9_and_ref_6_please_credit_Matthew_Johnson_and_Music_in_the_Round_Clarinet_and_String_Quartet_and_Piano_montage-hKbzpU.tmp_.jpg
END:VEVENT
BEGIN:VEVENT
DTSTART;VALUE=DATE:20250126
DTEND;VALUE=DATE:20250127
DTSTAMP:20260425T222152
CREATED:20241216T181217Z
LAST-MODIFIED:20250126T222743Z
UID:3632-1737849600-1737935999@ensemble360.co.uk
SUMMARY:Kirker Holidays and Chamber Music Weekends: Santa Cruz de Tenerife
DESCRIPTION:Josef Suk: Piano Quartet in A minor\, op. 1\nJoaquín Turina: Scéne Andalouse for Piano Sextet\, op.7\nWolfgang Amadeus Mozart: Clarinet Quintet in A major\, K. 581
URL:https://ensemble360.co.uk/concert/kirker-holidays-and-chamber-music-weekends-santa-cruz-de-tenerife/
LOCATION:Hotel Botanico\, Calle Richard J. Yeoward\, 1\, 38400 Puerto de la Cruz\, Santa Cruz de Tenerife\, Spain
CATEGORIES:Ensemble 360,Rachel Roberts,Robert Plane,Tim Horton
ATTACH;FMTTYPE=image/jpeg:https://ensemble360.co.uk/wp-content/uploads/Ensemble_360_2024_ref_9_and_ref_6_please_credit_Matthew_Johnson_and_Music_in_the_Round_Clarinet_and_String_Quartet_and_Piano_montage-hKbzpU.tmp_.jpg
END:VEVENT
BEGIN:VEVENT
DTSTART;TZID=Europe/London:20250123T130000
DTEND;TZID=Europe/London:20250123T130000
DTSTAMP:20260425T222152
CREATED:20250122T220311Z
LAST-MODIFIED:20250123T221135Z
UID:3835-1737637200-1737637200@ensemble360.co.uk
SUMMARY:Wigmore Hall: London
DESCRIPTION:Music in Auschwitz
URL:https://ensemble360.co.uk/concert/wigmore-hall-london/
LOCATION:Wigmore Hall\, Wigmore Street\, London\, W1U 2BP\, England
CATEGORIES:Ensemble 360,Rachel Roberts
ATTACH;FMTTYPE=image/jpeg:https://ensemble360.co.uk/wp-content/uploads/Ensemble_360_2024_ref_8_please_credit_Matthew_Johnson_and_Music_in_the_Round_String_Quartet-tCULiU.tmp_.jpg
END:VEVENT
BEGIN:VEVENT
DTSTART;TZID=Europe/London:20250122T191500
DTEND;TZID=Europe/London:20250122T191500
DTSTAMP:20260425T222152
CREATED:20241216T181217Z
LAST-MODIFIED:20250122T220313Z
UID:3631-1737573300-1737573300@ensemble360.co.uk
SUMMARY:Music in the Round: Sheffield
DESCRIPTION:Sally Beamish: The Naming of BirdsAlexander von Zemlinksy: Humoreske (Rondo)Samuel Barber: Summer Music\, op. 31Gyorgy Ligeti: Six BagatellesCarl Nielsen: Wind Quintet\, op. 43
URL:https://ensemble360.co.uk/concert/music-in-the-round-sheffield-38/
LOCATION:Crucible Playhouse\, Crucible Theatre\, Sheffield\, S1 1DA\, England
CATEGORIES:Ensemble 360,Robert Plane
ATTACH;FMTTYPE=image/png:https://ensemble360.co.uk/wp-content/uploads/MusicintheRoundLogo-Smed-H80vRQ.tmp_.png
END:VEVENT
BEGIN:VEVENT
DTSTART;TZID=Europe/London:20250118T150000
DTEND;TZID=Europe/London:20250118T150000
DTSTAMP:20260425T222152
CREATED:20241216T181217Z
LAST-MODIFIED:20250118T213250Z
UID:3630-1737212400-1737212400@ensemble360.co.uk
SUMMARY:Music in the Round: East Riding of Yorkshire
DESCRIPTION:Ludwig van Beethoven: Sonata in C major\, op. 102\, no.1Cheryl Frances-Hoad: InvocationLudwig van Beethoven: Sonata no. 3 in A major\, op. 69IntervalLudwig van Beethoven: Sonata no. 2 in G minor\, op. 5\, no. 2Ludwig van Beethoven: Sonata no. 5 in D major op. 102\, no.2
URL:https://ensemble360.co.uk/concert/music-in-the-round-east-riding-of-yorkshire-15/
LOCATION:Junction Goole\, Paradise Place\, East Riding of Yorkshire\, DN14 5DL\, England
CATEGORIES:Ensemble 360,Tim Horton
ATTACH;FMTTYPE=image/png:https://ensemble360.co.uk/wp-content/uploads/MusicintheRoundLogo-Smed-H80vRQ.tmp_.png
END:VEVENT
BEGIN:VEVENT
DTSTART;TZID=Europe/London:20241213T193000
DTEND;TZID=Europe/London:20241213T193000
DTSTAMP:20260425T222152
CREATED:20240603T121659Z
LAST-MODIFIED:20241211T180321Z
UID:2890-1734118200-1734118200@ensemble360.co.uk
SUMMARY:Music in the Round: Sheffield
DESCRIPTION:
URL:https://ensemble360.co.uk/concert/music-in-the-round-sheffield-37/
LOCATION:Sheffield Cathedral\, Church Street\, Sheffield\, S1 1HA\, England
CATEGORIES:Ensemble 360,Rachel Roberts
ATTACH;FMTTYPE=image/png:https://ensemble360.co.uk/wp-content/uploads/MusicintheRoundLogo-Smed-H80vRQ.tmp_.png
END:VEVENT
BEGIN:VEVENT
DTSTART;TZID=Europe/London:20241207T190000
DTEND;TZID=Europe/London:20241207T190000
DTSTAMP:20260425T222152
CREATED:20240603T121659Z
LAST-MODIFIED:20241207T180655Z
UID:2889-1733598000-1733598000@ensemble360.co.uk
SUMMARY:Music in the Round: Sheffield
DESCRIPTION:With Claire Booth \nArnold Schönberg: String Quartet no. 2\, op. 10Alban Berg: Seven Early SongsClaude Debussy: Quartet in G minor\, op. 10
URL:https://ensemble360.co.uk/concert/music-in-the-round-sheffield-36/
LOCATION:Crucible Playhouse\, Crucible Theatre\, Sheffield\, S1 1DA\, England
CATEGORIES:Ensemble 360,Rachel Roberts,Tim Horton
ATTACH;FMTTYPE=image/png:https://ensemble360.co.uk/wp-content/uploads/MusicintheRoundLogo-Smed-H80vRQ.tmp_.png
END:VEVENT
END:VCALENDAR