BEGIN:VCALENDAR
VERSION:2.0
PRODID:-//Ensemble 360 - ECPv6.15.20//NONSGML v1.0//EN
CALSCALE:GREGORIAN
METHOD:PUBLISH
X-WR-CALNAME:Ensemble 360
X-ORIGINAL-URL:https://ensemble360.co.uk
X-WR-CALDESC:Events for Ensemble 360
REFRESH-INTERVAL;VALUE=DURATION:PT1H
X-Robots-Tag:noindex
X-PUBLISHED-TTL:PT1H
BEGIN:VTIMEZONE
TZID:Europe/London
BEGIN:DAYLIGHT
TZOFFSETFROM:+0000
TZOFFSETTO:+0100
TZNAME:BST
DTSTART:20240331T010000
END:DAYLIGHT
BEGIN:STANDARD
TZOFFSETFROM:+0100
TZOFFSETTO:+0000
TZNAME:GMT
DTSTART:20241027T010000
END:STANDARD
BEGIN:DAYLIGHT
TZOFFSETFROM:+0000
TZOFFSETTO:+0100
TZNAME:BST
DTSTART:20250330T010000
END:DAYLIGHT
BEGIN:STANDARD
TZOFFSETFROM:+0100
TZOFFSETTO:+0000
TZNAME:GMT
DTSTART:20251026T010000
END:STANDARD
BEGIN:DAYLIGHT
TZOFFSETFROM:+0000
TZOFFSETTO:+0100
TZNAME:BST
DTSTART:20260329T010000
END:DAYLIGHT
BEGIN:STANDARD
TZOFFSETFROM:+0100
TZOFFSETTO:+0000
TZNAME:GMT
DTSTART:20261025T010000
END:STANDARD
END:VTIMEZONE
BEGIN:VEVENT
DTSTART;TZID=Europe/London:20250517T140000
DTEND;TZID=Europe/London:20250517T140000
DTSTAMP:20260425T205213
CREATED:20250425T081303Z
LAST-MODIFIED:20250517T191805Z
UID:4007-1747490400-1747490400@ensemble360.co.uk
SUMMARY:Sheffield Chamber Music Festival: Sheffield
DESCRIPTION:Franz Schubert: String Quintet in C major\, op. 163\, D. 956IntervalLeos Janáček: String Quartet no. 2\, Intimate Letters with narrator Paul Hawkyard
URL:https://ensemble360.co.uk/concert/sheffield-chamber-music-festival-sheffield-16/
LOCATION:Crucible Playhouse\, Crucible Theatre\, Sheffield\, S1 1DA\, England
CATEGORIES:Ensemble 360,Rachel Roberts
ATTACH;FMTTYPE=image/jpeg:https://ensemble360.co.uk/wp-content/uploads/SCMF2025_Please_credit_Matthew_Johnson_and_Music_in_the_Round_Smed-EVwXD8.tmp_.jpg
END:VEVENT
BEGIN:VEVENT
DTSTART;TZID=Europe/London:20250517T110000
DTEND;TZID=Europe/London:20250517T110000
DTSTAMP:20260425T205213
CREATED:20250425T081303Z
LAST-MODIFIED:20250517T191804Z
UID:4006-1747479600-1747479600@ensemble360.co.uk
SUMMARY:Sheffield Chamber Music Festival: Sheffield
DESCRIPTION:Paul Rissmann: Giddy Goat
URL:https://ensemble360.co.uk/concert/sheffield-chamber-music-festival-sheffield-15/
LOCATION:Crucible Playhouse\, Crucible Theatre\, Sheffield\, S1 1DA\, England
CATEGORIES:Ensemble 360,Rachel Roberts,Robert Plane
ATTACH;FMTTYPE=image/jpeg:https://ensemble360.co.uk/wp-content/uploads/SCMF2025_Please_credit_Matthew_Johnson_and_Music_in_the_Round_Smed-EVwXD8.tmp_.jpg
END:VEVENT
BEGIN:VEVENT
DTSTART;TZID=Europe/London:20250516T190000
DTEND;TZID=Europe/London:20250516T190000
DTSTAMP:20260425T205213
CREATED:20250425T081303Z
LAST-MODIFIED:20250516T192047Z
UID:4005-1747422000-1747422000@ensemble360.co.uk
SUMMARY:Sheffield Chamber Music Festival: Sheffield
DESCRIPTION:20 Years of Ensemble 360: Festival Launch \nHuw Watkins: Broken ConsortAileen Sweeney: Commission from Royal Philharmonic Society 2024 (World Premiere)IntervalFranz Schubert: Octet in F major\, D. 803
URL:https://ensemble360.co.uk/concert/sheffield-chamber-music-festival-sheffield-14/
LOCATION:Crucible Playhouse\, Crucible Theatre\, Sheffield\, S1 1DA\, England
CATEGORIES:Ensemble 360,Rachel Roberts,Robert Plane,Tim Horton
ATTACH;FMTTYPE=image/jpeg:https://ensemble360.co.uk/wp-content/uploads/SCMF2025_Please_credit_Matthew_Johnson_and_Music_in_the_Round_Smed-EVwXD8.tmp_.jpg
END:VEVENT
BEGIN:VEVENT
DTSTART;TZID=Europe/London:20250512T193000
DTEND;TZID=Europe/London:20250512T193000
DTSTAMP:20260425T205213
CREATED:20250425T081303Z
LAST-MODIFIED:20250512T191106Z
UID:4004-1747078200-1747078200@ensemble360.co.uk
SUMMARY:Music in the Round: Hastings
DESCRIPTION:Wolfgang Amadeus Mozart: Horn Quintet in E flat major\, K. 407Wolfgang Amadeus Mozart: String Quintet no. 4 in G minor\, K. 516IntervalWolfgang Amadeus Mozart: Clarinet Quintet in A major\, K. 581
URL:https://ensemble360.co.uk/concert/music-in-the-round-hastings-2/
LOCATION:The White Rock\, Hastings\, White Rock\, Hastings\, TN34 1 JX\, England
CATEGORIES:Ensemble 360,Rachel Roberts,Robert Plane
ATTACH;FMTTYPE=image/png:https://ensemble360.co.uk/wp-content/uploads/MusicintheRoundLogo-Smed-H80vRQ.tmp_.png
END:VEVENT
BEGIN:VEVENT
DTSTART;TZID=Europe/London:20250512T133000
DTEND;TZID=Europe/London:20250512T133000
DTSTAMP:20260425T205213
CREATED:20250425T081303Z
LAST-MODIFIED:20250512T191105Z
UID:4003-1747056600-1747056600@ensemble360.co.uk
SUMMARY:Music in the Round: Hastings
DESCRIPTION:Giddy Goat
URL:https://ensemble360.co.uk/concert/music-in-the-round-hastings/
LOCATION:The White Rock\, Hastings\, White Rock\, Hastings\, TN34 1 JX\, England
CATEGORIES:Ensemble 360,Rachel Roberts,Robert Plane
ATTACH;FMTTYPE=image/png:https://ensemble360.co.uk/wp-content/uploads/MusicintheRoundLogo-Smed-H80vRQ.tmp_.png
END:VEVENT
BEGIN:VEVENT
DTSTART;TZID=Europe/London:20250427T193000
DTEND;TZID=Europe/London:20250427T193000
DTSTAMP:20260425T205213
CREATED:20250425T081303Z
LAST-MODIFIED:20250427T162715Z
UID:4002-1745782200-1745782200@ensemble360.co.uk
SUMMARY:Malvern Concert Club : Malvern
DESCRIPTION:Franz Joseph Haydn: Piano Trio no. 43 in C major\, Hob XV:27\nLudwig van Beethoven: Piano Trio in D Major\, op. 70\, no. 1\, Ghost\nInterval\nAntonin Dvořák: Piano Quartet in E flat major\, op. 87
URL:https://ensemble360.co.uk/concert/malvern-concert-club-malvern/
LOCATION:Malvern Theatre\, Malvern Theatres\, Grange Road\, Malvern\, WR14 3HB\, England
CATEGORIES:Ensemble 360,Tim Horton
ATTACH;FMTTYPE=image/jpeg:https://ensemble360.co.uk/wp-content/uploads/Malvern-Theatre-credit-malvern-theatres.co_.uk_-e1744133126651-5kHvhm.tmp_.jpg
END:VEVENT
BEGIN:VEVENT
DTSTART;TZID=Europe/London:20250416T095900
DTEND;TZID=Europe/London:20250416T095900
DTSTAMP:20260425T205213
CREATED:20241216T181227Z
LAST-MODIFIED:20250416T213508Z
UID:3689-1744797540-1744797540@ensemble360.co.uk
SUMMARY:Sheffield Chamber Music Festival: Sheffield
DESCRIPTION:Kaija Saariaho: Petals\nPierre Boulez: Dialogue de l’ombre double for clarinet and electronics\nEmily Hultmark: Beauty is Wild\nInterval\nLuigi Nono: Nono La Lontananza Nostalgica Utopica Futua
URL:https://ensemble360.co.uk/concert/sheffield-chamber-music-festival-sheffield-20/
LOCATION:Firth Hall\, Firth Court\, Western Bank\, Sheffield\, S10 2TN\, England
CATEGORIES:Ensemble 360,Robert Plane
ATTACH;FMTTYPE=image/jpeg:https://ensemble360.co.uk/wp-content/uploads/SCMF2025_Please_credit_Matthew_Johnson_and_Music_in_the_Round_Smed-EVwXD8.tmp_.jpg
END:VEVENT
BEGIN:VEVENT
DTSTART;TZID=Europe/London:20250404T193000
DTEND;TZID=Europe/London:20250404T193000
DTSTAMP:20260425T205213
CREATED:20241216T181226Z
LAST-MODIFIED:20250404T202444Z
UID:3683-1743795000-1743795000@ensemble360.co.uk
SUMMARY:Music in the Round: Barnsley
DESCRIPTION:Ludwig van Beethoven: Sonata in C major\, op. 102\, no.1Cheryl Frances-Hoad: InvocationLudwig van Beethoven: Sonata no. 3 in A major\, op. 69IntervalLudwig van Beethoven: Sonata no. 2 in G minor\, op. 5\, no. 2Ludwig van Beethoven: Sonata no. 5 in D major op. 102\, no.2
URL:https://ensemble360.co.uk/concert/music-in-the-round-barnsley-7/
LOCATION:Emmanuel Church\, Barnsley\, Huddersfield Road\, Barnsley\, S75 1DT\, England
CATEGORIES:Ensemble 360,Tim Horton
ATTACH;FMTTYPE=image/png:https://ensemble360.co.uk/wp-content/uploads/MusicintheRoundLogo-Smed-H80vRQ.tmp_.png
END:VEVENT
BEGIN:VEVENT
DTSTART;TZID=Europe/London:20250403T190000
DTEND;TZID=Europe/London:20250403T190000
DTSTAMP:20260425T205213
CREATED:20241216T181226Z
LAST-MODIFIED:20250403T202014Z
UID:3682-1743706800-1743706800@ensemble360.co.uk
SUMMARY:Music in the Round: East Riding of Yorkshire
DESCRIPTION:Wolfgang Amadeus Mozart: Horn Quintet in E flat major\, K. 407Wolfgang Amadeus Mozart: String Quintet no. 4 in G minor\, K. 516Wolfgang Amadeus Mozart: Clarinet Quintet in A major\, K. 581
URL:https://ensemble360.co.uk/concert/music-in-the-round-east-riding-of-yorkshire-12/
LOCATION:Junction Goole\, Paradise Place\, East Riding of Yorkshire\, DN14 5DL\, England
CATEGORIES:Ensemble 360,Rachel Roberts,Robert Plane
ATTACH;FMTTYPE=image/png:https://ensemble360.co.uk/wp-content/uploads/MusicintheRoundLogo-Smed-H80vRQ.tmp_.png
END:VEVENT
BEGIN:VEVENT
DTSTART;TZID=Europe/London:20250403T140000
DTEND;TZID=Europe/London:20250403T140000
DTSTAMP:20260425T205213
CREATED:20241216T181226Z
LAST-MODIFIED:20250403T202014Z
UID:3681-1743688800-1743688800@ensemble360.co.uk
SUMMARY:Music in the Round: East Riding of Yorkshire
DESCRIPTION:Paul Rissmann: Giddy Goat
URL:https://ensemble360.co.uk/concert/music-in-the-round-east-riding-of-yorkshire-11/
LOCATION:Junction Goole\, Paradise Place\, East Riding of Yorkshire\, DN14 5DL\, England
CATEGORIES:Ensemble 360,Rachel Roberts,Robert Plane
ATTACH;FMTTYPE=image/png:https://ensemble360.co.uk/wp-content/uploads/MusicintheRoundLogo-Smed-H80vRQ.tmp_.png
END:VEVENT
BEGIN:VEVENT
DTSTART;TZID=Europe/London:20250403T133000
DTEND;TZID=Europe/London:20250403T133000
DTSTAMP:20260425T205213
CREATED:20241219T183906Z
LAST-MODIFIED:20250403T202013Z
UID:3758-1743687000-1743687000@ensemble360.co.uk
SUMMARY:Music in the Round: East Riding of Yorkshire
DESCRIPTION:Paul Rissmann: Giddy Goat
URL:https://ensemble360.co.uk/concert/music-in-the-round-east-riding-of-yorkshire-16/
LOCATION:Junction Goole\, Paradise Place\, East Riding of Yorkshire\, DN14 5DL\, England
CATEGORIES:Ensemble 360,Rachel Roberts,Robert Plane
ATTACH;FMTTYPE=image/png:https://ensemble360.co.uk/wp-content/uploads/MusicintheRoundLogo-Smed-H80vRQ.tmp_.png
END:VEVENT
BEGIN:VEVENT
DTSTART;TZID=Europe/London:20250329T190000
DTEND;TZID=Europe/London:20250329T190000
DTSTAMP:20260425T205213
CREATED:20241216T181226Z
LAST-MODIFIED:20250329T200315Z
UID:3680-1743274800-1743274800@ensemble360.co.uk
SUMMARY:Music in the Round: Sheffield
DESCRIPTION:Carl Philipp Emanuel Bach:  Bach Flute Concerto in D minor Wq.22Georg Philipp Telemann: Fantasia for solo flute no. 2 in A minor\, TWV 40:3Wilhelm Friedemann Bach: Harpsichord Concerto in A Minor\, F.45IntervalEliza Turner: Lesson No. 1\, from Six Lessons for the HarpsichordJohann Sebastian Bach: Brandenburg Concerto no. 5 in D major\, BWV 1050
URL:https://ensemble360.co.uk/concert/music-in-the-round-sheffield-50/
LOCATION:Crucible Playhouse\, Crucible Theatre\, Sheffield\, S1 1DA\, England
CATEGORIES:Ensemble 360,Rachel Roberts
ATTACH;FMTTYPE=image/png:https://ensemble360.co.uk/wp-content/uploads/MusicintheRoundLogo-Smed-H80vRQ.tmp_.png
END:VEVENT
BEGIN:VEVENT
DTSTART;TZID=Europe/London:20250323T150000
DTEND;TZID=Europe/London:20250323T150000
DTSTAMP:20260425T205213
CREATED:20241216T181226Z
LAST-MODIFIED:20250323T193356Z
UID:3679-1742742000-1742742000@ensemble360.co.uk
SUMMARY:Music in the Round: London
DESCRIPTION:Close Up (family concert) with Aga Serugo-Lugo
URL:https://ensemble360.co.uk/concert/music-in-the-round-london-2/
LOCATION:Wigmore Hall\, Wigmore Street\, London\, W1U 2BP\, England
CATEGORIES:Ensemble 360,Robert Plane
ATTACH;FMTTYPE=image/png:https://ensemble360.co.uk/wp-content/uploads/MusicintheRoundLogo-Smed-H80vRQ.tmp_.png
END:VEVENT
BEGIN:VEVENT
DTSTART;TZID=Europe/London:20250321T171500
DTEND;TZID=Europe/London:20250321T171500
DTSTAMP:20260425T205213
CREATED:20241216T181226Z
LAST-MODIFIED:20250321T190344Z
UID:3678-1742577300-1742577300@ensemble360.co.uk
SUMMARY:Music in the Round: Sheffield
DESCRIPTION:Ludwig van Beethoven: Flute Sonata in B flat majorLudwig van Beethoven: Trio for Piano\, Flute\, and Bassoon
URL:https://ensemble360.co.uk/concert/music-in-the-round-sheffield-47/
LOCATION:Upper Chapel\, Norfolk Street\, Sheffield\, S1 2JD\, England
CATEGORIES:Ensemble 360,Tim Horton
ATTACH;FMTTYPE=image/png:https://ensemble360.co.uk/wp-content/uploads/MusicintheRoundLogo-Smed-H80vRQ.tmp_.png
END:VEVENT
BEGIN:VEVENT
DTSTART;TZID=Europe/London:20250321T130000
DTEND;TZID=Europe/London:20250321T130000
DTSTAMP:20260425T205213
CREATED:20241216T181226Z
LAST-MODIFIED:20250321T190344Z
UID:3677-1742562000-1742562000@ensemble360.co.uk
SUMMARY:Music in the Round: Sheffield
DESCRIPTION:Ludwig van Beethoven: Flute Sonata in B flat major\, Anh. 4Ludwig van Beethoven: Trio for piano\, flute and bassoon in G major\, WoO. 37
URL:https://ensemble360.co.uk/concert/music-in-the-round-sheffield-46/
LOCATION:Upper Chapel\, Norfolk Street\, Sheffield\, S1 2JD\, England
CATEGORIES:Ensemble 360,Tim Horton
ATTACH;FMTTYPE=image/png:https://ensemble360.co.uk/wp-content/uploads/MusicintheRoundLogo-Smed-H80vRQ.tmp_.png
END:VEVENT
BEGIN:VEVENT
DTSTART;TZID=Europe/London:20250320T110000
DTEND;TZID=Europe/London:20250320T110000
DTSTAMP:20260425T205213
CREATED:20241216T181226Z
LAST-MODIFIED:20250320T185807Z
UID:3676-1742468400-1742468400@ensemble360.co.uk
SUMMARY:Music in the Round: London
DESCRIPTION:Close Up (schools concert)
URL:https://ensemble360.co.uk/concert/music-in-the-round-london/
LOCATION:Wigmore Hall\, Wigmore Street\, London\, W1U 2BP\, England
CATEGORIES:Ensemble 360,Robert Plane
ATTACH;FMTTYPE=image/png:https://ensemble360.co.uk/wp-content/uploads/MusicintheRoundLogo-Smed-H80vRQ.tmp_.png
END:VEVENT
BEGIN:VEVENT
DTSTART;TZID=Europe/London:20250317T193000
DTEND;TZID=Europe/London:20250317T193000
DTSTAMP:20260425T205213
CREATED:20241216T181226Z
LAST-MODIFIED:20250317T183429Z
UID:3675-1742239800-1742239800@ensemble360.co.uk
SUMMARY:Music in the Round: Hampshire
DESCRIPTION:Pavel Haas: Suite for Oboe and Piano\, op.17Leos Janáček: In the MistsIntervalPavel Haas: Wind Quintet\, op. 10Leos Janáček: Mládí (Youth) for Wind Sextet
URL:https://ensemble360.co.uk/concert/music-in-the-round-hampshire-8/
LOCATION:Portsmouth Guildhall\, Guildhall Square\, Hampshire\, PO1 2AB\, England
CATEGORIES:Ensemble 360,Robert Plane,Tim Horton
ATTACH;FMTTYPE=image/png:https://ensemble360.co.uk/wp-content/uploads/MusicintheRoundLogo-Smed-H80vRQ.tmp_.png
END:VEVENT
BEGIN:VEVENT
DTSTART;TZID=Europe/London:20250317T133000
DTEND;TZID=Europe/London:20250317T133000
DTSTAMP:20260425T205213
CREATED:20241216T181226Z
LAST-MODIFIED:20250317T183428Z
UID:3674-1742218200-1742218200@ensemble360.co.uk
SUMMARY:Music in the Round: Hampshire
DESCRIPTION:CLOSE UP (Schools)
URL:https://ensemble360.co.uk/concert/music-in-the-round-hampshire-7/
LOCATION:Portsmouth Guildhall\, Guildhall Square\, Hampshire\, PO1 2AB\, England
CATEGORIES:Ensemble 360,Robert Plane
ATTACH;FMTTYPE=image/png:https://ensemble360.co.uk/wp-content/uploads/MusicintheRoundLogo-Smed-H80vRQ.tmp_.png
END:VEVENT
BEGIN:VEVENT
DTSTART;TZID=Europe/London:20250316T150000
DTEND;TZID=Europe/London:20250316T150000
DTSTAMP:20260425T205213
CREATED:20250120T214203Z
LAST-MODIFIED:20250316T183101Z
UID:3826-1742137200-1742137200@ensemble360.co.uk
SUMMARY:Huddersfield Music Society: Huddersfield
DESCRIPTION:Richard Strauss: Till Eulenspiegel Einmal AndersWolfgang Amadeus Mozart: Finale from Sonata for Bassoon and Cello in B flat major\, K. 292Alan Ridout: Ferdinand the BullGioachino Rossini: Duet for Cello and Double Bass in D MajorCarl Nielsen: Serenata in vanoGuillaume Connesson: Disco ToccataLudwig van Beethoven: Finale from Septet in E flat major\, op. 20
URL:https://ensemble360.co.uk/concert/huddersfield-music-society-huddersfield/
LOCATION:St Peter’s Parish Church\, Huddersfield
CATEGORIES:Ensemble 360,Robert Plane
ATTACH;FMTTYPE=image/jpeg:https://ensemble360.co.uk/wp-content/uploads/Ensemble_360_2024_ref_16_please_credit_Matthew_Johnson_and_Music_in_the_Round_11_players-lagAf1.tmp_.jpg
END:VEVENT
BEGIN:VEVENT
DTSTART;TZID=Europe/London:20250309T180000
DTEND;TZID=Europe/London:20250309T180000
DTSTAMP:20260425T205213
CREATED:20241216T181225Z
LAST-MODIFIED:20250309T174935Z
UID:3673-1741543200-1741543200@ensemble360.co.uk
SUMMARY:Music in the Round: Sheffield
DESCRIPTION:Power: Shostakovich Piano Quintet \nDmitry Shostakovich: Piano Trio No. 2 in E minor\, Op. 67\, to the memory of Ivan SollertinskyDmitry Shostakovich: Piano Quintet in G minor\, op. 57
URL:https://ensemble360.co.uk/concert/music-in-the-round-sheffield-45/
LOCATION:Firth Hall\, Firth Court\, Western Bank\, Sheffield\, S10 2TN\, England
CATEGORIES:Ensemble 360,Rachel Roberts,Tim Horton
ATTACH;FMTTYPE=image/png:https://ensemble360.co.uk/wp-content/uploads/MusicintheRoundLogo-Smed-H80vRQ.tmp_.png
END:VEVENT
BEGIN:VEVENT
DTSTART;TZID=Europe/London:20250309T150000
DTEND;TZID=Europe/London:20250309T150000
DTSTAMP:20260425T205213
CREATED:20241216T181225Z
LAST-MODIFIED:20250309T174934Z
UID:3672-1741532400-1741532400@ensemble360.co.uk
SUMMARY:Music in the Round: Sheffield
DESCRIPTION:Ensemble 360’s Tim Horton and Gemma Rosefield join Soviet-music specialist Patrick Zuk (Durham University) for an hour of illuminating conversation delving into the life and work of Dimitri Shostakovich. Chaired by Dr Benjamin Tassie\, Music in the Round’s Sheffield Programme Manager.
URL:https://ensemble360.co.uk/concert/music-in-the-round-sheffield-44/
LOCATION:Firth Hall\, Firth Court\, Western Bank\, Sheffield\, S10 2TN\, England
CATEGORIES:Ensemble 360,Tim Horton
ATTACH;FMTTYPE=image/png:https://ensemble360.co.uk/wp-content/uploads/MusicintheRoundLogo-Smed-H80vRQ.tmp_.png
END:VEVENT
BEGIN:VEVENT
DTSTART;TZID=Europe/London:20250308T191500
DTEND;TZID=Europe/London:20250308T191500
DTSTAMP:20260425T205213
CREATED:20241216T181225Z
LAST-MODIFIED:20250308T175033Z
UID:3671-1741461300-1741461300@ensemble360.co.uk
SUMMARY:Music in the Round: Doncaster
DESCRIPTION:A Celebration of Czech Music \nAnton Reicha: Wind Quintet in E flat major\, op. 88\, no. 2Pavel Haas: Wind Quintet\, op. 10IntervalBenjamin Britten: Movement for Wind SextetLeos Janáček: Mládí (Youth) for Wind Sextet
URL:https://ensemble360.co.uk/concert/music-in-the-round-doncaster-9/
LOCATION:Cast\, Second Space\, Waterdale\, Doncaster\, DN1 3BU\, England
CATEGORIES:Ensemble 360,Robert Plane
ATTACH;FMTTYPE=image/png:https://ensemble360.co.uk/wp-content/uploads/MusicintheRoundLogo-Smed-H80vRQ.tmp_.png
END:VEVENT
BEGIN:VEVENT
DTSTART;TZID=Europe/London:20250308T190000
DTEND;TZID=Europe/London:20250308T190000
DTSTAMP:20260425T205213
CREATED:20241216T181225Z
LAST-MODIFIED:20250308T175033Z
UID:3670-1741460400-1741460400@ensemble360.co.uk
SUMMARY:Music in the Round: Sheffield
DESCRIPTION:Revolution: Shostakovich String Quartets \nDmitry Shostakovich: String Quartet no. 10 in A flat major\, op. 118Dmitry Shostakovich: String Quartet no. 12 in D flat major\, op. 133
URL:https://ensemble360.co.uk/concert/music-in-the-round-sheffield-43/
LOCATION:Upper Chapel\, Norfolk Street\, Sheffield\, S1 2JD\, England
CATEGORIES:Ensemble 360,Rachel Roberts
ATTACH;FMTTYPE=image/png:https://ensemble360.co.uk/wp-content/uploads/MusicintheRoundLogo-Smed-H80vRQ.tmp_.png
END:VEVENT
BEGIN:VEVENT
DTSTART;TZID=Europe/London:20250308T140000
DTEND;TZID=Europe/London:20250308T140000
DTSTAMP:20260425T205213
CREATED:20241216T181225Z
LAST-MODIFIED:20250308T175033Z
UID:3669-1741442400-1741442400@ensemble360.co.uk
SUMMARY:Music in the Round: Sheffield
DESCRIPTION:Conflict: Shostakovich String Quartets \nDmitry Shostakovich: String Quartet no. 3 in F major\, op. 73Dmitry Shostakovich: String Quartet no. 8 in C minor\, op. 110
URL:https://ensemble360.co.uk/concert/music-in-the-round-sheffield-42/
LOCATION:Upper Chapel\, Norfolk Street\, Sheffield\, S1 2JD\, England
CATEGORIES:Ensemble 360,Rachel Roberts
ATTACH;FMTTYPE=image/png:https://ensemble360.co.uk/wp-content/uploads/MusicintheRoundLogo-Smed-H80vRQ.tmp_.png
END:VEVENT
BEGIN:VEVENT
DTSTART;TZID=Europe/London:20250308T110000
DTEND;TZID=Europe/London:20250308T110000
DTSTAMP:20260425T205213
CREATED:20241216T181225Z
LAST-MODIFIED:20250308T175032Z
UID:3668-1741431600-1741431600@ensemble360.co.uk
SUMMARY:Music in the Round: Doncaster
DESCRIPTION:CLOSE UP (Family)
URL:https://ensemble360.co.uk/concert/music-in-the-round-doncaster-8/
LOCATION:Cast\, Second Space\, Waterdale\, Doncaster\, DN1 3BU\, England
CATEGORIES:Ensemble 360,Robert Plane
ATTACH;FMTTYPE=image/png:https://ensemble360.co.uk/wp-content/uploads/MusicintheRoundLogo-Smed-H80vRQ.tmp_.png
END:VEVENT
BEGIN:VEVENT
DTSTART;TZID=Europe/London:20250307T193000
DTEND;TZID=Europe/London:20250307T193000
DTSTAMP:20260425T205213
CREATED:20241216T181225Z
LAST-MODIFIED:20250307T173356Z
UID:3666-1741375800-1741375800@ensemble360.co.uk
SUMMARY:Music in the Round: Barnsley
DESCRIPTION:A Celebration of Czech Music \nPavel Haas: Suite for Oboe and Piano\, op.17Leos Janáček: In the MistsIntervalBenjamin Britten: Movement for Wind SextetLeos Janáček: Mládí (Youth) for Wind Sextet
URL:https://ensemble360.co.uk/concert/music-in-the-round-barnsley-6/
LOCATION:Emmanuel Church\, Barnsley\, Huddersfield Road\, Barnsley\, S75 1DT\, England
CATEGORIES:Ensemble 360,Robert Plane,Tim Horton
ATTACH;FMTTYPE=image/png:https://ensemble360.co.uk/wp-content/uploads/MusicintheRoundLogo-Smed-H80vRQ.tmp_.png
END:VEVENT
BEGIN:VEVENT
DTSTART;TZID=Europe/London:20250304T200000
DTEND;TZID=Europe/London:20250304T200000
DTSTAMP:20260425T205213
CREATED:20241216T181225Z
LAST-MODIFIED:20250304T173301Z
UID:3665-1741118400-1741118400@ensemble360.co.uk
SUMMARY:Music in the Round: Milton Keynes
DESCRIPTION:Imogen Holst: Phantasy String QuartetBenjamin Britten: Three DivertimentiJosef Holbrooke: Eilean Shona op.74Herbert Howells: Phantasy String Quartet op. 25IntervalHenry Purcell\, arr. Peter Warlock:  Three-Part Fantasias no. 1-3Herbert Howells: Rhapsodic Quintet\, op\, 31Ralph Vaughan Williams\, arr. Martin Gerigk: The Lark Ascending
URL:https://ensemble360.co.uk/concert/music-in-the-round-milton-keynes-6/
LOCATION:The Stables\, Stockwell Lane\, Wavendon\, Milton Keynes\, MK17 8LU\, England
CATEGORIES:Ensemble 360,Rachel Roberts,Robert Plane
ATTACH;FMTTYPE=image/png:https://ensemble360.co.uk/wp-content/uploads/MusicintheRoundLogo-Smed-H80vRQ.tmp_.png
END:VEVENT
BEGIN:VEVENT
DTSTART;TZID=Europe/London:20250304T130000
DTEND;TZID=Europe/London:20250304T130000
DTSTAMP:20260425T205213
CREATED:20241216T181225Z
LAST-MODIFIED:20250304T173300Z
UID:3664-1741093200-1741093200@ensemble360.co.uk
SUMMARY:Music in the Round: Milton Keynes
DESCRIPTION:Giddy Goat
URL:https://ensemble360.co.uk/concert/music-in-the-round-milton-keynes-5/
LOCATION:The Stables\, Stockwell Lane\, Wavendon\, Milton Keynes\, MK17 8LU\, England
CATEGORIES:Ensemble 360,Rachel Roberts,Robert Plane
ATTACH;FMTTYPE=image/png:https://ensemble360.co.uk/wp-content/uploads/MusicintheRoundLogo-Smed-H80vRQ.tmp_.png
END:VEVENT
BEGIN:VEVENT
DTSTART;TZID=Europe/London:20250304T110000
DTEND;TZID=Europe/London:20250304T110000
DTSTAMP:20260425T205213
CREATED:20241216T181225Z
LAST-MODIFIED:20250304T173300Z
UID:3663-1741086000-1741086000@ensemble360.co.uk
SUMMARY:Music in the Round: Milton Keynes
DESCRIPTION:Giddy Goat
URL:https://ensemble360.co.uk/concert/music-in-the-round-milton-keynes-4/
LOCATION:The Stables\, Stockwell Lane\, Wavendon\, Milton Keynes\, MK17 8LU\, England
CATEGORIES:Ensemble 360,Rachel Roberts,Robert Plane
ATTACH;FMTTYPE=image/png:https://ensemble360.co.uk/wp-content/uploads/MusicintheRoundLogo-Smed-H80vRQ.tmp_.png
END:VEVENT
BEGIN:VEVENT
DTSTART;TZID=Europe/London:20250302T150000
DTEND;TZID=Europe/London:20250302T150000
DTSTAMP:20260425T205213
CREATED:20241216T181225Z
LAST-MODIFIED:20250302T173400Z
UID:3662-1740927600-1740927600@ensemble360.co.uk
SUMMARY:Music in the Round: Leamington Spa
DESCRIPTION:Benjamin Britten: Three DivertimentiSamuel Coleridge-Taylor: Clarinet Quintet in F sharp minor\, op. 10IntervalJosef Holbrooke: Eilean Shona op.74Antonin Dvořák: Quartet no. 12 in F major\, op. 96\, B. 179\, American
URL:https://ensemble360.co.uk/concert/music-in-the-round-leamington-spa-4/
LOCATION:Royal Spa Centre\, Leamington Spa\, CV32 4HN\, England
CATEGORIES:Ensemble 360,Rachel Roberts,Robert Plane
ATTACH;FMTTYPE=image/png:https://ensemble360.co.uk/wp-content/uploads/MusicintheRoundLogo-Smed-H80vRQ.tmp_.png
END:VEVENT
END:VCALENDAR