BEGIN:VCALENDAR
VERSION:2.0
PRODID:-//Ensemble 360 - ECPv6.15.20//NONSGML v1.0//EN
CALSCALE:GREGORIAN
METHOD:PUBLISH
X-WR-CALNAME:Ensemble 360
X-ORIGINAL-URL:https://ensemble360.co.uk
X-WR-CALDESC:Events for Ensemble 360
REFRESH-INTERVAL;VALUE=DURATION:PT1H
X-Robots-Tag:noindex
X-PUBLISHED-TTL:PT1H
BEGIN:VTIMEZONE
TZID:Europe/London
BEGIN:DAYLIGHT
TZOFFSETFROM:+0000
TZOFFSETTO:+0100
TZNAME:BST
DTSTART:20240331T010000
END:DAYLIGHT
BEGIN:STANDARD
TZOFFSETFROM:+0100
TZOFFSETTO:+0000
TZNAME:GMT
DTSTART:20241027T010000
END:STANDARD
BEGIN:DAYLIGHT
TZOFFSETFROM:+0000
TZOFFSETTO:+0100
TZNAME:BST
DTSTART:20250330T010000
END:DAYLIGHT
BEGIN:STANDARD
TZOFFSETFROM:+0100
TZOFFSETTO:+0000
TZNAME:GMT
DTSTART:20251026T010000
END:STANDARD
BEGIN:DAYLIGHT
TZOFFSETFROM:+0000
TZOFFSETTO:+0100
TZNAME:BST
DTSTART:20260329T010000
END:DAYLIGHT
BEGIN:STANDARD
TZOFFSETFROM:+0100
TZOFFSETTO:+0000
TZNAME:GMT
DTSTART:20261025T010000
END:STANDARD
END:VTIMEZONE
BEGIN:VEVENT
DTSTART;TZID=Europe/London:20250605T133000
DTEND;TZID=Europe/London:20250605T133000
DTSTAMP:20260425T191624
CREATED:20250425T081307Z
LAST-MODIFIED:20250605T162215Z
UID:4045-1749130200-1749130200@ensemble360.co.uk
SUMMARY:Music in the Round
DESCRIPTION:Rissmann Giddy Goat
URL:https://ensemble360.co.uk/concert/music-in-the-round-4/
LOCATION:Dagenham Park Church of England School\, School Road\, RM10 9QH
CATEGORIES:Ensemble 360,Rachel Roberts
ATTACH;FMTTYPE=image/png:https://ensemble360.co.uk/wp-content/uploads/MusicintheRoundLogo-Smed-H80vRQ.tmp_.png
END:VEVENT
BEGIN:VEVENT
DTSTART;TZID=Europe/London:20250605T104500
DTEND;TZID=Europe/London:20250605T104500
DTSTAMP:20260425T191624
CREATED:20250425T081307Z
LAST-MODIFIED:20250605T162214Z
UID:4044-1749120300-1749120300@ensemble360.co.uk
SUMMARY:Music in the Round
DESCRIPTION:Rissmann Giddy Goat
URL:https://ensemble360.co.uk/concert/music-in-the-round-3/
LOCATION:Dagenham Park Church of England School\, School Road\, RM10 9QH
CATEGORIES:Ensemble 360,Rachel Roberts
ATTACH;FMTTYPE=image/png:https://ensemble360.co.uk/wp-content/uploads/MusicintheRoundLogo-Smed-H80vRQ.tmp_.png
END:VEVENT
BEGIN:VEVENT
DTSTART;TZID=Europe/London:20250531T193000
DTEND;TZID=Europe/London:20250531T193000
DTSTAMP:20260425T191624
CREATED:20250425T081307Z
LAST-MODIFIED:20250531T200339Z
UID:4043-1748719800-1748719800@ensemble360.co.uk
SUMMARY:Music in the Round: Essex
DESCRIPTION:Jasdeep Singh Degun and Ensemble 360 \nA composer and virtuoso of the sitar with a classical string quintet makes for an electrifying pairing
URL:https://ensemble360.co.uk/concert/music-in-the-round-essex/
LOCATION:Saffron Hall\, Audley End Road\, Saffron Walden\, Essex\, CB11 4UH\, England
CATEGORIES:Ensemble 360,Rachel Roberts
ATTACH;FMTTYPE=image/png:https://ensemble360.co.uk/wp-content/uploads/MusicintheRoundLogo-Smed-H80vRQ.tmp_.png
END:VEVENT
BEGIN:VEVENT
DTSTART;TZID=Europe/London:20250524T190000
DTEND;TZID=Europe/London:20250524T190000
DTSTAMP:20260425T191624
CREATED:20250425T081307Z
LAST-MODIFIED:20250524T191753Z
UID:4042-1748113200-1748113200@ensemble360.co.uk
SUMMARY:Sheffield Chamber Music Festival: Sheffield
DESCRIPTION:Wolfgang Amadeus Mozart: Flute Quartet no. 1 in D major\, K. 285Ludwig van Beethoven: Quintet for Piano and Wind in E flat major\, op. 16IntervalEdward Elgar: Piano Quintet in A minor\, op. 84
URL:https://ensemble360.co.uk/concert/sheffield-chamber-music-festival-sheffield-35/
LOCATION:Crucible Playhouse\, Crucible Theatre\, Sheffield\, S1 1DA\, England
CATEGORIES:Ensemble 360,Rachel Roberts,Robert Plane,Tim Horton
ATTACH;FMTTYPE=image/jpeg:https://ensemble360.co.uk/wp-content/uploads/SCMF2025_Please_credit_Matthew_Johnson_and_Music_in_the_Round_Smed-EVwXD8.tmp_.jpg
END:VEVENT
BEGIN:VEVENT
DTSTART;TZID=Europe/London:20250524T110000
DTEND;TZID=Europe/London:20250524T110000
DTSTAMP:20260425T191624
CREATED:20250425T081307Z
LAST-MODIFIED:20250524T191753Z
UID:4040-1748084400-1748084400@ensemble360.co.uk
SUMMARY:Sheffield Chamber Music Festival: Sheffield
DESCRIPTION:Close-Up: Music for Curious Young Minds
URL:https://ensemble360.co.uk/concert/sheffield-chamber-music-festival-sheffield-33/
LOCATION:Crucible Playhouse\, Crucible Theatre\, Sheffield\, S1 1DA\, England
CATEGORIES:Ensemble 360,Robert Plane
ATTACH;FMTTYPE=image/jpeg:https://ensemble360.co.uk/wp-content/uploads/SCMF2025_Please_credit_Matthew_Johnson_and_Music_in_the_Round_Smed-EVwXD8.tmp_.jpg
END:VEVENT
BEGIN:VEVENT
DTSTART;TZID=Europe/London:20250524T050000
DTEND;TZID=Europe/London:20250524T050000
DTSTAMP:20260425T191624
CREATED:20250425T081307Z
LAST-MODIFIED:20250524T191753Z
UID:4039-1748062800-1748062800@ensemble360.co.uk
SUMMARY:Sheffield Chamber Music Festival: Sheffield
DESCRIPTION:Johann Sebastian Bach: Goldberg Variations\, BWV988
URL:https://ensemble360.co.uk/concert/sheffield-chamber-music-festival-sheffield-32/
LOCATION:Samuel Worth Chapel\, The Gatehouse\, Cemetery Avenue\, Sheffield\, S11 8NT\, England
CATEGORIES:Ensemble 360,Tim Horton
ATTACH;FMTTYPE=image/jpeg:https://ensemble360.co.uk/wp-content/uploads/SCMF2025_Please_credit_Matthew_Johnson_and_Music_in_the_Round_Smed-EVwXD8.tmp_.jpg
END:VEVENT
BEGIN:VEVENT
DTSTART;TZID=Europe/London:20250523T190000
DTEND;TZID=Europe/London:20250523T190000
DTSTAMP:20260425T191624
CREATED:20250425T081307Z
LAST-MODIFIED:20250523T191819Z
UID:4038-1748026800-1748026800@ensemble360.co.uk
SUMMARY:Sheffield Chamber Music Festival: Sheffield
DESCRIPTION:Oliver Knussen: Cantata for Oboe and String Trio\nMaurice Ravel: Piano Trio in A minor\nInterval\nRalph Vaughan Williams: Quintet for piano and strings in C minor\nBenjamin Britten: Britten Sinfonietta\, Op. 1
URL:https://ensemble360.co.uk/concert/sheffield-chamber-music-festival-sheffield-31/
LOCATION:Crucible Playhouse\, Crucible Theatre\, Sheffield\, S1 1DA\, England
CATEGORIES:Ensemble 360,Rachel Roberts,Robert Plane,Tim Horton
ATTACH;FMTTYPE=image/jpeg:https://ensemble360.co.uk/wp-content/uploads/SCMF2025_Please_credit_Matthew_Johnson_and_Music_in_the_Round_Smed-EVwXD8.tmp_.jpg
END:VEVENT
BEGIN:VEVENT
DTSTART;TZID=Europe/London:20250523T140000
DTEND;TZID=Europe/London:20250523T140000
DTSTAMP:20260425T191624
CREATED:20250425T081307Z
LAST-MODIFIED:20250523T191819Z
UID:4037-1748008800-1748008800@ensemble360.co.uk
SUMMARY:Sheffield Chamber Music Festival: Sheffield
DESCRIPTION:Avril Coleridge-Taylor: Can Sorrow Find MeSamuel Coleridge-Taylor: Clarinet Quintet in F sharp minor\, op. 10Edward Elgar: Chanson de MatinAvril Coleridge-Taylor: RomanceDame Ethel Mary Smyth: Piano Trio in D minor\, ScherzoRalph Vaughan Williams: Romance for Viola and PianoAvril Coleridge-Taylor: Idylle
URL:https://ensemble360.co.uk/concert/sheffield-chamber-music-festival-sheffield-30/
LOCATION:Crucible Playhouse\, Crucible Theatre\, Sheffield\, S1 1DA\, England
CATEGORIES:Ensemble 360,Rachel Roberts,Tim Horton
ATTACH;FMTTYPE=image/jpeg:https://ensemble360.co.uk/wp-content/uploads/SCMF2025_Please_credit_Matthew_Johnson_and_Music_in_the_Round_Smed-EVwXD8.tmp_.jpg
END:VEVENT
BEGIN:VEVENT
DTSTART;TZID=Europe/London:20250522T190000
DTEND;TZID=Europe/London:20250522T190000
DTSTAMP:20260425T191624
CREATED:20250425T081307Z
LAST-MODIFIED:20250522T191959Z
UID:4036-1747940400-1747940400@ensemble360.co.uk
SUMMARY:Sheffield Chamber Music Festival: Sheffield
DESCRIPTION:Johannes Brahms: String Sextet in G major\, op. 36\nInterval\nGeorge Enescu: String Octet in C major\, op\, 7
URL:https://ensemble360.co.uk/concert/sheffield-chamber-music-festival-sheffield-29/
LOCATION:Crucible Playhouse\, Crucible Theatre\, Sheffield\, S1 1DA\, England
CATEGORIES:Ensemble 360,Rachel Roberts
ATTACH;FMTTYPE=image/jpeg:https://ensemble360.co.uk/wp-content/uploads/SCMF2025_Please_credit_Matthew_Johnson_and_Music_in_the_Round_Smed-EVwXD8.tmp_.jpg
END:VEVENT
BEGIN:VEVENT
DTSTART;TZID=Europe/London:20250522T140000
DTEND;TZID=Europe/London:20250522T140000
DTSTAMP:20260425T191624
CREATED:20250425T081307Z
LAST-MODIFIED:20250522T191958Z
UID:4035-1747922400-1747922400@ensemble360.co.uk
SUMMARY:Sheffield Chamber Music Festival: Sheffield
DESCRIPTION:Dmitry Shostakovich: Two Pieces for String Octet\, op. 11\nWolfgang Amadeus Mozart: Quintet in E flat major for Piano and Winds\, K. 452\nFrancis Poulenc: Oboe Sonata\nInterval\nArnold Schönberg\, arr. Eduard Steuermann: Verklärte Nacht\, op. 4
URL:https://ensemble360.co.uk/concert/sheffield-chamber-music-festival-sheffield-28/
LOCATION:Crucible Playhouse\, Crucible Theatre\, Sheffield\, S1 1DA\, England
CATEGORIES:Ensemble 360,Rachel Roberts,Robert Plane,Tim Horton
ATTACH;FMTTYPE=image/jpeg:https://ensemble360.co.uk/wp-content/uploads/SCMF2025_Please_credit_Matthew_Johnson_and_Music_in_the_Round_Smed-EVwXD8.tmp_.jpg
END:VEVENT
BEGIN:VEVENT
DTSTART;TZID=Europe/London:20250521T213000
DTEND;TZID=Europe/London:20250521T213000
DTSTAMP:20260425T191624
CREATED:20250425T081306Z
LAST-MODIFIED:20250521T191820Z
UID:4034-1747863000-1747863000@ensemble360.co.uk
SUMMARY:Sheffield Chamber Music Festival: Sheffield
DESCRIPTION:Quartet in the Pub
URL:https://ensemble360.co.uk/concert/sheffield-chamber-music-festival-sheffield-27/
LOCATION:The Rising Sun
CATEGORIES:Ensemble 360,Rachel Roberts
ATTACH;FMTTYPE=image/jpeg:https://ensemble360.co.uk/wp-content/uploads/SCMF2025_Please_credit_Matthew_Johnson_and_Music_in_the_Round_Smed-EVwXD8.tmp_.jpg
END:VEVENT
BEGIN:VEVENT
DTSTART;TZID=Europe/London:20250521T190000
DTEND;TZID=Europe/London:20250521T190000
DTSTAMP:20260425T191624
CREATED:20250425T081306Z
LAST-MODIFIED:20250521T191819Z
UID:4033-1747854000-1747854000@ensemble360.co.uk
SUMMARY:Sheffield Chamber Music Festival: Sheffield
DESCRIPTION:Jasdeep Singh Degun & E360  \nJasdeep Singh Degun is one of the finest exponents of the sitar and one of the most exciting musicians working today. His many collaborations with players from both Indian and western classical traditions have earned him broad audiences and many prizes\, including two prestigious Royal Philharmonic Society awards in 2024. Following his sold-out Playhouse debut with tabla player Harkiret Singh Bahra in spring 2024\, he returns for a new collaboration with the string players of Ensemble 360 to mark their 20th birthday.
URL:https://ensemble360.co.uk/concert/sheffield-chamber-music-festival-sheffield-26/
LOCATION:Crucible Playhouse\, Crucible Theatre\, Sheffield\, S1 1DA\, England
CATEGORIES:Ensemble 360,Rachel Roberts
ATTACH;FMTTYPE=image/jpeg:https://ensemble360.co.uk/wp-content/uploads/SCMF2025_Please_credit_Matthew_Johnson_and_Music_in_the_Round_Smed-EVwXD8.tmp_.jpg
END:VEVENT
BEGIN:VEVENT
DTSTART;TZID=Europe/London:20250520T211500
DTEND;TZID=Europe/London:20250520T211500
DTSTAMP:20260425T191624
CREATED:20250425T081306Z
LAST-MODIFIED:20250520T191916Z
UID:4032-1747775700-1747775700@ensemble360.co.uk
SUMMARY:Sheffield Chamber Music Festival: Sheffield
DESCRIPTION:The Night Overtook Us – An evening of Scottish Folk MusicDonald Grant and Friends
URL:https://ensemble360.co.uk/concert/sheffield-chamber-music-festival-sheffield-25/
LOCATION:Crucible Playhouse\, Crucible Theatre\, Sheffield\, S1 1DA\, England
CATEGORIES:Ensemble 360,Rachel Roberts
ATTACH;FMTTYPE=image/jpeg:https://ensemble360.co.uk/wp-content/uploads/SCMF2025_Please_credit_Matthew_Johnson_and_Music_in_the_Round_Smed-EVwXD8.tmp_.jpg
END:VEVENT
BEGIN:VEVENT
DTSTART;TZID=Europe/London:20250520T190000
DTEND;TZID=Europe/London:20250520T190000
DTSTAMP:20260425T191624
CREATED:20250425T081306Z
LAST-MODIFIED:20250520T191916Z
UID:4031-1747767600-1747767600@ensemble360.co.uk
SUMMARY:Sheffield Chamber Music Festival: Sheffield
DESCRIPTION:Samuel Barber: Canzonetta for Oboe and Strings\, op. 48Richard Strauss: Metamorphosen (realisation for string septet by Rudolf Leopold)IntervalSamuel Barber: String Quartet\, op.11Aaron Copland: Appalacian Spring
URL:https://ensemble360.co.uk/concert/sheffield-chamber-music-festival-sheffield-24/
LOCATION:Crucible Playhouse\, Crucible Theatre\, Sheffield\, S1 1DA\, England
CATEGORIES:Ensemble 360,Rachel Roberts,Robert Plane
ATTACH;FMTTYPE=image/jpeg:https://ensemble360.co.uk/wp-content/uploads/SCMF2025_Please_credit_Matthew_Johnson_and_Music_in_the_Round_Smed-EVwXD8.tmp_.jpg
END:VEVENT
BEGIN:VEVENT
DTSTART;TZID=Europe/London:20250520T140000
DTEND;TZID=Europe/London:20250520T140000
DTSTAMP:20260425T191624
CREATED:20250425T081306Z
LAST-MODIFIED:20250520T191915Z
UID:4030-1747749600-1747749600@ensemble360.co.uk
SUMMARY:Sheffield Chamber Music Festival: Sheffield
DESCRIPTION:Samuel Barber: String Quartet\, op.11\, Adagio\nSamuel Barber: Canzonetta for Oboe and Strings\, op. 48\nAaron Copland: Appalacian Spring
URL:https://ensemble360.co.uk/concert/sheffield-chamber-music-festival-sheffield-23/
LOCATION:Crucible Playhouse\, Crucible Theatre\, Sheffield\, S1 1DA\, England
CATEGORIES:Ensemble 360,Rachel Roberts,Robert Plane
ATTACH;FMTTYPE=image/jpeg:https://ensemble360.co.uk/wp-content/uploads/SCMF2025_Please_credit_Matthew_Johnson_and_Music_in_the_Round_Smed-EVwXD8.tmp_.jpg
END:VEVENT
BEGIN:VEVENT
DTSTART;TZID=Europe/London:20250519T190000
DTEND;TZID=Europe/London:20250519T190000
DTSTAMP:20260425T191624
CREATED:20250425T081306Z
LAST-MODIFIED:20250519T192042Z
UID:4029-1747681200-1747681200@ensemble360.co.uk
SUMMARY:Sheffield Chamber Music Festival: Sheffield
DESCRIPTION:Edmund Meisel\, arr. George Morton: Battleship Potemkin
URL:https://ensemble360.co.uk/concert/sheffield-chamber-music-festival-sheffield-22/
LOCATION:Crucible Playhouse\, Crucible Theatre\, Sheffield\, S1 1DA\, England
CATEGORIES:Ensemble 360,Rachel Roberts,Robert Plane,Tim Horton
ATTACH;FMTTYPE=image/jpeg:https://ensemble360.co.uk/wp-content/uploads/SCMF2025_Please_credit_Matthew_Johnson_and_Music_in_the_Round_Smed-EVwXD8.tmp_.jpg
END:VEVENT
BEGIN:VEVENT
DTSTART;TZID=Europe/London:20250519T140000
DTEND;TZID=Europe/London:20250519T140000
DTSTAMP:20260425T191624
CREATED:20250425T081303Z
LAST-MODIFIED:20250519T192041Z
UID:4011-1747663200-1747663200@ensemble360.co.uk
SUMMARY:Sheffield Chamber Music Festival: Sheffield
DESCRIPTION:Maurice Ravel\, arr. Farrington: Mother Goose SuiteLouise Farrenc: Sextet for Piano and Winds in C Minor\, Op. 40IntervalMaurice Duruflé: Prélude\, récitatif et variations for Flute\, Viola and Piano\, op. 3Robert Schumann: Piano Quintet in E flat major\, op. 44
URL:https://ensemble360.co.uk/concert/sheffield-chamber-music-festival-sheffield-21/
LOCATION:Crucible Playhouse\, Crucible Theatre\, Sheffield\, S1 1DA\, England
CATEGORIES:Ensemble 360,Rachel Roberts,Robert Plane,Tim Horton
ATTACH;FMTTYPE=image/jpeg:https://ensemble360.co.uk/wp-content/uploads/SCMF2025_Please_credit_Matthew_Johnson_and_Music_in_the_Round_Smed-EVwXD8.tmp_.jpg
END:VEVENT
BEGIN:VEVENT
DTSTART;TZID=Europe/London:20250518T200000
DTEND;TZID=Europe/London:20250518T200000
DTSTAMP:20260425T191624
CREATED:20250425T081303Z
LAST-MODIFIED:20250518T191939Z
UID:4010-1747598400-1747598400@ensemble360.co.uk
SUMMARY:Sheffield Chamber Music Festival: Sheffield
DESCRIPTION:Kaija Saariaho: Petals\nPierre Boulez: Dialogue de l’ombre double for clarinet and electronics\nInterval\nLuigi Nono: Nono La Lontananza Nostalgica Utopica Futua
URL:https://ensemble360.co.uk/concert/sheffield-chamber-music-festival-sheffield-19/
LOCATION:Firth Hall\, Firth Court\, Western Bank\, Sheffield\, S10 2TN\, England
CATEGORIES:Ensemble 360,Robert Plane
ATTACH;FMTTYPE=image/jpeg:https://ensemble360.co.uk/wp-content/uploads/SCMF2025_Please_credit_Matthew_Johnson_and_Music_in_the_Round_Smed-EVwXD8.tmp_.jpg
END:VEVENT
BEGIN:VEVENT
DTSTART;TZID=Europe/London:20250518T073000
DTEND;TZID=Europe/London:20250518T073000
DTSTAMP:20260425T191624
CREATED:20250425T081303Z
LAST-MODIFIED:20250518T191939Z
UID:4009-1747553400-1747553400@ensemble360.co.uk
SUMMARY:Sheffield Chamber Music Festival: Sheffield
DESCRIPTION:Bach at Breakfast \nJohann Sebastian Bach\, arr. Sitkovetsky: Goldberg Variations
URL:https://ensemble360.co.uk/concert/sheffield-chamber-music-festival-sheffield-18/
LOCATION:Samuel Worth Chapel\, The Gatehouse\, Cemetery Avenue\, Sheffield\, S11 8NT\, England
CATEGORIES:Ensemble 360,Rachel Roberts
ATTACH;FMTTYPE=image/jpeg:https://ensemble360.co.uk/wp-content/uploads/SCMF2025_Please_credit_Matthew_Johnson_and_Music_in_the_Round_Smed-EVwXD8.tmp_.jpg
END:VEVENT
BEGIN:VEVENT
DTSTART;TZID=Europe/London:20250518T050000
DTEND;TZID=Europe/London:20250518T050000
DTSTAMP:20260425T191624
CREATED:20250425T081303Z
LAST-MODIFIED:20250518T191938Z
UID:4008-1747544400-1747544400@ensemble360.co.uk
SUMMARY:Sheffield Chamber Music Festival: Sheffield
DESCRIPTION:Johann Sebastian Bach\, arr. Sitkovetsky: Goldberg Variations
URL:https://ensemble360.co.uk/concert/sheffield-chamber-music-festival-sheffield-17/
LOCATION:Samuel Worth Chapel\, The Gatehouse\, Cemetery Avenue\, Sheffield\, S11 8NT\, England
CATEGORIES:Ensemble 360,Rachel Roberts
ATTACH;FMTTYPE=image/jpeg:https://ensemble360.co.uk/wp-content/uploads/SCMF2025_Please_credit_Matthew_Johnson_and_Music_in_the_Round_Smed-EVwXD8.tmp_.jpg
END:VEVENT
BEGIN:VEVENT
DTSTART;TZID=Europe/London:20250517T140000
DTEND;TZID=Europe/London:20250517T140000
DTSTAMP:20260425T191624
CREATED:20250425T081303Z
LAST-MODIFIED:20250517T191805Z
UID:4007-1747490400-1747490400@ensemble360.co.uk
SUMMARY:Sheffield Chamber Music Festival: Sheffield
DESCRIPTION:Franz Schubert: String Quintet in C major\, op. 163\, D. 956IntervalLeos Janáček: String Quartet no. 2\, Intimate Letters with narrator Paul Hawkyard
URL:https://ensemble360.co.uk/concert/sheffield-chamber-music-festival-sheffield-16/
LOCATION:Crucible Playhouse\, Crucible Theatre\, Sheffield\, S1 1DA\, England
CATEGORIES:Ensemble 360,Rachel Roberts
ATTACH;FMTTYPE=image/jpeg:https://ensemble360.co.uk/wp-content/uploads/SCMF2025_Please_credit_Matthew_Johnson_and_Music_in_the_Round_Smed-EVwXD8.tmp_.jpg
END:VEVENT
BEGIN:VEVENT
DTSTART;TZID=Europe/London:20250517T110000
DTEND;TZID=Europe/London:20250517T110000
DTSTAMP:20260425T191624
CREATED:20250425T081303Z
LAST-MODIFIED:20250517T191804Z
UID:4006-1747479600-1747479600@ensemble360.co.uk
SUMMARY:Sheffield Chamber Music Festival: Sheffield
DESCRIPTION:Paul Rissmann: Giddy Goat
URL:https://ensemble360.co.uk/concert/sheffield-chamber-music-festival-sheffield-15/
LOCATION:Crucible Playhouse\, Crucible Theatre\, Sheffield\, S1 1DA\, England
CATEGORIES:Ensemble 360,Rachel Roberts,Robert Plane
ATTACH;FMTTYPE=image/jpeg:https://ensemble360.co.uk/wp-content/uploads/SCMF2025_Please_credit_Matthew_Johnson_and_Music_in_the_Round_Smed-EVwXD8.tmp_.jpg
END:VEVENT
BEGIN:VEVENT
DTSTART;TZID=Europe/London:20250516T190000
DTEND;TZID=Europe/London:20250516T190000
DTSTAMP:20260425T191624
CREATED:20250425T081303Z
LAST-MODIFIED:20250516T192047Z
UID:4005-1747422000-1747422000@ensemble360.co.uk
SUMMARY:Sheffield Chamber Music Festival: Sheffield
DESCRIPTION:20 Years of Ensemble 360: Festival Launch \nHuw Watkins: Broken ConsortAileen Sweeney: Commission from Royal Philharmonic Society 2024 (World Premiere)IntervalFranz Schubert: Octet in F major\, D. 803
URL:https://ensemble360.co.uk/concert/sheffield-chamber-music-festival-sheffield-14/
LOCATION:Crucible Playhouse\, Crucible Theatre\, Sheffield\, S1 1DA\, England
CATEGORIES:Ensemble 360,Rachel Roberts,Robert Plane,Tim Horton
ATTACH;FMTTYPE=image/jpeg:https://ensemble360.co.uk/wp-content/uploads/SCMF2025_Please_credit_Matthew_Johnson_and_Music_in_the_Round_Smed-EVwXD8.tmp_.jpg
END:VEVENT
BEGIN:VEVENT
DTSTART;TZID=Europe/London:20250512T193000
DTEND;TZID=Europe/London:20250512T193000
DTSTAMP:20260425T191624
CREATED:20250425T081303Z
LAST-MODIFIED:20250512T191106Z
UID:4004-1747078200-1747078200@ensemble360.co.uk
SUMMARY:Music in the Round: Hastings
DESCRIPTION:Wolfgang Amadeus Mozart: Horn Quintet in E flat major\, K. 407Wolfgang Amadeus Mozart: String Quintet no. 4 in G minor\, K. 516IntervalWolfgang Amadeus Mozart: Clarinet Quintet in A major\, K. 581
URL:https://ensemble360.co.uk/concert/music-in-the-round-hastings-2/
LOCATION:The White Rock\, Hastings\, White Rock\, Hastings\, TN34 1 JX\, England
CATEGORIES:Ensemble 360,Rachel Roberts,Robert Plane
ATTACH;FMTTYPE=image/png:https://ensemble360.co.uk/wp-content/uploads/MusicintheRoundLogo-Smed-H80vRQ.tmp_.png
END:VEVENT
BEGIN:VEVENT
DTSTART;TZID=Europe/London:20250512T133000
DTEND;TZID=Europe/London:20250512T133000
DTSTAMP:20260425T191624
CREATED:20250425T081303Z
LAST-MODIFIED:20250512T191105Z
UID:4003-1747056600-1747056600@ensemble360.co.uk
SUMMARY:Music in the Round: Hastings
DESCRIPTION:Giddy Goat
URL:https://ensemble360.co.uk/concert/music-in-the-round-hastings/
LOCATION:The White Rock\, Hastings\, White Rock\, Hastings\, TN34 1 JX\, England
CATEGORIES:Ensemble 360,Rachel Roberts,Robert Plane
ATTACH;FMTTYPE=image/png:https://ensemble360.co.uk/wp-content/uploads/MusicintheRoundLogo-Smed-H80vRQ.tmp_.png
END:VEVENT
BEGIN:VEVENT
DTSTART;TZID=Europe/London:20250427T193000
DTEND;TZID=Europe/London:20250427T193000
DTSTAMP:20260425T191624
CREATED:20250425T081303Z
LAST-MODIFIED:20250427T162715Z
UID:4002-1745782200-1745782200@ensemble360.co.uk
SUMMARY:Malvern Concert Club : Malvern
DESCRIPTION:Franz Joseph Haydn: Piano Trio no. 43 in C major\, Hob XV:27\nLudwig van Beethoven: Piano Trio in D Major\, op. 70\, no. 1\, Ghost\nInterval\nAntonin Dvořák: Piano Quartet in E flat major\, op. 87
URL:https://ensemble360.co.uk/concert/malvern-concert-club-malvern/
LOCATION:Malvern Theatre\, Malvern Theatres\, Grange Road\, Malvern\, WR14 3HB\, England
CATEGORIES:Ensemble 360,Tim Horton
ATTACH;FMTTYPE=image/jpeg:https://ensemble360.co.uk/wp-content/uploads/Malvern-Theatre-credit-malvern-theatres.co_.uk_-e1744133126651-5kHvhm.tmp_.jpg
END:VEVENT
BEGIN:VEVENT
DTSTART;TZID=Europe/London:20250416T095900
DTEND;TZID=Europe/London:20250416T095900
DTSTAMP:20260425T191624
CREATED:20241216T181227Z
LAST-MODIFIED:20250416T213508Z
UID:3689-1744797540-1744797540@ensemble360.co.uk
SUMMARY:Sheffield Chamber Music Festival: Sheffield
DESCRIPTION:Kaija Saariaho: Petals\nPierre Boulez: Dialogue de l’ombre double for clarinet and electronics\nEmily Hultmark: Beauty is Wild\nInterval\nLuigi Nono: Nono La Lontananza Nostalgica Utopica Futua
URL:https://ensemble360.co.uk/concert/sheffield-chamber-music-festival-sheffield-20/
LOCATION:Firth Hall\, Firth Court\, Western Bank\, Sheffield\, S10 2TN\, England
CATEGORIES:Ensemble 360,Robert Plane
ATTACH;FMTTYPE=image/jpeg:https://ensemble360.co.uk/wp-content/uploads/SCMF2025_Please_credit_Matthew_Johnson_and_Music_in_the_Round_Smed-EVwXD8.tmp_.jpg
END:VEVENT
BEGIN:VEVENT
DTSTART;TZID=Europe/London:20250404T193000
DTEND;TZID=Europe/London:20250404T193000
DTSTAMP:20260425T191624
CREATED:20241216T181226Z
LAST-MODIFIED:20250404T202444Z
UID:3683-1743795000-1743795000@ensemble360.co.uk
SUMMARY:Music in the Round: Barnsley
DESCRIPTION:Ludwig van Beethoven: Sonata in C major\, op. 102\, no.1Cheryl Frances-Hoad: InvocationLudwig van Beethoven: Sonata no. 3 in A major\, op. 69IntervalLudwig van Beethoven: Sonata no. 2 in G minor\, op. 5\, no. 2Ludwig van Beethoven: Sonata no. 5 in D major op. 102\, no.2
URL:https://ensemble360.co.uk/concert/music-in-the-round-barnsley-7/
LOCATION:Emmanuel Church\, Barnsley\, Huddersfield Road\, Barnsley\, S75 1DT\, England
CATEGORIES:Ensemble 360,Tim Horton
ATTACH;FMTTYPE=image/png:https://ensemble360.co.uk/wp-content/uploads/MusicintheRoundLogo-Smed-H80vRQ.tmp_.png
END:VEVENT
BEGIN:VEVENT
DTSTART;TZID=Europe/London:20250403T190000
DTEND;TZID=Europe/London:20250403T190000
DTSTAMP:20260425T191624
CREATED:20241216T181226Z
LAST-MODIFIED:20250403T202014Z
UID:3682-1743706800-1743706800@ensemble360.co.uk
SUMMARY:Music in the Round: East Riding of Yorkshire
DESCRIPTION:Wolfgang Amadeus Mozart: Horn Quintet in E flat major\, K. 407Wolfgang Amadeus Mozart: String Quintet no. 4 in G minor\, K. 516Wolfgang Amadeus Mozart: Clarinet Quintet in A major\, K. 581
URL:https://ensemble360.co.uk/concert/music-in-the-round-east-riding-of-yorkshire-12/
LOCATION:Junction Goole\, Paradise Place\, East Riding of Yorkshire\, DN14 5DL\, England
CATEGORIES:Ensemble 360,Rachel Roberts,Robert Plane
ATTACH;FMTTYPE=image/png:https://ensemble360.co.uk/wp-content/uploads/MusicintheRoundLogo-Smed-H80vRQ.tmp_.png
END:VEVENT
BEGIN:VEVENT
DTSTART;TZID=Europe/London:20250403T140000
DTEND;TZID=Europe/London:20250403T140000
DTSTAMP:20260425T191624
CREATED:20241216T181226Z
LAST-MODIFIED:20250403T202014Z
UID:3681-1743688800-1743688800@ensemble360.co.uk
SUMMARY:Music in the Round: East Riding of Yorkshire
DESCRIPTION:Paul Rissmann: Giddy Goat
URL:https://ensemble360.co.uk/concert/music-in-the-round-east-riding-of-yorkshire-11/
LOCATION:Junction Goole\, Paradise Place\, East Riding of Yorkshire\, DN14 5DL\, England
CATEGORIES:Ensemble 360,Rachel Roberts,Robert Plane
ATTACH;FMTTYPE=image/png:https://ensemble360.co.uk/wp-content/uploads/MusicintheRoundLogo-Smed-H80vRQ.tmp_.png
END:VEVENT
END:VCALENDAR