BEGIN:VCALENDAR
VERSION:2.0
PRODID:-//Ensemble 360 - ECPv6.15.20//NONSGML v1.0//EN
CALSCALE:GREGORIAN
METHOD:PUBLISH
X-ORIGINAL-URL:https://ensemble360.co.uk
X-WR-CALDESC:Events for Ensemble 360
REFRESH-INTERVAL;VALUE=DURATION:PT1H
X-Robots-Tag:noindex
X-PUBLISHED-TTL:PT1H
BEGIN:VTIMEZONE
TZID:Europe/London
BEGIN:DAYLIGHT
TZOFFSETFROM:+0000
TZOFFSETTO:+0100
TZNAME:BST
DTSTART:20250330T010000
END:DAYLIGHT
BEGIN:STANDARD
TZOFFSETFROM:+0100
TZOFFSETTO:+0000
TZNAME:GMT
DTSTART:20251026T010000
END:STANDARD
BEGIN:DAYLIGHT
TZOFFSETFROM:+0000
TZOFFSETTO:+0100
TZNAME:BST
DTSTART:20260329T010000
END:DAYLIGHT
BEGIN:STANDARD
TZOFFSETFROM:+0100
TZOFFSETTO:+0000
TZNAME:GMT
DTSTART:20261025T010000
END:STANDARD
BEGIN:DAYLIGHT
TZOFFSETFROM:+0000
TZOFFSETTO:+0100
TZNAME:BST
DTSTART:20270328T010000
END:DAYLIGHT
BEGIN:STANDARD
TZOFFSETFROM:+0100
TZOFFSETTO:+0000
TZNAME:GMT
DTSTART:20271031T010000
END:STANDARD
END:VTIMEZONE
BEGIN:VEVENT
DTSTART;TZID=Europe/London:20260418T103000
DTEND;TZID=Europe/London:20260418T103000
DTSTAMP:20260426T020752
CREATED:20251104T144715Z
LAST-MODIFIED:20260319T174950Z
UID:4299-1776508200-1776508200@ensemble360.co.uk
SUMMARY:Martin Randall Travel: Somerset
DESCRIPTION:Franz Schubert \n“Frühlingsreise”\, comprising:\nFrühlingslied\, D. 919\nGott im Frühling\, D. 448\nIm Frühling\, D. 882\nDie Blumensprache\, D. 519\nAn die Nachtigall\, D. 497\nDas Rosenband\, D. 280\nLiane\, D. 298\nDie Liebe hat gelogen\, D. 751\nÜber Wildemann\, D. 844\nWehmut\, D. 772\nAn den Mond\, D. 193\nFrühlingsglaube\, D. 686\nInterval\nFranz Schubert: Piano Trio no. 2 in E flat major\, op. 100\, D. 929
URL:https://ensemble360.co.uk/concert/martin-randall-travel-somerset-2/
LOCATION:The Castle Hotel\, Castle Green\, Somerset\, TA1 1NF\, England
CATEGORIES:Ensemble 360,Tim Horton
ATTACH;FMTTYPE=image/jpeg:https://ensemble360.co.uk/wp-content/uploads/Ensemble_360_2024_ref_16_please_credit_Matthew_Johnson_and_Music_in_the_Round_11_players-lagAf1.tmp_.jpg
END:VEVENT
BEGIN:VEVENT
DTSTART;TZID=Europe/London:20260418T173000
DTEND;TZID=Europe/London:20260418T173000
DTSTAMP:20260426T020752
CREATED:20251104T144716Z
LAST-MODIFIED:20260319T174950Z
UID:4300-1776533400-1776533400@ensemble360.co.uk
SUMMARY:Martin Randall Travel: Somerset
DESCRIPTION:Franz Schubert: Fantasy in C major for Violin and Piano\, D. 934\nInterval\nFranz Schubert: String Quintet in C major\, op. 163\, D. 956
URL:https://ensemble360.co.uk/concert/martin-randall-travel-somerset-3/
LOCATION:The Castle Hotel\, Castle Green\, Somerset\, TA1 1NF\, England
CATEGORIES:Ensemble 360,Rachel Roberts
ATTACH;FMTTYPE=image/jpeg:https://ensemble360.co.uk/wp-content/uploads/Ensemble_360_2024_ref_16_please_credit_Matthew_Johnson_and_Music_in_the_Round_11_players-lagAf1.tmp_.jpg
END:VEVENT
BEGIN:VEVENT
DTSTART;TZID=Europe/London:20260419T103000
DTEND;TZID=Europe/London:20260419T103000
DTSTAMP:20260426T020752
CREATED:20251104T144716Z
LAST-MODIFIED:20260319T174950Z
UID:4301-1776594600-1776594600@ensemble360.co.uk
SUMMARY:Martin Randall Travel: Somerset
DESCRIPTION:Franz Schubert: Auf dem Strom\, D.943\nFranz Schubert: Der Hirt auf dem Felsen\, D. 965\nInterval\nFranz Schubert: Piano Quintet in A major\, D. 667\, The Trout
URL:https://ensemble360.co.uk/concert/martin-randall-travel-somerset-4/
LOCATION:The Castle Hotel\, Castle Green\, Somerset\, TA1 1NF\, England
CATEGORIES:Ensemble 360,Rachel Roberts,Robert Plane,Tim Horton
ATTACH;FMTTYPE=image/jpeg:https://ensemble360.co.uk/wp-content/uploads/Ensemble_360_2024_ref_16_please_credit_Matthew_Johnson_and_Music_in_the_Round_11_players-lagAf1.tmp_.jpg
END:VEVENT
BEGIN:VEVENT
DTSTART;TZID=Europe/London:20260419T173000
DTEND;TZID=Europe/London:20260419T173000
DTSTAMP:20260426T020752
CREATED:20251104T144716Z
LAST-MODIFIED:20260319T174950Z
UID:4302-1776619800-1776619800@ensemble360.co.uk
SUMMARY:Martin Randall Travel: Somerset
DESCRIPTION:Franz Schubert: Impromptu in F minor\, D. 935 no 1\nFranz Schubert: Twelve German Dances\, D. 790\nFranz Schubert: Impromptu in A flat major\, D. 899\, no. 4\nInterval\nFranz Schubert: Octet in F major\, D. 803
URL:https://ensemble360.co.uk/concert/martin-randall-travel-somerset-5/
LOCATION:The Castle Hotel\, Castle Green\, Somerset\, TA1 1NF\, England
CATEGORIES:Ensemble 360,Rachel Roberts,Robert Plane,Tim Horton
ATTACH;FMTTYPE=image/jpeg:https://ensemble360.co.uk/wp-content/uploads/Ensemble_360_2024_ref_16_please_credit_Matthew_Johnson_and_Music_in_the_Round_11_players-lagAf1.tmp_.jpg
END:VEVENT
BEGIN:VEVENT
DTSTART;TZID=Europe/London:20260420T193000
DTEND;TZID=Europe/London:20260420T193000
DTSTAMP:20260426T020752
CREATED:20251104T144720Z
LAST-MODIFIED:20260319T174950Z
UID:4329-1776713400-1776713400@ensemble360.co.uk
SUMMARY:Music in the Round: Doncaster
DESCRIPTION:Chris Addison’s Incomplete Guide to Chamber MusicProgramme includes excerpts from:Arcangelo Corelli: Trio Sonata da Camera in D Major\, op.2\, no.1Barbara Strozzi\, arr. Birchall: Che si può fare\, op.8Johann Sebastian Bach: Prelude from Cello Suite no. 1 in G major\, BWV 1007Carl Philipp Emanuel Bach:  Bach Flute Concerto in D minor Wq.22Franz Joseph Haydn: Quartet no. 62 in C major\, op. 76\, no. 3\, Hob.III:77\, EmperorWolfgang Amadeus Mozart: Trio for Clarinet\, Viola and Piano in E flat major\, K. 498\, KegelstattLudwig van Beethoven: Serenade op. 25Frédéric François Chopin: Nocturne in C sharp minor\, op. posth.Claude Debussy: SyrinxSamuel Coleridge-Taylor: Clarinet Quintet in F sharp minor\, op. 10Dame Ethel Mary Smyth: Piano Trio in D MinorDmitry Shostakovich: String Quartet no. 8 in C minor\, op. 110Arnold Schönberg: Suite\, op. 25Steve Reich: New York Counterpoint for solo clarinet and tapeAnna Meredith: Tuggemo
URL:https://ensemble360.co.uk/concert/music-in-the-round-doncaster-13/
LOCATION:Cast\, Main Space\, Waterdale\, Doncaster\, DN1 3BU\, England
CATEGORIES:Ensemble 360,Robert Plane
ATTACH;FMTTYPE=image/png:https://ensemble360.co.uk/wp-content/uploads/MusicintheRoundLogo-Smed-H80vRQ.tmp_.png
END:VEVENT
BEGIN:VEVENT
DTSTART;TZID=Europe/London:20260422T193000
DTEND;TZID=Europe/London:20260422T193000
DTSTAMP:20260426T020752
CREATED:20260202T215216Z
LAST-MODIFIED:20260319T174950Z
UID:4556-1776886200-1776886200@ensemble360.co.uk
SUMMARY:Music in the Round: Doncaster
DESCRIPTION:Chris Addison’s Incomplete Guide to Chamber MusicProgramme includes excerpts from:Arcangelo Corelli: Trio Sonata da Camera in D Major\, op.2\, no.1Barbara Strozzi\, arr. Birchall: Che si può fare\, op.8Johann Sebastian Bach: Prelude from Cello Suite no. 1 in G major\, BWV 1007Carl Philipp Emanuel Bach:  Bach Flute Concerto in D minor Wq.22Franz Joseph Haydn: Quartet no. 62 in C major\, op. 76\, no. 3\, Hob.III:77\, EmperorWolfgang Amadeus Mozart: Trio for Clarinet\, Viola and Piano in E flat major\, K. 498\, KegelstattLudwig van Beethoven: Serenade op. 25Frédéric François Chopin: Nocturne in C sharp minor\, op. posth.Claude Debussy: SyrinxSamuel Coleridge-Taylor: Clarinet Quintet in F sharp minor\, op. 10Dame Ethel Mary Smyth: Piano Trio in D MinorDmitry Shostakovich: String Quartet no. 8 in C minor\, op. 110Arnold Schönberg: Suite\, op. 25Steve Reich: New York Counterpoint for solo clarinet and tapeAnna Meredith: Tuggemo
URL:https://ensemble360.co.uk/concert/music-in-the-round-doncaster-16/
LOCATION:Cast\, Main Space\, Waterdale\, Doncaster\, DN1 3BU\, England
CATEGORIES:Ensemble 360,Rachel Roberts,Robert Plane,Tim Horton
ATTACH;FMTTYPE=image/png:https://ensemble360.co.uk/wp-content/uploads/MusicintheRoundLogo-Smed-H80vRQ.tmp_.png
END:VEVENT
BEGIN:VEVENT
DTSTART;TZID=Europe/London:20260423T133000
DTEND;TZID=Europe/London:20260423T133000
DTSTAMP:20260426T020752
CREATED:20251104T144720Z
LAST-MODIFIED:20260319T174950Z
UID:4330-1776951000-1776951000@ensemble360.co.uk
SUMMARY:Music in the Round: East Riding of Yorkshire
DESCRIPTION:Paul Rissmann: The Storm Whale
URL:https://ensemble360.co.uk/concert/music-in-the-round-east-riding-of-yorkshire-21/
LOCATION:Junction Goole\, Paradise Place\, East Riding of Yorkshire\, DN14 5DL\, England
CATEGORIES:Ensemble 360
ATTACH;FMTTYPE=image/png:https://ensemble360.co.uk/wp-content/uploads/MusicintheRoundLogo-Smed-H80vRQ.tmp_.png
END:VEVENT
BEGIN:VEVENT
DTSTART;TZID=Europe/London:20260423T190000
DTEND;TZID=Europe/London:20260423T190000
DTSTAMP:20260426T020752
CREATED:20251104T144720Z
LAST-MODIFIED:20260319T174950Z
UID:4331-1776970800-1776970800@ensemble360.co.uk
SUMMARY:Music in the Round: East Riding of Yorkshire
DESCRIPTION:Johann Sebastian Bach: Cello Suite no. 1 in G major\, BWV 1007Wolfgang Amadeus Mozart: Duo for Violin and Viola in G major\, K. 423IntervalJohann Sebastian Bach\, arr. Sitkovetsky: Goldberg Variations
URL:https://ensemble360.co.uk/concert/music-in-the-round-east-riding-of-yorkshire-22/
LOCATION:Junction Goole\, Paradise Place\, East Riding of Yorkshire\, DN14 5DL\, England
CATEGORIES:Ensemble 360
ATTACH;FMTTYPE=image/png:https://ensemble360.co.uk/wp-content/uploads/MusicintheRoundLogo-Smed-H80vRQ.tmp_.png
END:VEVENT
BEGIN:VEVENT
DTSTART;TZID=Europe/London:20260424T193000
DTEND;TZID=Europe/London:20260424T193000
DTSTAMP:20260426T020752
CREATED:20251104T144721Z
LAST-MODIFIED:20260319T174950Z
UID:4332-1777059000-1777059000@ensemble360.co.uk
SUMMARY:Music in the Round: Barnsley
DESCRIPTION:Johann Sebastian Bach: Cello Suite no. 1 in G major\, BWV 1007Wolfgang Amadeus Mozart: Duo for Violin and Viola in G major\, K. 423IntervalJohann Sebastian Bach\, arr. Sitkovetsky: Goldberg Variations
URL:https://ensemble360.co.uk/concert/music-in-the-round-barnsley-13/
LOCATION:Emmanuel Church\, Barnsley\, Huddersfield Road\, Barnsley\, S75 1DT\, England
CATEGORIES:Ensemble 360,Rachel Roberts
ATTACH;FMTTYPE=image/png:https://ensemble360.co.uk/wp-content/uploads/MusicintheRoundLogo-Smed-H80vRQ.tmp_.png
END:VEVENT
BEGIN:VEVENT
DTSTART;TZID=Europe/London:20260425T110000
DTEND;TZID=Europe/London:20260425T110000
DTSTAMP:20260426T020752
CREATED:20251104T144721Z
LAST-MODIFIED:20260319T174950Z
UID:4333-1777114800-1777114800@ensemble360.co.uk
SUMMARY:Music in the Round: Doncaster
DESCRIPTION:Paul Rissmann: The Storm Whale
URL:https://ensemble360.co.uk/concert/music-in-the-round-doncaster-14/
LOCATION:Cast\, Second Space\, Waterdale\, Doncaster\, DN1 3BU\, England
CATEGORIES:Ensemble 360,Robert Plane
ATTACH;FMTTYPE=image/png:https://ensemble360.co.uk/wp-content/uploads/MusicintheRoundLogo-Smed-H80vRQ.tmp_.png
END:VEVENT
BEGIN:VEVENT
DTSTART;TZID=Europe/London:20260425T191500
DTEND;TZID=Europe/London:20260425T191500
DTSTAMP:20260426T020752
CREATED:20251104T144721Z
LAST-MODIFIED:20260319T174950Z
UID:4334-1777144500-1777144500@ensemble360.co.uk
SUMMARY:Music in the Round: Doncaster
DESCRIPTION:Imogen Holst: Phantasy String QuartetBenjamin Britten: Three DivertimentiJosef Holbrooke: Eilean Shona op.74Herbert Howells: Phantasy String Quartet op. 25IntervalHenry Purcell\, arr. Peter Warlock:  Three-Part Fantasias no. 1-3Pamela Harrison: Quintet for clarinet and stringsRalph Vaughan Williams\, arr. Martin Gerigk: The Lark Ascending
URL:https://ensemble360.co.uk/concert/music-in-the-round-doncaster-15/
LOCATION:Cast\, Main Space\, Waterdale\, Doncaster\, DN1 3BU\, England
CATEGORIES:Ensemble 360,Rachel Roberts,Robert Plane
ATTACH;FMTTYPE=image/png:https://ensemble360.co.uk/wp-content/uploads/MusicintheRoundLogo-Smed-H80vRQ.tmp_.png
END:VEVENT
BEGIN:VEVENT
DTSTART;TZID=Europe/London:20260427T133000
DTEND;TZID=Europe/London:20260427T133000
DTSTAMP:20260426T020752
CREATED:20251104T144721Z
LAST-MODIFIED:20260319T174950Z
UID:4336-1777296600-1777296600@ensemble360.co.uk
SUMMARY:Music in the Round: Hastings
DESCRIPTION:Paul Rissmann: The Storm Whale
URL:https://ensemble360.co.uk/concert/music-in-the-round-hastings-3/
LOCATION:White Rock Theatre\, White Rock\, Hastings\, TN34 1 JX\, England
CATEGORIES:Ensemble 360,Robert Plane
ATTACH;FMTTYPE=image/png:https://ensemble360.co.uk/wp-content/uploads/MusicintheRoundLogo-Smed-H80vRQ.tmp_.png
END:VEVENT
BEGIN:VEVENT
DTSTART;TZID=Europe/London:20260427T193000
DTEND;TZID=Europe/London:20260427T193000
DTSTAMP:20260426T020752
CREATED:20251104T144721Z
LAST-MODIFIED:20260319T174950Z
UID:4337-1777318200-1777318200@ensemble360.co.uk
SUMMARY:Music in the Round: Hastings
DESCRIPTION:Imogen Holst: Phantasy String QuartetBenjamin Britten: Three DivertimentiJosef Holbrooke: Eilean Shona op.74Herbert Howells: Phantasy String Quartet op. 25IntervalHenry Purcell\, arr. Peter Warlock:  Three-Part Fantasias no. 1-3Pamela Harrison: Quintet for clarinet and stringsRalph Vaughan Williams\, arr. Martin Gerigk: The Lark Ascending
URL:https://ensemble360.co.uk/concert/music-in-the-round-hastings-4/
LOCATION:White Rock Theatre\, White Rock\, Hastings\, TN34 1 JX\, England
CATEGORIES:Ensemble 360,Rachel Roberts,Robert Plane
ATTACH;FMTTYPE=image/png:https://ensemble360.co.uk/wp-content/uploads/MusicintheRoundLogo-Smed-H80vRQ.tmp_.png
END:VEVENT
BEGIN:VEVENT
DTSTART;TZID=Europe/London:20260507T200000
DTEND;TZID=Europe/London:20260507T200000
DTSTAMP:20260426T020752
CREATED:20251104T144722Z
LAST-MODIFIED:20260319T174951Z
UID:4338-1778184000-1778184000@ensemble360.co.uk
SUMMARY:Music in the Round: Milton Keynes
DESCRIPTION:Chris Addison’s Incomplete Guide to Chamber MusicProgramme includes excerpts from:Arcangelo Corelli: Trio Sonata da Camera in D Major\, op.2\, no.1Barbara Strozzi\, arr. Birchall: Che si può fare\, op.8Johann Sebastian Bach: Prelude from Cello Suite no. 1 in G major\, BWV 1007Carl Philipp Emanuel Bach:  Bach Flute Concerto in D minor Wq.22Franz Joseph Haydn: Quartet no. 62 in C major\, op. 76\, no. 3\, Hob.III:77\, EmperorWolfgang Amadeus Mozart: Trio for Clarinet\, Viola and Piano in E flat major\, K. 498\, KegelstattLudwig van Beethoven: Serenade op. 25Frédéric François Chopin: Nocturne in C sharp minor\, op. posth.Claude Debussy: SyrinxSamuel Coleridge-Taylor: Clarinet Quintet in F sharp minor\, op. 10Dame Ethel Mary Smyth: Piano Trio in D MinorDmitry Shostakovich: String Quartet no. 8 in C minor\, op. 110Arnold Schönberg: Suite\, op. 25Steve Reich: New York Counterpoint for solo clarinet and tapeAnna Meredith: Tuggemo
URL:https://ensemble360.co.uk/concert/music-in-the-round-milton-keynes-12/
LOCATION:The Stables\, Stockwell Lane\, Wavendon\, Milton Keynes\, MK17 8LU\, England
CATEGORIES:Ensemble 360,Robert Plane
ATTACH;FMTTYPE=image/png:https://ensemble360.co.uk/wp-content/uploads/MusicintheRoundLogo-Smed-H80vRQ.tmp_.png
END:VEVENT
BEGIN:VEVENT
DTSTART;TZID=Europe/London:20260515T190000
DTEND;TZID=Europe/London:20260515T190000
DTSTAMP:20260426T020752
CREATED:20251104T144716Z
LAST-MODIFIED:20260319T174949Z
UID:4303-1778871600-1778871600@ensemble360.co.uk
SUMMARY:Sheffield Chamber Music Festival: Sheffield
DESCRIPTION:With Claire Booth (soprano) \nJudith Weir: King Harold’s SagaHarrison Birtwistle: Cortege for 14 musiciansIntervalJohannes Brahms: Serenade no. 1 in D major\, op. 11
URL:https://ensemble360.co.uk/concert/sheffield-chamber-music-festival-sheffield-34/
LOCATION:Crucible Playhouse\, Crucible Theatre\, Sheffield\, S1 1DA\, England
CATEGORIES:Ensemble 360,Rachel Roberts,Robert Plane,Tim Horton
ATTACH;FMTTYPE=image/png:https://ensemble360.co.uk/wp-content/uploads/MusicintheRoundLogo-Smed-H80vRQ.tmp_.png
END:VEVENT
BEGIN:VEVENT
DTSTART;TZID=Europe/London:20260516T110000
DTEND;TZID=Europe/London:20260516T110000
DTSTAMP:20260426T020752
CREATED:20251104T144722Z
LAST-MODIFIED:20260319T174951Z
UID:4339-1778929200-1778929200@ensemble360.co.uk
SUMMARY:Sheffield Chamber Music Festival: Sheffield
DESCRIPTION:Paul Rissmann: Izzy Gizmo
URL:https://ensemble360.co.uk/concert/sheffield-chamber-music-festival-sheffield-36/
LOCATION:Crucible Main House\, Crucible Theatre\, Sheffield\, S1 1DA\, England
CATEGORIES:Ensemble 360,Rachel Roberts,Robert Plane
ATTACH;FMTTYPE=image/png:https://ensemble360.co.uk/wp-content/uploads/MusicintheRoundLogo-Smed-H80vRQ.tmp_.png
END:VEVENT
BEGIN:VEVENT
DTSTART;TZID=Europe/London:20260516T191500
DTEND;TZID=Europe/London:20260516T191500
DTSTAMP:20260426T020752
CREATED:20251104T144722Z
LAST-MODIFIED:20260319T174951Z
UID:4340-1778958900-1778958900@ensemble360.co.uk
SUMMARY:Sheffield Chamber Music Festival: Sheffield
DESCRIPTION:Programme includes:Claude Debussy\, arr. Gwilym Simcock: Children’s Corner
URL:https://ensemble360.co.uk/concert/sheffield-chamber-music-festival-sheffield-37/
LOCATION:Crucible Main House\, Crucible Theatre\, Sheffield\, S1 1DA\, England
CATEGORIES:Ensemble 360,Rachel Roberts
ATTACH;FMTTYPE=image/png:https://ensemble360.co.uk/wp-content/uploads/MusicintheRoundLogo-Smed-H80vRQ.tmp_.png
END:VEVENT
BEGIN:VEVENT
DTSTART;TZID=Europe/London:20260517T050000
DTEND;TZID=Europe/London:20260517T050000
DTSTAMP:20260426T020752
CREATED:20251104T144722Z
LAST-MODIFIED:20260319T174951Z
UID:4341-1778994000-1778994000@ensemble360.co.uk
SUMMARY:Sheffield Chamber Music Festival: Sheffield
DESCRIPTION:Olivier Messiaen: Le Rouge-gorge\, from Petites Esquisses d’OiseauxFrançois Couperin: Le Rossignol en AmourGeorg Philipp Telemann: Fantastia no. 2 in A minorOlivier Messiaen: L’Alouette Calandrelle\, from Catalogue d’OiseauxJean Philippe Rameau: La Rappel des OiseauGeorg Philipp Telemann: Fantasia no. 7 in DOlivier Messiaen: Le Merle NoirCamille Saint-Saëns\, arr. Richter: Volière\, from Le Carnival des AnimauxAntonio Vivaldi: Il Gardilino\, II. CantabileOlivier Messiaen: Le Loriot\, from Catalogue d’OiseauxBohuslav Martinů: Sonata for Flute and Piano\, H. 306\, I. Allegro poco moderato
URL:https://ensemble360.co.uk/concert/sheffield-chamber-music-festival-sheffield-38/
LOCATION:Samuel Worth Chapel\, The Gatehouse\, Cemetery Avenue\, Sheffield\, S11 8NT\, England
CATEGORIES:Ensemble 360,Tim Horton
ATTACH;FMTTYPE=image/png:https://ensemble360.co.uk/wp-content/uploads/MusicintheRoundLogo-Smed-H80vRQ.tmp_.png
END:VEVENT
BEGIN:VEVENT
DTSTART;TZID=Europe/London:20260517T073000
DTEND;TZID=Europe/London:20260517T073000
DTSTAMP:20260426T020752
CREATED:20251104T144723Z
LAST-MODIFIED:20260319T174951Z
UID:4342-1779003000-1779003000@ensemble360.co.uk
SUMMARY:Sheffield Chamber Music Festival: Sheffield
DESCRIPTION:Olivier Messiaen: Le Rouge-gorge\, from Petites Esquisses d’OiseauxFrançois Couperin: Le Rossignol en AmourGeorg Philipp Telemann: Fantastia no. 2 in A minorOlivier Messiaen: L’Alouette Calandrelle\, from Catalogue d’OiseauxJean Philippe Rameau: La Rappel des OiseauGeorg Philipp Telemann: Fantasia no. 7 in DOlivier Messiaen: Le Merle NoirCamille Saint-Saëns\, arr. Richter: Volière\, from Le Carnival des AnimauxAntonio Vivaldi: Il Gardilino\, II. CantabileOlivier Messiaen: Le Loriot\, from Catalogue d’OiseauxBohuslav Martinů: Sonata for Flute and Piano\, H. 306\, I. Allegro poco moderato
URL:https://ensemble360.co.uk/concert/sheffield-chamber-music-festival-sheffield-39/
LOCATION:Samuel Worth Chapel\, The Gatehouse\, Cemetery Avenue\, Sheffield\, S11 8NT\, England
CATEGORIES:Ensemble 360,Tim Horton
ATTACH;FMTTYPE=image/png:https://ensemble360.co.uk/wp-content/uploads/MusicintheRoundLogo-Smed-H80vRQ.tmp_.png
END:VEVENT
BEGIN:VEVENT
DTSTART;TZID=Europe/London:20260517T200000
DTEND;TZID=Europe/London:20260517T200000
DTSTAMP:20260426T020752
CREATED:20251104T144723Z
LAST-MODIFIED:20260319T174951Z
UID:4343-1779048000-1779048000@ensemble360.co.uk
SUMMARY:Sheffield Chamber Music Festival: Sheffield
DESCRIPTION:Carl Maria von Weber: Clarinet Quintet\, op.34Wolfgang Amadeus Mozart: Oboe Quartet in F major\, K. 370IntervalErich Wolfgang Korngold: Piano Quintet\, op. 15
URL:https://ensemble360.co.uk/concert/sheffield-chamber-music-festival-sheffield-40/
LOCATION:Samuel Worth Chapel\, The Gatehouse\, Cemetery Avenue\, Sheffield\, S11 8NT\, England
CATEGORIES:Ensemble 360,Rachel Roberts,Robert Plane,Tim Horton
ATTACH;FMTTYPE=image/png:https://ensemble360.co.uk/wp-content/uploads/MusicintheRoundLogo-Smed-H80vRQ.tmp_.png
END:VEVENT
BEGIN:VEVENT
DTSTART;TZID=Europe/London:20260518T190000
DTEND;TZID=Europe/London:20260518T190000
DTSTAMP:20260426T020752
CREATED:20251104T144723Z
LAST-MODIFIED:20260319T174951Z
UID:4344-1779130800-1779130800@ensemble360.co.uk
SUMMARY:Sheffield Chamber Music Festival: Sheffield
DESCRIPTION:Morton Feldman: Why Patterns? (1978)\nSamuel Beckett: Rockabye\nInterval\nSamuel Beckett: Not I\nMorton Feldman: Samuel Beckett\, Words and Music
URL:https://ensemble360.co.uk/concert/sheffield-chamber-music-festival-sheffield-41/
LOCATION:Crucible Playhouse\, Crucible Theatre\, Sheffield\, S1 1DA\, England
CATEGORIES:Ensemble 360,Rachel Roberts,Tim Horton
ATTACH;FMTTYPE=image/png:https://ensemble360.co.uk/wp-content/uploads/MusicintheRoundLogo-Smed-H80vRQ.tmp_.png
END:VEVENT
BEGIN:VEVENT
DTSTART;TZID=Europe/London:20260519T140000
DTEND;TZID=Europe/London:20260519T140000
DTSTAMP:20260426T020752
CREATED:20251104T144723Z
LAST-MODIFIED:20260319T174951Z
UID:4345-1779199200-1779199200@ensemble360.co.uk
SUMMARY:Sheffield Chamber Music Festival: Sheffield
DESCRIPTION:Ludwig van Beethoven: Violin Sonata no. 5 in F major\, op. 24\, SpringLudwig van Beethoven: String quartet op. 18 no. 4 in C minorLudwig van Beethoven: Septet in E flat major\, op. 20
URL:https://ensemble360.co.uk/concert/sheffield-chamber-music-festival-sheffield-42/
LOCATION:Crucible Playhouse\, Crucible Theatre\, Sheffield\, S1 1DA\, England
CATEGORIES:Ensemble 360,Rachel Roberts,Robert Plane,Tim Horton
ATTACH;FMTTYPE=image/png:https://ensemble360.co.uk/wp-content/uploads/MusicintheRoundLogo-Smed-H80vRQ.tmp_.png
END:VEVENT
BEGIN:VEVENT
DTSTART;TZID=Europe/London:20260520T140000
DTEND;TZID=Europe/London:20260520T140000
DTSTAMP:20260426T020752
CREATED:20251104T144723Z
LAST-MODIFIED:20260319T174951Z
UID:4346-1779285600-1779285600@ensemble360.co.uk
SUMMARY:Sheffield Chamber Music Festival: Sheffield
DESCRIPTION:Maurice Ravel\, arr. Strivens: ShéhérazadeSergei Prokofiev: Peter and the Wolf\, op. 67
URL:https://ensemble360.co.uk/concert/sheffield-chamber-music-festival-sheffield-43/
LOCATION:Crucible Playhouse\, Crucible Theatre\, Sheffield\, S1 1DA\, England
CATEGORIES:Ensemble 360,Rachel Roberts,Robert Plane,Tim Horton
ATTACH;FMTTYPE=image/png:https://ensemble360.co.uk/wp-content/uploads/MusicintheRoundLogo-Smed-H80vRQ.tmp_.png
END:VEVENT
BEGIN:VEVENT
DTSTART;TZID=Europe/London:20260520T170000
DTEND;TZID=Europe/London:20260520T170000
DTSTAMP:20260426T020752
CREATED:20251104T144723Z
LAST-MODIFIED:20260319T174951Z
UID:4347-1779296400-1779296400@ensemble360.co.uk
SUMMARY:Sheffield Chamber Music Festival: Sheffield
DESCRIPTION:Claude Debussy: Danses Sacrée et ProfaneMaurice Ravel\, arr. Strivens: ShéhérazadeIntervalClaude Debussy: Sonata for Flute\, Viola and Harp\, L. 137Sergei Prokofiev: Peter and the Wolf\, op. 67
URL:https://ensemble360.co.uk/concert/sheffield-chamber-music-festival-sheffield-44/
LOCATION:Crucible Playhouse\, Crucible Theatre\, Sheffield\, S1 1DA\, England
CATEGORIES:Ensemble 360,Rachel Roberts,Robert Plane,Tim Horton
ATTACH;FMTTYPE=image/png:https://ensemble360.co.uk/wp-content/uploads/MusicintheRoundLogo-Smed-H80vRQ.tmp_.png
END:VEVENT
BEGIN:VEVENT
DTSTART;TZID=Europe/London:20260520T200000
DTEND;TZID=Europe/London:20260520T200000
DTSTAMP:20260426T020752
CREATED:20251104T144724Z
LAST-MODIFIED:20260319T174951Z
UID:4348-1779307200-1779307200@ensemble360.co.uk
SUMMARY:Sheffield Chamber Music Festival: Sheffield
DESCRIPTION:Ensemble 360’s horn player\, Naomi Atherton\, joins three of the finest folk musicians working today to perform a new suite of tunes\, crafted from fragments of birdsong recorded on woodland walks by the brilliant fiddle player and composer Miranda Rutter.
URL:https://ensemble360.co.uk/concert/sheffield-chamber-music-festival-sheffield-45/
LOCATION:Crucible Playhouse\, Crucible Theatre\, Sheffield\, S1 1DA\, England
CATEGORIES:Ensemble 360
ATTACH;FMTTYPE=image/png:https://ensemble360.co.uk/wp-content/uploads/MusicintheRoundLogo-Smed-H80vRQ.tmp_.png
END:VEVENT
BEGIN:VEVENT
DTSTART;TZID=Europe/London:20260522T140000
DTEND;TZID=Europe/London:20260522T140000
DTSTAMP:20260426T020752
CREATED:20251104T144724Z
LAST-MODIFIED:20260319T174951Z
UID:4349-1779458400-1779458400@ensemble360.co.uk
SUMMARY:Sheffield Chamber Music Festival: Sheffield
DESCRIPTION:Benjamin Britten: Phantasy Quartet op. 2Henry Purcell\, realized by Benjamin Britten: She Loves and She Confesses TooHenry Purcell\, realized by Benjamin Britten: Oh SolitudeHenry Purcell\, realized by Benjamin Britten: Bess of BedlamColin Matthews: SeascapesIntervalOliver Knussen: Whitman SettingsWilliam Walton: Piano Quartet in D minor
URL:https://ensemble360.co.uk/concert/sheffield-chamber-music-festival-sheffield-46/
LOCATION:Crucible Playhouse\, Crucible Theatre\, Sheffield\, S1 1DA\, England
CATEGORIES:Ensemble 360,Rachel Roberts,Robert Plane,Tim Horton
ATTACH;FMTTYPE=image/png:https://ensemble360.co.uk/wp-content/uploads/MusicintheRoundLogo-Smed-H80vRQ.tmp_.png
END:VEVENT
BEGIN:VEVENT
DTSTART;TZID=Europe/London:20260522T190000
DTEND;TZID=Europe/London:20260522T190000
DTSTAMP:20260426T020752
CREATED:20251104T144724Z
LAST-MODIFIED:20260319T174951Z
UID:4350-1779476400-1779476400@ensemble360.co.uk
SUMMARY:Sheffield Chamber Music Festival: Sheffield
DESCRIPTION:Felix Mendelssohn: Song without Words\, op. 109Felix Mendelssohn: Mendelssohn Songs without words\, op. 62\, no. 6\, Spring SongFelix Mendelssohn: Songs without words\, op. 19b\, no. 6 Venetian Gondola SongSergey Rachmaninov: Vocalise\, op.34\, no. 14Johannes Brahms: Trio for Violin\, Horn and Piano in E flat major\, op. 40IntervalOliver Knussen: Songs without VoicesErnő Dohnányi: Sextet in C major\, op. 37
URL:https://ensemble360.co.uk/concert/sheffield-chamber-music-festival-sheffield-47/
LOCATION:Crucible Playhouse\, Crucible Theatre\, Sheffield\, S1 1DA\, England
CATEGORIES:Ensemble 360,Rachel Roberts,Robert Plane,Tim Horton
ATTACH;FMTTYPE=image/png:https://ensemble360.co.uk/wp-content/uploads/MusicintheRoundLogo-Smed-H80vRQ.tmp_.png
END:VEVENT
BEGIN:VEVENT
DTSTART;TZID=Europe/London:20260523T110000
DTEND;TZID=Europe/London:20260523T110000
DTSTAMP:20260426T020752
CREATED:20251104T144724Z
LAST-MODIFIED:20260319T174952Z
UID:4351-1779534000-1779534000@ensemble360.co.uk
SUMMARY:Sheffield Chamber Music Festival: Sheffield
DESCRIPTION:Julian Philips: Henny PennySong Cycle devised by Sheffield Schools project
URL:https://ensemble360.co.uk/concert/sheffield-chamber-music-festival-sheffield-48/
LOCATION:Crucible Playhouse\, Crucible Theatre\, Sheffield\, S1 1DA\, England
CATEGORIES:Ensemble 360,Robert Plane,Tim Horton
ATTACH;FMTTYPE=image/png:https://ensemble360.co.uk/wp-content/uploads/MusicintheRoundLogo-Smed-H80vRQ.tmp_.png
END:VEVENT
BEGIN:VEVENT
DTSTART;TZID=Europe/London:20260523T190000
DTEND;TZID=Europe/London:20260523T190000
DTSTAMP:20260426T020752
CREATED:20251104T144724Z
LAST-MODIFIED:20260319T174952Z
UID:4352-1779562800-1779562800@ensemble360.co.uk
SUMMARY:Sheffield Chamber Music Festival: Sheffield
DESCRIPTION:Richard Strauss: String Sextet from Capriccio\, op. 85Ellen Sargen: New WorkJean Sibelius: En Saga\, op. 9\, reconstructed for chamber ensembleIntervalRichard Wagner: Siegfried Idyll for chamber orchestraRichard Strauss\, arr. Ledger: Four Last Songs
URL:https://ensemble360.co.uk/concert/sheffield-chamber-music-festival-sheffield-49/
LOCATION:Crucible Playhouse\, Crucible Theatre\, Sheffield\, S1 1DA\, England
CATEGORIES:Ensemble 360,Rachel Roberts,Robert Plane,Tim Horton
ATTACH;FMTTYPE=image/png:https://ensemble360.co.uk/wp-content/uploads/MusicintheRoundLogo-Smed-H80vRQ.tmp_.png
END:VEVENT
BEGIN:VEVENT
DTSTART;TZID=Europe/London:20260526T133000
DTEND;TZID=Europe/London:20260526T133000
DTSTAMP:20260426T020752
CREATED:20260202T215219Z
LAST-MODIFIED:20260319T174952Z
UID:4558-1779802200-1779802200@ensemble360.co.uk
SUMMARY:Music in the Round: Bedford
DESCRIPTION:The Storm Whale Family Concert
URL:https://ensemble360.co.uk/concert/music-in-the-round-bedford/
LOCATION:The Place\, Bedford\, Bradgate Road\, Bedford\, MK40 3DE\, England
CATEGORIES:Ensemble 360
ATTACH;FMTTYPE=image/png:https://ensemble360.co.uk/wp-content/uploads/MusicintheRoundLogo-Smed-H80vRQ.tmp_.png
END:VEVENT
END:VCALENDAR