BEGIN:VCALENDAR
VERSION:2.0
PRODID:-//Ensemble 360 - ECPv6.15.20//NONSGML v1.0//EN
CALSCALE:GREGORIAN
METHOD:PUBLISH
X-WR-CALNAME:Ensemble 360
X-ORIGINAL-URL:https://ensemble360.co.uk
X-WR-CALDESC:Events for Ensemble 360
REFRESH-INTERVAL;VALUE=DURATION:PT1H
X-Robots-Tag:noindex
X-PUBLISHED-TTL:PT1H
BEGIN:VTIMEZONE
TZID:Europe/London
BEGIN:DAYLIGHT
TZOFFSETFROM:+0000
TZOFFSETTO:+0100
TZNAME:BST
DTSTART:20230326T010000
END:DAYLIGHT
BEGIN:STANDARD
TZOFFSETFROM:+0100
TZOFFSETTO:+0000
TZNAME:GMT
DTSTART:20231029T010000
END:STANDARD
BEGIN:DAYLIGHT
TZOFFSETFROM:+0000
TZOFFSETTO:+0100
TZNAME:BST
DTSTART:20240331T010000
END:DAYLIGHT
BEGIN:STANDARD
TZOFFSETFROM:+0100
TZOFFSETTO:+0000
TZNAME:GMT
DTSTART:20241027T010000
END:STANDARD
BEGIN:DAYLIGHT
TZOFFSETFROM:+0000
TZOFFSETTO:+0100
TZNAME:BST
DTSTART:20250330T010000
END:DAYLIGHT
BEGIN:STANDARD
TZOFFSETFROM:+0100
TZOFFSETTO:+0000
TZNAME:GMT
DTSTART:20251026T010000
END:STANDARD
END:VTIMEZONE
BEGIN:VEVENT
DTSTART;TZID=Europe/London:20240505T193000
DTEND;TZID=Europe/London:20240505T193000
DTSTAMP:20260426T044942
CREATED:20240317T172116Z
LAST-MODIFIED:20240505T213751Z
UID:2342-1714937400-1714937400@ensemble360.co.uk
SUMMARY:Music in the Round: Wiltshire
DESCRIPTION:Josef Suk: Meditation on an Old Czech Hymn ‘St Wenceslas’\, op. 35aSamuel Coleridge-Taylor: Clarinet Quintet in F sharp minor\, op. 10IntervalHerbert Howells: Rhapsodic Quintet\, op\, 31Antonin Dvořák: Quartet no. 12 in F major\, op. 96\, B. 179\, American
URL:https://ensemble360.co.uk/concert/music-in-the-round-wiltshire-2/
LOCATION:Wiltshire Music Centre\, Ashley Road\, Bradford-on-Avon\, Wiltshire\, BA15 1DZ\, England
CATEGORIES:Ensemble 360,Rachel Roberts,Robert Plane
ATTACH;FMTTYPE=image/png:https://ensemble360.co.uk/wp-content/uploads/MusicintheRoundLogo-Smed-H80vRQ.tmp_.png
END:VEVENT
BEGIN:VEVENT
DTSTART;TZID=Europe/London:20240505T140000
DTEND;TZID=Europe/London:20240505T140000
DTSTAMP:20260426T044942
CREATED:20240317T172116Z
LAST-MODIFIED:20240505T213750Z
UID:2341-1714917600-1714917600@ensemble360.co.uk
SUMMARY:Music in the Round: Wiltshire
DESCRIPTION:Paul Rissmann: The Chimpanzees of Happytown; Giles Andreae (words)\, Guy Parker-Rees (illustrations)
URL:https://ensemble360.co.uk/concert/music-in-the-round-wiltshire/
LOCATION:Wiltshire Music Centre\, Ashley Road\, Bradford-on-Avon\, Wiltshire\, BA15 1DZ\, England
CATEGORIES:Ensemble 360
ATTACH;FMTTYPE=image/png:https://ensemble360.co.uk/wp-content/uploads/MusicintheRoundLogo-Smed-H80vRQ.tmp_.png
END:VEVENT
BEGIN:VEVENT
DTSTART;TZID=Europe/London:20240422T193000
DTEND;TZID=Europe/London:20240422T193000
DTSTAMP:20260426T044942
CREATED:20240317T172116Z
LAST-MODIFIED:20240422T202920Z
UID:2340-1713814200-1713814200@ensemble360.co.uk
SUMMARY:Music in the Round: Hampshire
DESCRIPTION:Igor Stravinsky: Stravinsky 3 pieces for String QuartetSamuel Coleridge-Taylor: Clarinet Quintet in F sharp minor\, op. 10IntervalFranz Schubert: Quartet in D minor\, D. 810 – Death and the Maiden
URL:https://ensemble360.co.uk/concert/music-in-the-round-hampshire-4/
LOCATION:Portsmouth Guildhall\, Guildhall Square\, Hampshire\, PO1 2AB\, England
CATEGORIES:Ensemble 360,Rachel Roberts,Robert Plane
ATTACH;FMTTYPE=image/png:https://ensemble360.co.uk/wp-content/uploads/MusicintheRoundLogo-Smed-H80vRQ.tmp_.png
END:VEVENT
BEGIN:VEVENT
DTSTART;TZID=Europe/London:20240422T133000
DTEND;TZID=Europe/London:20240422T133000
DTSTAMP:20260426T044942
CREATED:20240317T172116Z
LAST-MODIFIED:20240422T202919Z
UID:2339-1713792600-1713792600@ensemble360.co.uk
SUMMARY:Music in the Round: Hampshire
DESCRIPTION:Close Up
URL:https://ensemble360.co.uk/concert/music-in-the-round-hampshire-3/
LOCATION:Portsmouth Guildhall\, Guildhall Square\, Hampshire\, PO1 2AB\, England
CATEGORIES:Ensemble 360
ATTACH;FMTTYPE=image/png:https://ensemble360.co.uk/wp-content/uploads/MusicintheRoundLogo-Smed-H80vRQ.tmp_.png
END:VEVENT
BEGIN:VEVENT
DTSTART;TZID=Europe/London:20240419T131500
DTEND;TZID=Europe/London:20240419T131500
DTSTAMP:20260426T044942
CREATED:20240317T172116Z
LAST-MODIFIED:20240419T200017Z
UID:2338-1713532500-1713532500@ensemble360.co.uk
SUMMARY:Music in the Round: East Riding of Yorkshire
DESCRIPTION:Paul Rissmann: The Chimpanzees of Happytown; Giles Andreae (words)\, Guy Parker-Rees (illustrations)
URL:https://ensemble360.co.uk/concert/music-in-the-round-east-riding-of-yorkshire-7/
LOCATION:Junction Goole\, Paradise Place\, East Riding of Yorkshire\, DN14 5DL\, England
CATEGORIES:Ensemble 360
ATTACH;FMTTYPE=image/png:https://ensemble360.co.uk/wp-content/uploads/MusicintheRoundLogo-Smed-H80vRQ.tmp_.png
END:VEVENT
BEGIN:VEVENT
DTSTART;TZID=Europe/London:20240419T100000
DTEND;TZID=Europe/London:20240419T100000
DTSTAMP:20260426T044942
CREATED:20240317T172116Z
LAST-MODIFIED:20240419T200016Z
UID:2337-1713520800-1713520800@ensemble360.co.uk
SUMMARY:Music in the Round: East Riding of Yorkshire
DESCRIPTION:Paul Rissmann: The Chimpanzees of Happytown; Giles Andreae (words)\, Guy Parker-Rees (illustrations)
URL:https://ensemble360.co.uk/concert/music-in-the-round-east-riding-of-yorkshire-6/
LOCATION:Junction Goole\, Paradise Place\, East Riding of Yorkshire\, DN14 5DL\, England
CATEGORIES:Ensemble 360
ATTACH;FMTTYPE=image/png:https://ensemble360.co.uk/wp-content/uploads/MusicintheRoundLogo-Smed-H80vRQ.tmp_.png
END:VEVENT
BEGIN:VEVENT
DTSTART;TZID=Europe/London:20240410T193000
DTEND;TZID=Europe/London:20240410T193000
DTSTAMP:20260426T044942
CREATED:20240317T172116Z
LAST-MODIFIED:20240410T092317Z
UID:2336-1712777400-1712777400@ensemble360.co.uk
SUMMARY:Music in the Round: Nottinghamshire
DESCRIPTION:Ludwig van Beethoven: Quartet no. 8 in E minor\, op. 59\, no. 2\, RasumovskyCaroline Shaw: Entr’acteIntervalAntonin Dvořák: String Quintet in G major\, op. 77
URL:https://ensemble360.co.uk/concert/music-in-the-round-nottinghamshire-2/
LOCATION:Mansfield Palace\, Leeming Street\, Mansfield\, Nottinghamshire\, NG18 1NJ\, England
CATEGORIES:Ensemble 360,Rachel Roberts
END:VEVENT
BEGIN:VEVENT
DTSTART;TZID=Europe/London:20240410T110000
DTEND;TZID=Europe/London:20240410T110000
DTSTAMP:20260426T044942
CREATED:20240317T172116Z
LAST-MODIFIED:20240410T092316Z
UID:2335-1712746800-1712746800@ensemble360.co.uk
SUMMARY:Music in the Round: Nottinghamshire
DESCRIPTION:Paul Rissmann: The Chimpanzees of Happytown; Giles Andreae (words)\, Guy Parker-Rees (illustrations)
URL:https://ensemble360.co.uk/concert/music-in-the-round-nottinghamshire/
LOCATION:Mansfield Palace\, Leeming Street\, Mansfield\, Nottinghamshire\, NG18 1NJ\, England
CATEGORIES:Ensemble 360
END:VEVENT
BEGIN:VEVENT
DTSTART;TZID=Europe/London:20240404T191500
DTEND;TZID=Europe/London:20240404T191500
DTSTAMP:20260426T044942
CREATED:20240317T172116Z
LAST-MODIFIED:20240404T190558Z
UID:2334-1712258100-1712258100@ensemble360.co.uk
SUMMARY:Music in the Round: Sheffield
DESCRIPTION:Benjamin Britten: Three DivertimentiAntonin Dvořák: Quartet no. 11 in C major\, op. 61IntervalAntonin Dvořák: String Quintet no. 2 in G major\, op. 77
URL:https://ensemble360.co.uk/concert/music-in-the-round-sheffield-22/
LOCATION:Crucible Playhouse\, Crucible Theatre\, Sheffield\, S1 1DA\, England
CATEGORIES:Ensemble 360,Rachel Roberts
END:VEVENT
BEGIN:VEVENT
DTSTART;TZID=Europe/London:20240323T190000
DTEND;TZID=Europe/London:20240323T190000
DTSTAMP:20260426T044942
CREATED:20240318T172031Z
LAST-MODIFIED:20240323T175734Z
UID:2378-1711220400-1711220400@ensemble360.co.uk
SUMMARY:Music in the Round: East Riding of Yorkshire
DESCRIPTION:Ludwig van Beethoven: Quartet no. 8 in E minor\, op. 59\, no. 2\, RasumovskyCaroline Shaw: Entr’acteLudwig van Beethoven: Quartet no. 16 in F major\, op. 135
URL:https://ensemble360.co.uk/concert/music-in-the-round-east-riding-of-yorkshire-8/
LOCATION:Junction Goole\, Paradise Place\, East Riding of Yorkshire\, DN14 5DL\, England
CATEGORIES:Ensemble 360,Rachel Roberts
END:VEVENT
BEGIN:VEVENT
DTSTART;TZID=Europe/London:20240323T140000
DTEND;TZID=Europe/London:20240323T140000
DTSTAMP:20260426T044942
CREATED:20240317T172116Z
LAST-MODIFIED:20240323T175733Z
UID:2332-1711202400-1711202400@ensemble360.co.uk
SUMMARY:Music in the Round: East Riding of Yorkshire
DESCRIPTION:Paul Rissmann: The Chimpanzees of Happytown; Giles Andreae (words)\, Guy Parker-Rees (illustrations)
URL:https://ensemble360.co.uk/concert/music-in-the-round-east-riding-of-yorkshire-5/
LOCATION:Junction Goole\, Paradise Place\, East Riding of Yorkshire\, DN14 5DL\, England
CATEGORIES:Ensemble 360
END:VEVENT
BEGIN:VEVENT
DTSTART;TZID=Europe/London:20240320T191500
DTEND;TZID=Europe/London:20240320T191500
DTSTAMP:20260426T044942
CREATED:20240318T172030Z
LAST-MODIFIED:20240320T174920Z
UID:2377-1710962100-1710962100@ensemble360.co.uk
SUMMARY:Music in the Round: Sheffield
DESCRIPTION:Sergey Rachmaninov: Trio Élégiaque no. 1 in G minorSergei Prokofiev: Sonata in C major\, op. 119IntervalPyotr Il’yich Tchaikovsky: Quartet no. 2 in F major\, op. 22
URL:https://ensemble360.co.uk/concert/music-in-the-round-sheffield-33/
LOCATION:Crucible Playhouse\, Crucible Theatre\, Sheffield\, S1 1DA\, England
CATEGORIES:Ensemble 360,Rachel Roberts,Tim Horton
END:VEVENT
BEGIN:VEVENT
DTSTART;TZID=Europe/London:20240316T191500
DTEND;TZID=Europe/London:20240316T191500
DTSTAMP:20260426T044942
CREATED:20231201T183644Z
LAST-MODIFIED:20240316T213555Z
UID:1862-1710616500-1710616500@ensemble360.co.uk
SUMMARY:Music in the Round: Doncaster
DESCRIPTION:Benjamin Britten: Three DivertimentiAntonin Dvořák: Quartet no. 11 in C major\, op. 61IntervalAntonin Dvořák: String Quintet no. 2 in G major\, op. 77
URL:https://ensemble360.co.uk/concert/music-in-the-round-doncaster-3/
LOCATION:Cast\, Main Space\, Waterdale\, Doncaster\, DN1 3BU\, England
CATEGORIES:Ensemble 360
END:VEVENT
BEGIN:VEVENT
DTSTART;TZID=Europe/London:20240316T110000
DTEND;TZID=Europe/London:20240316T110000
DTSTAMP:20260426T044942
CREATED:20231201T183644Z
LAST-MODIFIED:20240316T213554Z
UID:1861-1710586800-1710586800@ensemble360.co.uk
SUMMARY:Music in the Round: Doncaster
DESCRIPTION:Paul Rissmann: The Chimpanzees of Happytown; Giles Andreae (words)\, Guy Parker-Rees (illustrations)
URL:https://ensemble360.co.uk/concert/music-in-the-round-doncaster-2/
LOCATION:Cast\, Main Space\, Waterdale\, Doncaster\, DN1 3BU\, England
CATEGORIES:Ensemble 360
END:VEVENT
BEGIN:VEVENT
DTSTART;TZID=Europe/London:20240313T200000
DTEND;TZID=Europe/London:20240313T200000
DTSTAMP:20260426T044942
CREATED:20240214T175203Z
LAST-MODIFIED:20240313T211831Z
UID:2246-1710360000-1710360000@ensemble360.co.uk
SUMMARY:Music in the Round: Milton Keynes
DESCRIPTION:Wolfgang Amadeus Mozart: Trio for Violin\, Viola and Piano in E flat major\, K. 498\, KegelstattWolfgang Amadeus Mozart: Clarinet Quintet in A major\, K. 581IntervalFranz Schubert: Piano Quintet in A  major\, D. 667\, The Trout
URL:https://ensemble360.co.uk/concert/music-in-the-round-milton-keynes-3/
LOCATION:The Stables\, Stockwell Lane\, Wavendon\, Milton Keynes\, MK17 8LU\, England
CATEGORIES:Ensemble 360,Rachel Roberts,Robert Plane,Tim Horton
ATTACH;FMTTYPE=image/jpeg:https://ensemble360.co.uk/wp-content/uploads/Ensemble_360_Strings_Piano_Ref-1_please_credit_Kaupo_Kikkas-WgNC1x.tmp_.jpg
END:VEVENT
BEGIN:VEVENT
DTSTART;TZID=Europe/London:20240313T130000
DTEND;TZID=Europe/London:20240313T130000
DTSTAMP:20260426T044942
CREATED:20231201T183644Z
LAST-MODIFIED:20240313T211831Z
UID:1860-1710334800-1710334800@ensemble360.co.uk
SUMMARY:Music in the Round: Milton Keynes
DESCRIPTION:
URL:https://ensemble360.co.uk/concert/music-in-the-round-milton-keynes-2/
LOCATION:The Stables\, Stockwell Lane\, Wavendon\, Milton Keynes\, MK17 8LU\, England
CATEGORIES:Ensemble 360
END:VEVENT
BEGIN:VEVENT
DTSTART;TZID=Europe/London:20240313T110000
DTEND;TZID=Europe/London:20240313T110000
DTSTAMP:20260426T044942
CREATED:20231201T183643Z
LAST-MODIFIED:20240313T211830Z
UID:1859-1710327600-1710327600@ensemble360.co.uk
SUMMARY:Music in the Round: Milton Keynes
DESCRIPTION:with Elinor MoranPaul Rissmann: The Chimpanzees of Happytown; Giles Andreae (words)\, Guy Parker-Rees (illustrations)
URL:https://ensemble360.co.uk/concert/music-in-the-round-milton-keynes/
LOCATION:The Stables\, Stockwell Lane\, Wavendon\, Milton Keynes\, MK17 8LU\, England
CATEGORIES:Ensemble 360
END:VEVENT
BEGIN:VEVENT
DTSTART;TZID=Europe/London:20240310T150000
DTEND;TZID=Europe/London:20240310T150000
DTSTAMP:20260426T044942
CREATED:20240119T160945Z
LAST-MODIFIED:20240310T211016Z
UID:2117-1710082800-1710082800@ensemble360.co.uk
SUMMARY:Music in the Round: Leamington Spa
DESCRIPTION:Johannes Brahms: Serenade no. 1 in D major\, op. 11\, nonet version reconstructed by David WalterBohuslav Martinů: Nonet for Wind Quintet\, Violin\, Viola\, Cello and Double Bass\, H. 374IntervalErnő Dohnányi: Sextet in C major\, op. 37
URL:https://ensemble360.co.uk/concert/music-in-the-round-leamington-spa-2/
LOCATION:Royal Spa Centre\, Leamington Spa\, CV32 4HN\, England
CATEGORIES:Ensemble 360,Rachel Roberts,Robert Plane,Tim Horton
END:VEVENT
BEGIN:VEVENT
DTSTART;TZID=Europe/London:20240310T113000
DTEND;TZID=Europe/London:20240310T113000
DTSTAMP:20260426T044942
CREATED:20231201T183643Z
LAST-MODIFIED:20240310T211015Z
UID:1858-1710070200-1710070200@ensemble360.co.uk
SUMMARY:Music in the Round: Leamington Spa
DESCRIPTION:Paul Rissmann: The Chimpanzees of Happytown; Giles Andreae (words)\, Guy Parker-Rees (illustrations)
URL:https://ensemble360.co.uk/concert/music-in-the-round-leamington-spa/
LOCATION:Royal Spa Centre\, Leamington Spa\, CV32 4HN\, England
CATEGORIES:Ensemble 360
END:VEVENT
BEGIN:VEVENT
DTSTART;TZID=Europe/London:20240309T190000
DTEND;TZID=Europe/London:20240309T190000
DTSTAMP:20260426T044942
CREATED:20231201T183643Z
LAST-MODIFIED:20240309T210845Z
UID:1856-1710010800-1710010800@ensemble360.co.uk
SUMMARY:Music in the Round: Sheffield
DESCRIPTION:Laurence Osborn: Me and 4 PonysPeter Wilson: Piano QuintetIntervalRuta Vitkauskaite: NangaBen Lunn: String Trio (World Premiere)
URL:https://ensemble360.co.uk/concert/music-in-the-round-sheffield-21/
LOCATION:Upper Chapel\, Norfolk Street\, Sheffield\, S1 2JD\, England
CATEGORIES:Ensemble 360
END:VEVENT
BEGIN:VEVENT
DTSTART;TZID=Europe/London:20240308T190000
DTEND;TZID=Europe/London:20240308T190000
DTSTAMP:20260426T044942
CREATED:20231201T183643Z
LAST-MODIFIED:20240308T205251Z
UID:1855-1709924400-1709924400@ensemble360.co.uk
SUMMARY:Music in the Round: Sheffield
DESCRIPTION:Ludwig van Beethoven: Sonata in C major\, op. 102\, no.1Ludwig van Beethoven: 12 Variations on ‘See the Conquering Hero’ from Handel’s Judas Maccabeus\, WoO 45Ludwig van Beethoven: Sonata no. 5 in D major op. 102\, no.2
URL:https://ensemble360.co.uk/concert/music-in-the-round-sheffield-20/
LOCATION:Upper Chapel\, Norfolk Street\, Sheffield\, S1 2JD\, England
CATEGORIES:Ensemble 360
END:VEVENT
BEGIN:VEVENT
DTSTART;TZID=Europe/London:20240308T130000
DTEND;TZID=Europe/London:20240308T130000
DTSTAMP:20260426T044942
CREATED:20231201T183643Z
LAST-MODIFIED:20240308T205251Z
UID:1854-1709902800-1709902800@ensemble360.co.uk
SUMMARY:Music in the Round: Sheffield
DESCRIPTION:Ludwig van Beethoven: Sonata in C major\, op. 102\, no.1Ludwig van Beethoven: 12 Variations on ‘See the Conquering Hero’ from Handel’s Judas Maccabeus\, WoO 45Ludwig van Beethoven: Sonata no. 5 in D major op. 102\, no.2
URL:https://ensemble360.co.uk/concert/music-in-the-round-sheffield-19/
LOCATION:Upper Chapel\, Norfolk Street\, Sheffield\, S1 2JD\, England
CATEGORIES:Ensemble 360
END:VEVENT
BEGIN:VEVENT
DTSTART;TZID=Europe/London:20240223T193000
DTEND;TZID=Europe/London:20240223T193000
DTSTAMP:20260426T044942
CREATED:20231201T183641Z
LAST-MODIFIED:20240223T193620Z
UID:1835-1708716600-1708716600@ensemble360.co.uk
SUMMARY:Music in the Round: Barnsley
DESCRIPTION:Bach Cello Suites
URL:https://ensemble360.co.uk/concert/music-in-the-round-barnsley-2/
LOCATION:Emmanuel Church\, Barnsley\, Huddersfield Road\, Barnsley\, S75 1DT\, England
CATEGORIES:Ensemble 360
END:VEVENT
BEGIN:VEVENT
DTSTART;TZID=Europe/London:20240212T193000
DTEND;TZID=Europe/London:20240212T193000
DTSTAMP:20260426T044942
CREATED:20231201T183641Z
LAST-MODIFIED:20240212T174149Z
UID:1834-1707766200-1707766200@ensemble360.co.uk
SUMMARY:Ripon Concerts: North Yorkshire
DESCRIPTION:Domenico Scarlatti\, arr. Dinu Lipatti: Sonatas\nSamuel Barber: Summer Music\, op. 31\nLuciano Berio: Opus Number Zoo\nInterval\nFranz Danzi: Quintet in B flat major\, op. 56\, no. 1\nValerie Coleman: Umoja\nCarl Nielsen: Wind Quintet\, op. 43
URL:https://ensemble360.co.uk/concert/ripon-concerts-north-yorkshire/
LOCATION:Holy Trinity Church\, Ripon\, Kirkby Road\, North Yorkshire\, HG4 2EY\, England
CATEGORIES:Ensemble 360
END:VEVENT
BEGIN:VEVENT
DTSTART;TZID=Europe/London:20240210T163000
DTEND;TZID=Europe/London:20240210T163000
DTSTAMP:20260426T044942
CREATED:20231201T183641Z
LAST-MODIFIED:20240210T165302Z
UID:1833-1707582600-1707582600@ensemble360.co.uk
SUMMARY:Music in the Round: Tonbridge\, Kent
DESCRIPTION:Paul Rissmann: Sir Scallywag and the Golden Underpants Giles Andreae (words)\, Korky Paul (illustrations)
URL:https://ensemble360.co.uk/concert/music-in-the-round-tonbridge-kent-2/
LOCATION:EM Forster Theatre\, Tonbridge School\, High St\, Tonbridge\, Kent\, TN9 1JP\, England
CATEGORIES:Ensemble 360
END:VEVENT
BEGIN:VEVENT
DTSTART;TZID=Europe/London:20240210T140000
DTEND;TZID=Europe/London:20240210T140000
DTSTAMP:20260426T044942
CREATED:20231201T183641Z
LAST-MODIFIED:20240210T165300Z
UID:1832-1707573600-1707573600@ensemble360.co.uk
SUMMARY:Music in the Round: Tonbridge\, Kent
DESCRIPTION:Paul Rissmann: Sir Scallywag and the Golden Underpants Giles Andreae (words)\, Korky Paul (illustrations)
URL:https://ensemble360.co.uk/concert/music-in-the-round-tonbridge-kent/
LOCATION:EM Forster Theatre\, Tonbridge School\, High St\, Tonbridge\, Kent\, TN9 1JP\, England
CATEGORIES:Ensemble 360
END:VEVENT
BEGIN:VEVENT
DTSTART;TZID=Europe/London:20240209T190000
DTEND;TZID=Europe/London:20240209T190000
DTSTAMP:20260426T044942
CREATED:20231201T183641Z
LAST-MODIFIED:20240209T162256Z
UID:1830-1707505200-1707505200@ensemble360.co.uk
SUMMARY:Music in the Round: Sheffield
DESCRIPTION:Charles Koechlin: Trio d’anches\, op. 206Henri Tomasi: ÉvocationsWitold Lutosławski: Trio for Oboe\, Clarinet and BassoonFrancis Poulenc: Sonata for Clarinet and Bassoon\, FP 32aJacques Ibert: Cinq pièces en trio
URL:https://ensemble360.co.uk/concert/music-in-the-round-sheffield-18/
LOCATION:Upper Chapel\, Norfolk Street\, Sheffield\, S1 2JD\, England
CATEGORIES:Ensemble 360
END:VEVENT
BEGIN:VEVENT
DTSTART;TZID=Europe/London:20240209T130000
DTEND;TZID=Europe/London:20240209T130000
DTSTAMP:20260426T044942
CREATED:20231201T183641Z
LAST-MODIFIED:20240209T162256Z
UID:1828-1707483600-1707483600@ensemble360.co.uk
SUMMARY:Music in the Round: Sheffield
DESCRIPTION:Charles Koechlin: Trio d’anches\, op. 206Henri Tomasi: ÉvocationsWitold Lutosławski: Trio for Oboe\, Clarinet and BassoonFrancis Poulenc: Sonata for Clarinet and Bassoon\, FP 32aJacques Ibert: Cinq pièces en trio
URL:https://ensemble360.co.uk/concert/music-in-the-round-sheffield-17/
LOCATION:Upper Chapel\, Norfolk Street\, Sheffield\, S1 2JD\, England
CATEGORIES:Ensemble 360
END:VEVENT
BEGIN:VEVENT
DTSTART;TZID=Europe/London:20240121T150000
DTEND;TZID=Europe/London:20240121T150000
DTSTAMP:20260426T044942
CREATED:20231201T183641Z
LAST-MODIFIED:20240121T163839Z
UID:1827-1705849200-1705849200@ensemble360.co.uk
SUMMARY:Hexham and District Music Society: Northumberland
DESCRIPTION:Gustav Mahler: Piano Quartet Movement in A minor\nGabriel Fauré: Piano Quartet no. 2 in G minor\, op. 45\nInterval\nAntonin Dvořák: Piano Quartet in E flat major\, op. 87
URL:https://ensemble360.co.uk/concert/hexham-and-district-music-society-northumberland/
LOCATION:Queen’s Hall Arts Centre\, Beaumont Street\, Northumberland\, NE46 3LS\, England
CATEGORIES:Ensemble 360
END:VEVENT
BEGIN:VEVENT
DTSTART;TZID=Europe/London:20240120T150000
DTEND;TZID=Europe/London:20240120T150000
DTSTAMP:20260426T044942
CREATED:20231201T183640Z
LAST-MODIFIED:20240120T161904Z
UID:1825-1705762800-1705762800@ensemble360.co.uk
SUMMARY:Music in the Round: East Riding of Yorkshire
DESCRIPTION:Claude Debussy: Première Rhapsodie\nEdwin York Bowen: Clarinet Sonata\, op. 109\nPamela Harrison: Drifting Away for clarinet and piano\nCarl Maria von Weber: Grand Duo Concertant\, op. 48
URL:https://ensemble360.co.uk/concert/music-in-the-round-east-riding-of-yorkshire-4/
LOCATION:Junction Goole\, Paradise Place\, East Riding of Yorkshire\, DN14 5DL\, England
CATEGORIES:Ensemble 360
END:VEVENT
END:VCALENDAR