BEGIN:VCALENDAR
VERSION:2.0
PRODID:-//Ensemble 360 - ECPv6.15.20//NONSGML v1.0//EN
CALSCALE:GREGORIAN
METHOD:PUBLISH
X-ORIGINAL-URL:https://ensemble360.co.uk
X-WR-CALDESC:Events for Ensemble 360
REFRESH-INTERVAL;VALUE=DURATION:PT1H
X-Robots-Tag:noindex
X-PUBLISHED-TTL:PT1H
BEGIN:VTIMEZONE
TZID:Europe/London
BEGIN:DAYLIGHT
TZOFFSETFROM:+0000
TZOFFSETTO:+0100
TZNAME:BST
DTSTART:20250330T010000
END:DAYLIGHT
BEGIN:STANDARD
TZOFFSETFROM:+0100
TZOFFSETTO:+0000
TZNAME:GMT
DTSTART:20251026T010000
END:STANDARD
BEGIN:DAYLIGHT
TZOFFSETFROM:+0000
TZOFFSETTO:+0100
TZNAME:BST
DTSTART:20260329T010000
END:DAYLIGHT
BEGIN:STANDARD
TZOFFSETFROM:+0100
TZOFFSETTO:+0000
TZNAME:GMT
DTSTART:20261025T010000
END:STANDARD
BEGIN:DAYLIGHT
TZOFFSETFROM:+0000
TZOFFSETTO:+0100
TZNAME:BST
DTSTART:20270328T010000
END:DAYLIGHT
BEGIN:STANDARD
TZOFFSETFROM:+0100
TZOFFSETTO:+0000
TZNAME:GMT
DTSTART:20271031T010000
END:STANDARD
END:VTIMEZONE
BEGIN:VEVENT
DTSTART;TZID=Europe/London:20260602T103000
DTEND;TZID=Europe/London:20260602T103000
DTSTAMP:20260425T162038
CREATED:20260120T204901Z
LAST-MODIFIED:20260319T174952Z
UID:4536-1780396200-1780396200@ensemble360.co.uk
SUMMARY:Music in the Round: Essex
DESCRIPTION:The Storm Whale
URL:https://ensemble360.co.uk/concert/music-in-the-round-essex-2/
LOCATION:Chelmsford Theatre\, Fairfield Road\, Essex\, CM1 1JG\, England
CATEGORIES:Ensemble 360
ATTACH;FMTTYPE=image/png:https://ensemble360.co.uk/wp-content/uploads/MusicintheRoundLogo-Smed-H80vRQ.tmp_.png
END:VEVENT
BEGIN:VEVENT
DTSTART;TZID=Europe/London:20260602T133000
DTEND;TZID=Europe/London:20260602T133000
DTSTAMP:20260425T162038
CREATED:20260120T204901Z
LAST-MODIFIED:20260319T174952Z
UID:4537-1780407000-1780407000@ensemble360.co.uk
SUMMARY:Music in the Round: Essex
DESCRIPTION:The Storm Whale
URL:https://ensemble360.co.uk/concert/music-in-the-round-essex-3/
LOCATION:Chelmsford Theatre\, Fairfield Road\, Essex\, CM1 1JG\, England
CATEGORIES:Ensemble 360
ATTACH;FMTTYPE=image/png:https://ensemble360.co.uk/wp-content/uploads/MusicintheRoundLogo-Smed-H80vRQ.tmp_.png
END:VEVENT
BEGIN:VEVENT
DTSTART;TZID=Europe/London:20260617T133000
DTEND;TZID=Europe/London:20260617T133000
DTSTAMP:20260425T162038
CREATED:20260206T224939Z
LAST-MODIFIED:20260319T174952Z
UID:4571-1781703000-1781703000@ensemble360.co.uk
SUMMARY:Music in the Round: Barnsley
DESCRIPTION:The Storm Whale (Schools)
URL:https://ensemble360.co.uk/concert/music-in-the-round-barnsley-14/
LOCATION:Barnsley Civic\, Hanson Street\, Barnsley\, S70 2HZ\, England
CATEGORIES:Ensemble 360
ATTACH;FMTTYPE=image/png:https://ensemble360.co.uk/wp-content/uploads/MusicintheRoundLogo-Smed-H80vRQ.tmp_.png
END:VEVENT
BEGIN:VEVENT
DTSTART;TZID=Europe/London:20260618T183000
DTEND;TZID=Europe/London:20260618T183000
DTSTAMP:20260425T162038
CREATED:20251127T230313Z
LAST-MODIFIED:20260319T174949Z
UID:4448-1781807400-1781807400@ensemble360.co.uk
SUMMARY:Kirker Holidays: Winchester
DESCRIPTION:Franz Joseph Haydn: Quartet no. 35 in D minor\, op. 42Gioachino Rossini: Duet for Cello and Double Bass in D Major\, Andante molto and AllegroAntonin Dvořák: String Quintet no. 2 in G major\, op. 77
URL:https://ensemble360.co.uk/concert/kirker-holidays-winchester/
LOCATION:St Cross Church\, St Cross Back St\, Winchester\, SO23 9SD\, England
CATEGORIES:Ensemble 360,Rachel Roberts
ATTACH;FMTTYPE=image/jpeg:https://ensemble360.co.uk/wp-content/uploads/Ensemble_360_String_Quartet_Ref-4_please_credit_Kaupo_Kikkas-SMed-kNbOwj.jpg
END:VEVENT
END:VCALENDAR