BEGIN:VCALENDAR
VERSION:2.0
PRODID:-//Ensemble 360 - ECPv6.15.20//NONSGML v1.0//EN
CALSCALE:GREGORIAN
METHOD:PUBLISH
X-WR-CALNAME:Ensemble 360
X-ORIGINAL-URL:https://ensemble360.co.uk
X-WR-CALDESC:Events for Ensemble 360
REFRESH-INTERVAL;VALUE=DURATION:PT1H
X-Robots-Tag:noindex
X-PUBLISHED-TTL:PT1H
BEGIN:VTIMEZONE
TZID:Europe/London
BEGIN:DAYLIGHT
TZOFFSETFROM:+0000
TZOFFSETTO:+0100
TZNAME:BST
DTSTART:20250330T010000
END:DAYLIGHT
BEGIN:STANDARD
TZOFFSETFROM:+0100
TZOFFSETTO:+0000
TZNAME:GMT
DTSTART:20251026T010000
END:STANDARD
BEGIN:DAYLIGHT
TZOFFSETFROM:+0000
TZOFFSETTO:+0100
TZNAME:BST
DTSTART:20260329T010000
END:DAYLIGHT
BEGIN:STANDARD
TZOFFSETFROM:+0100
TZOFFSETTO:+0000
TZNAME:GMT
DTSTART:20261025T010000
END:STANDARD
BEGIN:DAYLIGHT
TZOFFSETFROM:+0000
TZOFFSETTO:+0100
TZNAME:BST
DTSTART:20270328T010000
END:DAYLIGHT
BEGIN:STANDARD
TZOFFSETFROM:+0100
TZOFFSETTO:+0000
TZNAME:GMT
DTSTART:20271031T010000
END:STANDARD
END:VTIMEZONE
BEGIN:VEVENT
DTSTART;TZID=Europe/London:20260303T130000
DTEND;TZID=Europe/London:20260303T130000
DTSTAMP:20260425T150213
CREATED:20251104T144715Z
LAST-MODIFIED:20260303T235150Z
UID:4291-1772542800-1772542800@ensemble360.co.uk
SUMMARY:Cardiff Classical Lunchtime Recitals: Cardiff
DESCRIPTION:Johann Sebastian Bach\, arr. Sitkovetsky: Goldberg Variations
URL:https://ensemble360.co.uk/concert/cardiff-classical-lunchtime-recitals-cardiff/
LOCATION:Eglwys Dewi Sant / Dewi Sant Church\, St Andrew's Crescent\, Cardiff\, CF10 3DD\, Wales
CATEGORIES:Ensemble 360,Rachel Roberts
ATTACH;FMTTYPE=image/jpeg:https://ensemble360.co.uk/wp-content/uploads/Ensemble_360_2024_ref_10_please_credit_Matthew_Johnson_and_Music_in_the_Round_String_Trio-zqd17m.jpg
END:VEVENT
BEGIN:VEVENT
DTSTART;TZID=Europe/London:20260308T113000
DTEND;TZID=Europe/London:20260308T113000
DTSTAMP:20260425T150213
CREATED:20260106T195048Z
LAST-MODIFIED:20260308T164033Z
UID:4512-1772969400-1772969400@ensemble360.co.uk
SUMMARY:Music in the Round: Leamington Spa
DESCRIPTION:Paul Rissmann: The Storm Whale
URL:https://ensemble360.co.uk/concert/music-in-the-round-leamington-spa-7/
LOCATION:Royal Spa Centre\, Leamington Spa\, CV32 4HN\, England
CATEGORIES:Ensemble 360,Robert Plane
ATTACH;FMTTYPE=image/png:https://ensemble360.co.uk/wp-content/uploads/MusicintheRoundLogo-Smed-H80vRQ.tmp_.png
END:VEVENT
BEGIN:VEVENT
DTSTART;TZID=Europe/London:20260308T150000
DTEND;TZID=Europe/London:20260308T150000
DTSTAMP:20260425T150213
CREATED:20251104T144719Z
LAST-MODIFIED:20260308T164034Z
UID:4324-1772982000-1772982000@ensemble360.co.uk
SUMMARY:Music in the Round: Leamington Spa
DESCRIPTION:Josef Suk: Piano Quartet in A minor\, op. 1Phyllis Tate: Sonata for Clarinet and CelloBohuslav Martinů: Three Madrigals for violin and viola\, H313Ernő Dohnányi: Sextet in C major\, op. 37
URL:https://ensemble360.co.uk/concert/music-in-the-round-leamington-spa-5/
LOCATION:Royal Spa Centre\, Leamington Spa\, CV32 4HN\, England
CATEGORIES:Ensemble 360,Robert Plane
ATTACH;FMTTYPE=image/png:https://ensemble360.co.uk/wp-content/uploads/MusicintheRoundLogo-Smed-H80vRQ.tmp_.png
END:VEVENT
BEGIN:VEVENT
DTSTART;TZID=Europe/London:20260314T190000
DTEND;TZID=Europe/London:20260314T190000
DTSTAMP:20260425T150213
CREATED:20251104T144719Z
LAST-MODIFIED:20260314T170459Z
UID:4325-1773514800-1773514800@ensemble360.co.uk
SUMMARY:Music in the Round: Sheffield
DESCRIPTION:Josef Suk: Piano Trio in C minor\, op. 2Lili Boulanger: D’un matin de PrintempsMichael Zev Gordon: Piano Quintet\, KintsugiIntervalAntonin Dvořák: Piano Quintet no. 2 in A major\, op. 81
URL:https://ensemble360.co.uk/concert/music-in-the-round-sheffield-73/
LOCATION:Upper Chapel\, Norfolk Street\, Sheffield\, S1 2JD\, England
CATEGORIES:Ensemble 360,Rachel Roberts,Tim Horton
ATTACH;FMTTYPE=image/png:https://ensemble360.co.uk/wp-content/uploads/MusicintheRoundLogo-Smed-H80vRQ.tmp_.png
END:VEVENT
BEGIN:VEVENT
DTSTART;TZID=Europe/London:20260316T110000
DTEND;TZID=Europe/London:20260316T110000
DTSTAMP:20260425T150213
CREATED:20251104T144719Z
LAST-MODIFIED:20260316T173342Z
UID:4326-1773658800-1773658800@ensemble360.co.uk
SUMMARY:Music in the Round: Milton Keynes
DESCRIPTION:Paul Rissmann: The Storm Whale
URL:https://ensemble360.co.uk/concert/music-in-the-round-milton-keynes-10/
LOCATION:The Stables\, Stockwell Lane\, Wavendon\, Milton Keynes\, MK17 8LU\, England
CATEGORIES:Ensemble 360,Robert Plane
ATTACH;FMTTYPE=image/png:https://ensemble360.co.uk/wp-content/uploads/MusicintheRoundLogo-Smed-H80vRQ.tmp_.png
END:VEVENT
BEGIN:VEVENT
DTSTART;TZID=Europe/London:20260316T130000
DTEND;TZID=Europe/London:20260316T130000
DTSTAMP:20260425T150213
CREATED:20251223T182027Z
LAST-MODIFIED:20260316T173342Z
UID:4491-1773666000-1773666000@ensemble360.co.uk
SUMMARY:Music in the Round: Milton Keynes
DESCRIPTION:Paul Rissmann: The Storm Whale
URL:https://ensemble360.co.uk/concert/music-in-the-round-milton-keynes-14/
LOCATION:The Stables\, Stockwell Lane\, Wavendon\, Milton Keynes\, MK17 8LU\, England
CATEGORIES:Ensemble 360,Robert Plane
ATTACH;FMTTYPE=image/png:https://ensemble360.co.uk/wp-content/uploads/MusicintheRoundLogo-Smed-H80vRQ.tmp_.png
END:VEVENT
BEGIN:VEVENT
DTSTART;TZID=Europe/London:20260316T200000
DTEND;TZID=Europe/London:20260316T200000
DTSTAMP:20260425T150213
CREATED:20251104T144719Z
LAST-MODIFIED:20260316T173342Z
UID:4327-1773691200-1773691200@ensemble360.co.uk
SUMMARY:Music in the Round: Milton Keynes
DESCRIPTION:Guillaume de Machaut: Ma fin est mon commencementAcr. Picforth: In NomineWolfgang Amadeus Mozart: Der Spiegel\, from Vier Spiegelkanons\, K. Anh.10.16John Cage: Book One\, from Music of ChangesArvo Pärt: Spiegel im spiegelClaude Debussy: Reflets dans l’eauBela Bartók: Quartet no. 4\, BB 95
URL:https://ensemble360.co.uk/concert/music-in-the-round-milton-keynes-11/
LOCATION:The Stables\, Stockwell Lane\, Wavendon\, Milton Keynes\, MK17 8LU\, England
CATEGORIES:Ensemble 360,Rachel Roberts,Tim Horton
ATTACH;FMTTYPE=image/png:https://ensemble360.co.uk/wp-content/uploads/MusicintheRoundLogo-Smed-H80vRQ.tmp_.png
END:VEVENT
BEGIN:VEVENT
DTSTART;TZID=Europe/London:20260323T193000
DTEND;TZID=Europe/London:20260323T193000
DTSTAMP:20260425T150213
CREATED:20251104T144720Z
LAST-MODIFIED:20260319T174949Z
UID:4328-1774294200-1774294200@ensemble360.co.uk
SUMMARY:Music in the Round: Hampshire
DESCRIPTION:Jasdeep Singh Degun & Ensemble 360 \nDegun Alaap + Veer for sitar\, tabla and string quintetDegun Abbhā  for sitar\, tabla and string quintetStravinsky II. Excentrique from ‘Three Pieces for String Quartet’Dvorak (arr. Nabarro) Indian Lament for string quintet Degun Rageshri for sitar\, tabla and string quintet Stravinsky I. Danse from ‘Three Pieces for String Quartet’ Degun Arya MII for sitar\, tabla and string quintet Stravinsky III. Cantique from ‘Three Pieces for String Quartet’ Degun Lament for sitar\, tabla and string quintet
URL:https://ensemble360.co.uk/concert/music-in-the-round-hampshire-11/
LOCATION:Portsmouth Guildhall\, Guildhall Square\, Hampshire\, PO1 2AB\, England
CATEGORIES:Ensemble 360,Rachel Roberts
ATTACH;FMTTYPE=image/png:https://ensemble360.co.uk/wp-content/uploads/MusicintheRoundLogo-Smed-H80vRQ.tmp_.png
END:VEVENT
END:VCALENDAR