BEGIN:VCALENDAR
VERSION:2.0
PRODID:-//Ensemble 360 - ECPv6.15.20//NONSGML v1.0//EN
CALSCALE:GREGORIAN
METHOD:PUBLISH
X-ORIGINAL-URL:https://ensemble360.co.uk
X-WR-CALDESC:Events for Ensemble 360
REFRESH-INTERVAL;VALUE=DURATION:PT1H
X-Robots-Tag:noindex
X-PUBLISHED-TTL:PT1H
BEGIN:VTIMEZONE
TZID:Europe/London
BEGIN:DAYLIGHT
TZOFFSETFROM:+0000
TZOFFSETTO:+0100
TZNAME:BST
DTSTART:20250330T010000
END:DAYLIGHT
BEGIN:STANDARD
TZOFFSETFROM:+0100
TZOFFSETTO:+0000
TZNAME:GMT
DTSTART:20251026T010000
END:STANDARD
BEGIN:DAYLIGHT
TZOFFSETFROM:+0000
TZOFFSETTO:+0100
TZNAME:BST
DTSTART:20260329T010000
END:DAYLIGHT
BEGIN:STANDARD
TZOFFSETFROM:+0100
TZOFFSETTO:+0000
TZNAME:GMT
DTSTART:20261025T010000
END:STANDARD
BEGIN:DAYLIGHT
TZOFFSETFROM:+0000
TZOFFSETTO:+0100
TZNAME:BST
DTSTART:20270328T010000
END:DAYLIGHT
BEGIN:STANDARD
TZOFFSETFROM:+0100
TZOFFSETTO:+0000
TZNAME:GMT
DTSTART:20271031T010000
END:STANDARD
END:VTIMEZONE
BEGIN:VEVENT
DTSTART;TZID=Europe/London:20260213T190000
DTEND;TZID=Europe/London:20260213T190000
DTSTAMP:20260425T163312
CREATED:20251104T144717Z
LAST-MODIFIED:20260213T230305Z
UID:4312-1771009200-1771009200@ensemble360.co.uk
SUMMARY:Music in the Round: Sheffield
DESCRIPTION:Guillaume de Machaut: Ma fin est mon commencementPicforth: In NomineWolfgang Amadeus Mozart: Der Spiegel\, from Vier Spiegelkanons\, K. Anh.10.16John Cage: Book One\, from Music of ChangesArvo Pärt: Spiegel im spiegelIntervalClaude Debussy: Reflets dans l’eauWolfgang Amadeus Mozart: Sonata for Bassoon and Cello in B flat major\, K. 292Bela Bartók: Quartet no. 4\, BB 95
URL:https://ensemble360.co.uk/concert/music-in-the-round-sheffield-70/
LOCATION:Upper Chapel\, Norfolk Street\, Sheffield\, S1 2JD\, England
CATEGORIES:Ensemble 360,Rachel Roberts,Tim Horton
ATTACH;FMTTYPE=image/png:https://ensemble360.co.uk/wp-content/uploads/MusicintheRoundLogo-Smed-H80vRQ.tmp_.png
END:VEVENT
BEGIN:VEVENT
DTSTART;TZID=Europe/London:20260214T190000
DTEND;TZID=Europe/London:20260214T190000
DTSTAMP:20260425T163312
CREATED:20251104T144717Z
LAST-MODIFIED:20260214T230354Z
UID:4313-1771095600-1771095600@ensemble360.co.uk
SUMMARY:Music in the Round: Sheffield
DESCRIPTION:Kevin Volans: AsangaDavid Horne: PulseAndy Akiho: SpeilToshio Hosokawa: ReminiscenceBryce Dessner: Tromp MiniatureRolf Wallin: Realismos MagicosIntervalAndy Akiho: AluminousRobert Honstein: Continuous InteriorSam Adams: Sundial
URL:https://ensemble360.co.uk/concert/music-in-the-round-sheffield-71/
LOCATION:Upper Chapel\, Norfolk Street\, Sheffield\, S1 2JD\, England
CATEGORIES:Ensemble 360,Rachel Roberts
ATTACH;FMTTYPE=image/png:https://ensemble360.co.uk/wp-content/uploads/MusicintheRoundLogo-Smed-H80vRQ.tmp_.png
END:VEVENT
BEGIN:VEVENT
DTSTART;TZID=Europe/London:20260218T110000
DTEND;TZID=Europe/London:20260218T110000
DTSTAMP:20260425T163312
CREATED:20251104T144717Z
LAST-MODIFIED:20260218T230340Z
UID:4314-1771412400-1771412400@ensemble360.co.uk
SUMMARY:Music in the Round: Nottinghamshire
DESCRIPTION:Paul Rissmann: The Storm Whale
URL:https://ensemble360.co.uk/concert/music-in-the-round-nottinghamshire-9/
LOCATION:Mansfield Palace Theatre\, Leeming Street\, Mansfield\, Nottinghamshire\, NG18 1NJ\, England
CATEGORIES:Ensemble 360,Robert Plane
ATTACH;FMTTYPE=image/png:https://ensemble360.co.uk/wp-content/uploads/MusicintheRoundLogo-Smed-H80vRQ.tmp_.png
END:VEVENT
BEGIN:VEVENT
DTSTART;TZID=Europe/London:20260218T193000
DTEND;TZID=Europe/London:20260218T193000
DTSTAMP:20260425T163312
CREATED:20251104T144718Z
LAST-MODIFIED:20260218T230341Z
UID:4315-1771443000-1771443000@ensemble360.co.uk
SUMMARY:Music in the Round: Nottinghamshire
DESCRIPTION:Benjamin Britten: Three DivertimentiJohannes Brahms: Clarinet Quintet in B minor\, op. 115Ludwig van Beethoven: Quartet no. 8 in E minor\, op. 59\, no. 2\, Rasumovsky
URL:https://ensemble360.co.uk/concert/music-in-the-round-nottinghamshire-10/
LOCATION:Mansfield Palace Theatre\, Leeming Street\, Mansfield\, Nottinghamshire\, NG18 1NJ\, England
CATEGORIES:Ensemble 360,Rachel Roberts,Robert Plane
ATTACH;FMTTYPE=image/png:https://ensemble360.co.uk/wp-content/uploads/MusicintheRoundLogo-Smed-H80vRQ.tmp_.png
END:VEVENT
BEGIN:VEVENT
DTSTART;TZID=Europe/London:20260220T193000
DTEND;TZID=Europe/London:20260220T193000
DTSTAMP:20260425T163312
CREATED:20251104T144718Z
LAST-MODIFIED:20260220T231828Z
UID:4316-1771615800-1771615800@ensemble360.co.uk
SUMMARY:Music in the Round: Barnsley
DESCRIPTION:Benjamin Britten: Three DivertimentiWolfgang Amadeus Mozart: String Quartet in D Major\, K. 499\, HoffmeisterIntervalLudwig van Beethoven: Quartet no. 8 in E minor\, op. 59\, no. 2\, Rasumovsky
URL:https://ensemble360.co.uk/concert/music-in-the-round-barnsley-12/
LOCATION:Emmanuel Church\, Barnsley\, Huddersfield Road\, Barnsley\, S75 1DT\, England
CATEGORIES:Ensemble 360,Rachel Roberts
ATTACH;FMTTYPE=image/png:https://ensemble360.co.uk/wp-content/uploads/MusicintheRoundLogo-Smed-H80vRQ.tmp_.png
END:VEVENT
BEGIN:VEVENT
DTSTART;TZID=Europe/London:20260221T110000
DTEND;TZID=Europe/London:20260221T110000
DTSTAMP:20260425T163312
CREATED:20251104T144718Z
LAST-MODIFIED:20260221T232206Z
UID:4317-1771671600-1771671600@ensemble360.co.uk
SUMMARY:Music in the Round: Doncaster
DESCRIPTION:Excerpts from: \nFranz Schubert: Quartet in D minor\, D. 810 – Death and the MaidenIgor Stravinsky: Stravinsky 3 pieces for String QuartetFranz Joseph Haydn: Quartet no. 32 in C major\, op. 33\, no.3\, Hob.III:39\, The BirdWolfgang Amadeus Mozart: String Quartet no. 16 in Eb Major\, K428Judith Weir: String QuartetAnna Meredith: A Short Tribute to Teenage FanclubIntervalTrad.\, arr. Burleigh: My Lord\, what a morningJosef Suk: Meditation on an Old Czech Hymn ‘St Wenceslas’\, op. 35aLudwig van Beethoven: Quartet no. 16 in F major\, op. 135Antonin Dvořák: Quartet no. 12 in F major\, op. 96\, B. 179\, American
URL:https://ensemble360.co.uk/concert/music-in-the-round-doncaster-11/
LOCATION:Cast\, Second Space\, Waterdale\, Doncaster\, DN1 3BU\, England
CATEGORIES:Ensemble 360,Rachel Roberts
ATTACH;FMTTYPE=image/png:https://ensemble360.co.uk/wp-content/uploads/MusicintheRoundLogo-Smed-H80vRQ.tmp_.png
END:VEVENT
BEGIN:VEVENT
DTSTART;TZID=Europe/London:20260221T191500
DTEND;TZID=Europe/London:20260221T191500
DTSTAMP:20260425T163312
CREATED:20251104T144718Z
LAST-MODIFIED:20260221T232207Z
UID:4318-1771701300-1771701300@ensemble360.co.uk
SUMMARY:Music in the Round: Doncaster
DESCRIPTION:Benjamin Britten: Three DivertimentiWolfgang Amadeus Mozart: String Quartet in D Major\, K. 499\, HoffmeisterIntervalLudwig van Beethoven: Quartet no. 8 in E minor\, op. 59\, no. 2\, Rasumovsky
URL:https://ensemble360.co.uk/concert/music-in-the-round-doncaster-12/
LOCATION:Cast\, Second Space\, Waterdale\, Doncaster\, DN1 3BU\, England
CATEGORIES:Ensemble 360,Rachel Roberts
ATTACH;FMTTYPE=image/png:https://ensemble360.co.uk/wp-content/uploads/MusicintheRoundLogo-Smed-H80vRQ.tmp_.png
END:VEVENT
BEGIN:VEVENT
DTSTART;TZID=Europe/London:20260222T110000
DTEND;TZID=Europe/London:20260222T110000
DTSTAMP:20260425T163312
CREATED:20251104T144719Z
LAST-MODIFIED:20260222T233339Z
UID:4319-1771758000-1771758000@ensemble360.co.uk
SUMMARY:Music in the Round: East Riding of Yorkshire
DESCRIPTION:The Storm Whale
URL:https://ensemble360.co.uk/concert/music-in-the-round-east-riding-of-yorkshire-17/
LOCATION:Junction Goole\, Paradise Place\, East Riding of Yorkshire\, DN14 5DL\, England
CATEGORIES:Ensemble 360
ATTACH;FMTTYPE=image/png:https://ensemble360.co.uk/wp-content/uploads/MusicintheRoundLogo-Smed-H80vRQ.tmp_.png
END:VEVENT
BEGIN:VEVENT
DTSTART;TZID=Europe/London:20260222T130000
DTEND;TZID=Europe/London:20260222T130000
DTSTAMP:20260425T163312
CREATED:20251104T144719Z
LAST-MODIFIED:20260222T233340Z
UID:4320-1771765200-1771765200@ensemble360.co.uk
SUMMARY:Music in the Round: East Riding of Yorkshire
DESCRIPTION:Paul Rissmann: The Storm Whale
URL:https://ensemble360.co.uk/concert/music-in-the-round-east-riding-of-yorkshire-18/
LOCATION:Junction Goole\, Paradise Place\, East Riding of Yorkshire\, DN14 5DL\, England
CATEGORIES:Ensemble 360
ATTACH;FMTTYPE=image/png:https://ensemble360.co.uk/wp-content/uploads/MusicintheRoundLogo-Smed-H80vRQ.tmp_.png
END:VEVENT
BEGIN:VEVENT
DTSTART;TZID=Europe/London:20260222T150000
DTEND;TZID=Europe/London:20260222T150000
DTSTAMP:20260425T163312
CREATED:20251104T144719Z
LAST-MODIFIED:20260222T233340Z
UID:4321-1771772400-1771772400@ensemble360.co.uk
SUMMARY:Music in the Round: East Riding of Yorkshire
DESCRIPTION:Benjamin Britten: Three DivertimentiWolfgang Amadeus Mozart: String Quartet in D Major\, K. 499\, HoffmeisterLudwig van Beethoven: Quartet no. 8 in E minor\, op. 59\, no. 2\, Rasumovsky
URL:https://ensemble360.co.uk/concert/music-in-the-round-east-riding-of-yorkshire-19/
LOCATION:Junction Goole\, Paradise Place\, East Riding of Yorkshire\, DN14 5DL\, England
CATEGORIES:Ensemble 360
ATTACH;FMTTYPE=image/png:https://ensemble360.co.uk/wp-content/uploads/MusicintheRoundLogo-Smed-H80vRQ.tmp_.png
END:VEVENT
BEGIN:VEVENT
DTSTART;TZID=Europe/London:20260222T170000
DTEND;TZID=Europe/London:20260222T170000
DTSTAMP:20260425T163312
CREATED:20251104T144719Z
LAST-MODIFIED:20260222T233341Z
UID:4322-1771779600-1771779600@ensemble360.co.uk
SUMMARY:Music in the Round: East Riding of Yorkshire
DESCRIPTION:Benjamin Britten: Three DivertimentiWolfgang Amadeus Mozart: String Quartet in D Major\, K. 499\, HoffmeisterLudwig van Beethoven: Quartet no. 8 in E minor\, op. 59\, no. 2\, Rasumovsky
URL:https://ensemble360.co.uk/concert/music-in-the-round-east-riding-of-yorkshire-20/
LOCATION:Junction Goole\, Paradise Place\, East Riding of Yorkshire\, DN14 5DL\, England
CATEGORIES:Ensemble 360
ATTACH;FMTTYPE=image/png:https://ensemble360.co.uk/wp-content/uploads/MusicintheRoundLogo-Smed-H80vRQ.tmp_.png
END:VEVENT
BEGIN:VEVENT
DTSTART;TZID=Europe/London:20260226T190000
DTEND;TZID=Europe/London:20260226T190000
DTSTAMP:20260425T163312
CREATED:20251104T144719Z
LAST-MODIFIED:20260224T233509Z
UID:4323-1772132400-1772132400@ensemble360.co.uk
SUMMARY:Music in the Round: Sheffield
DESCRIPTION:Claude Debussy: En blanc et noirMaurice Ravel: La ValseSergey Rachmaninov: Symphonic Dances\, op. 45
URL:https://ensemble360.co.uk/concert/music-in-the-round-sheffield-72/
LOCATION:Crucible Playhouse\, Crucible Theatre\, Sheffield\, S1 1DA\, England
CATEGORIES:Ensemble 360,Tim Horton
ATTACH;FMTTYPE=image/png:https://ensemble360.co.uk/wp-content/uploads/MusicintheRoundLogo-Smed-H80vRQ.tmp_.png
END:VEVENT
END:VCALENDAR