BEGIN:VCALENDAR
VERSION:2.0
PRODID:-//Ensemble 360 - ECPv6.15.20//NONSGML v1.0//EN
CALSCALE:GREGORIAN
METHOD:PUBLISH
X-WR-CALNAME:Ensemble 360
X-ORIGINAL-URL:https://ensemble360.co.uk
X-WR-CALDESC:Events for Ensemble 360
REFRESH-INTERVAL;VALUE=DURATION:PT1H
X-Robots-Tag:noindex
X-PUBLISHED-TTL:PT1H
BEGIN:VTIMEZONE
TZID:Europe/London
BEGIN:DAYLIGHT
TZOFFSETFROM:+0000
TZOFFSETTO:+0100
TZNAME:BST
DTSTART:20250330T010000
END:DAYLIGHT
BEGIN:STANDARD
TZOFFSETFROM:+0100
TZOFFSETTO:+0000
TZNAME:GMT
DTSTART:20251026T010000
END:STANDARD
BEGIN:DAYLIGHT
TZOFFSETFROM:+0000
TZOFFSETTO:+0100
TZNAME:BST
DTSTART:20260329T010000
END:DAYLIGHT
BEGIN:STANDARD
TZOFFSETFROM:+0100
TZOFFSETTO:+0000
TZNAME:GMT
DTSTART:20261025T010000
END:STANDARD
BEGIN:DAYLIGHT
TZOFFSETFROM:+0000
TZOFFSETTO:+0100
TZNAME:BST
DTSTART:20270328T010000
END:DAYLIGHT
BEGIN:STANDARD
TZOFFSETFROM:+0100
TZOFFSETTO:+0000
TZNAME:GMT
DTSTART:20271031T010000
END:STANDARD
END:VTIMEZONE
BEGIN:VEVENT
DTSTART;TZID=Europe/London:20260115T190000
DTEND;TZID=Europe/London:20260115T190000
DTSTAMP:20260425T181104
CREATED:20251104T144715Z
LAST-MODIFIED:20260115T203508Z
UID:4294-1768503600-1768503600@ensemble360.co.uk
SUMMARY:Music in the Round: Sheffield
DESCRIPTION:Wolfgang Amadeus Mozart: Horn Quintet in E flat major\, K. 407Wolfgang Amadeus Mozart: String Quintet no. 4 in G minor\, K. 516IntervalWolfgang Amadeus Mozart: Clarinet Quintet in A major\, K. 581
URL:https://ensemble360.co.uk/concert/music-in-the-round-sheffield-68/
LOCATION:Crucible Playhouse\, Crucible Theatre\, Sheffield\, S1 1DA\, England
CATEGORIES:Ensemble 360,Rachel Roberts,Robert Plane
ATTACH;FMTTYPE=image/png:https://ensemble360.co.uk/wp-content/uploads/MusicintheRoundLogo-Smed-H80vRQ.tmp_.png
END:VEVENT
BEGIN:VEVENT
DTSTART;TZID=Europe/London:20260119T133000
DTEND;TZID=Europe/London:20260119T133000
DTSTAMP:20260425T181104
CREATED:20251104T144715Z
LAST-MODIFIED:20260119T203349Z
UID:4295-1768829400-1768829400@ensemble360.co.uk
SUMMARY:Music in the Round: Hampshire
DESCRIPTION:The Storm Whale
URL:https://ensemble360.co.uk/concert/music-in-the-round-hampshire-9/
LOCATION:Portsmouth Guildhall\, Guildhall Square\, Hampshire\, PO1 2AB\, England
CATEGORIES:Ensemble 360,Robert Plane
ATTACH;FMTTYPE=image/png:https://ensemble360.co.uk/wp-content/uploads/MusicintheRoundLogo-Smed-H80vRQ.tmp_.png
END:VEVENT
BEGIN:VEVENT
DTSTART;TZID=Europe/London:20260119T193000
DTEND;TZID=Europe/London:20260119T193000
DTSTAMP:20260425T181104
CREATED:20251104T144717Z
LAST-MODIFIED:20260119T203350Z
UID:4310-1768851000-1768851000@ensemble360.co.uk
SUMMARY:Music in the Round: Hampshire
DESCRIPTION:Imogen Holst: Phantasy String QuartetBenjamin Britten: Three DivertimentiJosef Holbrooke: Eilean Shona op.74Herbert Howells: Phantasy String Quartet op. 25IntervalHenry Purcell\, arr. Peter Warlock: Three-Part Fantasias no. 1-3Pamela Harrison: Quintet for clarinet and stringsRalph Vaughan Williams\, arr. Martin Gerigk: The Lark Ascending
URL:https://ensemble360.co.uk/concert/music-in-the-round-hampshire-10/
LOCATION:Portsmouth Guildhall\, Guildhall Square\, Hampshire\, PO1 2AB\, England
CATEGORIES:Ensemble 360,Rachel Roberts,Robert Plane
ATTACH;FMTTYPE=image/png:https://ensemble360.co.uk/wp-content/uploads/MusicintheRoundLogo-Smed-H80vRQ.tmp_.png
END:VEVENT
BEGIN:VEVENT
DTSTART;TZID=Europe/London:20260131T140000
DTEND;TZID=Europe/London:20260131T140000
DTSTAMP:20260425T181104
CREATED:20251104T144717Z
LAST-MODIFIED:20260131T213531Z
UID:4311-1769868000-1769868000@ensemble360.co.uk
SUMMARY:Music in the Round: Sheffield
DESCRIPTION:
URL:https://ensemble360.co.uk/concert/music-in-the-round-sheffield-69/
LOCATION:Upper Chapel\, Norfolk Street\, Sheffield\, S1 2JD\, England
CATEGORIES:Ensemble 360
ATTACH;FMTTYPE=image/png:https://ensemble360.co.uk/wp-content/uploads/MusicintheRoundLogo-Smed-H80vRQ.tmp_.png
END:VEVENT
END:VCALENDAR