BEGIN:VCALENDAR
VERSION:2.0
PRODID:-//Ensemble 360 - ECPv6.15.20//NONSGML v1.0//EN
CALSCALE:GREGORIAN
METHOD:PUBLISH
X-WR-CALNAME:Ensemble 360
X-ORIGINAL-URL:https://ensemble360.co.uk
X-WR-CALDESC:Events for Ensemble 360
REFRESH-INTERVAL;VALUE=DURATION:PT1H
X-Robots-Tag:noindex
X-PUBLISHED-TTL:PT1H
BEGIN:VTIMEZONE
TZID:Europe/London
BEGIN:DAYLIGHT
TZOFFSETFROM:+0000
TZOFFSETTO:+0100
TZNAME:BST
DTSTART:20240331T010000
END:DAYLIGHT
BEGIN:STANDARD
TZOFFSETFROM:+0100
TZOFFSETTO:+0000
TZNAME:GMT
DTSTART:20241027T010000
END:STANDARD
BEGIN:DAYLIGHT
TZOFFSETFROM:+0000
TZOFFSETTO:+0100
TZNAME:BST
DTSTART:20250330T010000
END:DAYLIGHT
BEGIN:STANDARD
TZOFFSETFROM:+0100
TZOFFSETTO:+0000
TZNAME:GMT
DTSTART:20251026T010000
END:STANDARD
BEGIN:DAYLIGHT
TZOFFSETFROM:+0000
TZOFFSETTO:+0100
TZNAME:BST
DTSTART:20260329T010000
END:DAYLIGHT
BEGIN:STANDARD
TZOFFSETFROM:+0100
TZOFFSETTO:+0000
TZNAME:GMT
DTSTART:20261025T010000
END:STANDARD
END:VTIMEZONE
BEGIN:VEVENT
DTSTART;TZID=Europe/London:20251206T140000
DTEND;TZID=Europe/London:20251206T140000
DTSTAMP:20260425T193326
CREATED:20251104T144715Z
LAST-MODIFIED:20251205T235927Z
UID:4287-1765029600-1765029600@ensemble360.co.uk
SUMMARY:Music in the Round: Sheffield
DESCRIPTION:Ludwig van Beethoven: Sonata no. 3 in A major\, op. 69Ludwig van Beethoven: Trio no. 4 in B flat\, op. 11\, Gassenhauer
URL:https://ensemble360.co.uk/concert/music-in-the-round-sheffield-66/
LOCATION:Crucible Playhouse\, Crucible Theatre\, Sheffield\, S1 1DA\, England
CATEGORIES:Ensemble 360,Robert Plane,Tim Horton
ATTACH;FMTTYPE=image/png:https://ensemble360.co.uk/wp-content/uploads/MusicintheRoundLogo-Smed-H80vRQ.tmp_.png
END:VEVENT
BEGIN:VEVENT
DTSTART;TZID=Europe/London:20251206T190000
DTEND;TZID=Europe/London:20251206T190000
DTSTAMP:20260425T193326
CREATED:20251104T144715Z
LAST-MODIFIED:20251205T235928Z
UID:4292-1765047600-1765047600@ensemble360.co.uk
SUMMARY:Music in the Round: Sheffield
DESCRIPTION:Ludwig van Beethoven: Sonata no. 3 in A major\, op. 69Ludwig van Beethoven: Trio no. 4 in B flat\, op. 11\, GassenhauerIntervalLudwig van Beethoven: Quartet in A minor\, op. 132
URL:https://ensemble360.co.uk/concert/music-in-the-round-sheffield-67/
LOCATION:Crucible Main House\, Crucible Theatre\, Sheffield\, S1 1DA\, England
CATEGORIES:Ensemble 360,Rachel Roberts,Robert Plane,Tim Horton
ATTACH;FMTTYPE=image/png:https://ensemble360.co.uk/wp-content/uploads/MusicintheRoundLogo-Smed-H80vRQ.tmp_.png
END:VEVENT
BEGIN:VEVENT
DTSTART;TZID=Europe/London:20251219T193000
DTEND;TZID=Europe/London:20251219T193000
DTSTAMP:20260425T193326
CREATED:20251119T223311Z
LAST-MODIFIED:20251219T174034Z
UID:4423-1766172600-1766172600@ensemble360.co.uk
SUMMARY:Hampstead Arts Festival: London
DESCRIPTION:Benjamin Nabarro (violin)\, Claudia Ajmone-Marsan (violin)\, Rachel Roberts (viola)\, Gemma Rosefield (cello)\, Robert Plane (clarinet)\, Naomi Atherton (horn)\, Emily Hultmark (bassoon)\, Enno Senft (double bass) \nBenjamin Britten: Three DivertimentiWolfgang Amadeus Mozart: Clarinet Quintet in A major\, K. 581Ludwig van Beethoven: Septet in E flat major\, op. 20
URL:https://ensemble360.co.uk/concert/hampstead-arts-festival-london/
LOCATION:St John-at-Hampstead\, Church Row\, London\, NW3 6UU\, England
CATEGORIES:Ensemble 360,Rachel Roberts,Robert Plane
ATTACH;FMTTYPE=image/jpeg:https://ensemble360.co.uk/wp-content/uploads/Ensemble_360_2024_ref_9_and_ref_6_please_credit_Matthew_Johnson_and_Music_in_the_Round_Clarinet_and_String_Quartet_and_Piano_montage_smed-djsvnm.jpg
END:VEVENT
BEGIN:VEVENT
DTSTART;TZID=Europe/London:20251220T110000
DTEND;TZID=Europe/London:20251220T110000
DTSTAMP:20260425T193326
CREATED:20251119T223311Z
LAST-MODIFIED:20251220T181212Z
UID:4426-1766228400-1766228400@ensemble360.co.uk
SUMMARY:Hampstead Arts Festival: London
DESCRIPTION:Lucy Drever (narrator) Benjamin Nabarro (violin) Gemma Rosefield (cello) Robert Plane Iclarinet) Naomi Atherton (horn) Tim Horton (piano) \nPaul Rissmann: Sir Scallywag and The Battle Of Stinky Bottom; Giles Andreae (words)\, Korky Paul (illustrations)
URL:https://ensemble360.co.uk/concert/hampstead-arts-festival-london-2/
LOCATION:Rosslyn Hill Chapel\, 3 Pilgrim's Lane\, London\, NW3 1NG\, England
CATEGORIES:Ensemble 360,Robert Plane,Tim Horton
ATTACH;FMTTYPE=image/jpeg:https://ensemble360.co.uk/wp-content/uploads/Ensemble_360_2024_ref_6_please_credit_Matthew_Johnson_and_Music_in_the_Round_4_Winds_and_Piano-RM7QII.jpg
END:VEVENT
BEGIN:VEVENT
DTSTART;TZID=Europe/London:20251220T180000
DTEND;TZID=Europe/London:20251220T180000
DTSTAMP:20260425T193326
CREATED:20251119T223311Z
LAST-MODIFIED:20251220T181213Z
UID:4428-1766253600-1766253600@ensemble360.co.uk
SUMMARY:Hampstead Arts Festival: London
DESCRIPTION:Angus Cooper (narrator)\, Benjamin Nabarro (violin)\, Claudia Ajmone-Marsan (violin)\, Rachel Roberts (viola) Gemma Rosefield (cello) Tim Horton (piano) \nLeos Janáček: String Quartet no. 2\, Intimate LettersAntonin Dvořák: Piano Quintet no. 2 in A major\, op. 81
URL:https://ensemble360.co.uk/concert/hampstead-arts-festival-london-3/
LOCATION:Rosslyn Hill Chapel\, 3 Pilgrim's Lane\, London\, NW3 1NG\, England
CATEGORIES:Ensemble 360,Rachel Roberts,Tim Horton
ATTACH;FMTTYPE=image/jpeg:https://ensemble360.co.uk/wp-content/uploads/Ensemble_360_Strings_Piano_Ref-2_please_credit_Kaupo_Kikkas-SMed-vw4ITN.tmp_.jpg
END:VEVENT
BEGIN:VEVENT
DTSTART;TZID=Europe/London:20251221T113000
DTEND;TZID=Europe/London:20251221T113000
DTSTAMP:20260425T193326
CREATED:20251119T223312Z
LAST-MODIFIED:20251221T181928Z
UID:4430-1766316600-1766316600@ensemble360.co.uk
SUMMARY:Hampstead Arts Festival: London
DESCRIPTION:Benjamin Nabarro (violin)\, Rachel Roberts (viola)\, Gemma Rosefield (cello) \nJohann Sebastian Bach\, arr. Sitkovetsky: Goldberg Variations
URL:https://ensemble360.co.uk/concert/hampstead-arts-festival-london-4/
LOCATION:Keats House\, 10 Keats Grove\, London\, NW3 2RR\, England
CATEGORIES:Ensemble 360,Rachel Roberts
ATTACH;FMTTYPE=image/jpeg:https://ensemble360.co.uk/wp-content/uploads/Ensemble_360_2024_ref_13_please_credit_Matthew_Johnson_and_Music_in_the_Round_String_Trio-VJVkGv.jpg
END:VEVENT
BEGIN:VEVENT
DTSTART;TZID=Europe/London:20251221T150000
DTEND;TZID=Europe/London:20251221T150000
DTSTAMP:20260425T193326
CREATED:20251119T223312Z
LAST-MODIFIED:20251221T181928Z
UID:4433-1766329200-1766329200@ensemble360.co.uk
SUMMARY:Hampstead Arts Festival: London
DESCRIPTION:Benjamin Nabarro (violin)\, Claudia Ajmone-Marsan (violin)\, Rachel Roberts (viola)\, Gemma Rosefield (cello)\, Tim Horton (piano) \nFanny Mendelssohn: Fantasia in G MinorHuw Watkins: Piano Trio no. 2Robert Schumann: Piano Quintet in E flat major\, op. 44
URL:https://ensemble360.co.uk/concert/hampstead-arts-festival-london-5/
LOCATION:Waterlow Hall\, South Hampstead High School\, London\, NW3 5SS\, England
CATEGORIES:Ensemble 360,Rachel Roberts,Tim Horton
ATTACH;FMTTYPE=image/jpeg:https://ensemble360.co.uk/wp-content/uploads/Ensemble_360_2024_ref_9_please_credit_Matthew_Johnson_and_Music_in_the_Round_String_Quartet_and_Piano_smed-Rm7Qb3.tmp_.jpg
END:VEVENT
END:VCALENDAR