BEGIN:VCALENDAR
VERSION:2.0
PRODID:-//Ensemble 360 - ECPv6.15.20//NONSGML v1.0//EN
CALSCALE:GREGORIAN
METHOD:PUBLISH
X-WR-CALNAME:Ensemble 360
X-ORIGINAL-URL:https://ensemble360.co.uk
X-WR-CALDESC:Events for Ensemble 360
REFRESH-INTERVAL;VALUE=DURATION:PT1H
X-Robots-Tag:noindex
X-PUBLISHED-TTL:PT1H
BEGIN:VTIMEZONE
TZID:Europe/London
BEGIN:DAYLIGHT
TZOFFSETFROM:+0000
TZOFFSETTO:+0100
TZNAME:BST
DTSTART:20240331T010000
END:DAYLIGHT
BEGIN:STANDARD
TZOFFSETFROM:+0100
TZOFFSETTO:+0000
TZNAME:GMT
DTSTART:20241027T010000
END:STANDARD
BEGIN:DAYLIGHT
TZOFFSETFROM:+0000
TZOFFSETTO:+0100
TZNAME:BST
DTSTART:20250330T010000
END:DAYLIGHT
BEGIN:STANDARD
TZOFFSETFROM:+0100
TZOFFSETTO:+0000
TZNAME:GMT
DTSTART:20251026T010000
END:STANDARD
BEGIN:DAYLIGHT
TZOFFSETFROM:+0000
TZOFFSETTO:+0100
TZNAME:BST
DTSTART:20260329T010000
END:DAYLIGHT
BEGIN:STANDARD
TZOFFSETFROM:+0100
TZOFFSETTO:+0000
TZNAME:GMT
DTSTART:20261025T010000
END:STANDARD
END:VTIMEZONE
BEGIN:VEVENT
DTSTART;TZID=Europe/London:20250920T190000
DTEND;TZID=Europe/London:20250920T190000
DTSTAMP:20260426T000649
CREATED:20250425T081305Z
LAST-MODIFIED:20250615T172257Z
UID:4018-1758394800-1758394800@ensemble360.co.uk
SUMMARY:Horsham Music Circle: West Sussex
DESCRIPTION:
URL:https://ensemble360.co.uk/concert/horsham-music-circle-west-sussex/
LOCATION:St Mary’s Church\, Horsham\, Causeway\, Horsham\, West Sussex\, RH12 1HE\, England
CATEGORIES:Ensemble 360,Rachel Roberts,Tim Horton
ATTACH;FMTTYPE=image/jpeg:https://ensemble360.co.uk/wp-content/uploads/360-and-Will-Duerden-sm-mBjFVo.tmp_.jpg
END:VEVENT
BEGIN:VEVENT
DTSTART;TZID=Europe/London:20250925T133000
DTEND;TZID=Europe/London:20250925T133000
DTSTAMP:20260426T000649
CREATED:20250528T193854Z
LAST-MODIFIED:20250615T172257Z
UID:4154-1758807000-1758807000@ensemble360.co.uk
SUMMARY:Music in the Round: Nottinghamshire
DESCRIPTION:Giddy Goat (schools)
URL:https://ensemble360.co.uk/concert/music-in-the-round-nottinghamshire-7/
LOCATION:Mansfield Palace Theatre\, Leeming Street\, Mansfield\, Nottinghamshire\, NG18 1NJ\, England
CATEGORIES:Ensemble 360,Robert Plane
ATTACH;FMTTYPE=image/png:https://ensemble360.co.uk/wp-content/uploads/MusicintheRoundLogo-Smed-H80vRQ.tmp_.png
END:VEVENT
BEGIN:VEVENT
DTSTART;TZID=Europe/London:20250925T193000
DTEND;TZID=Europe/London:20250925T193000
DTSTAMP:20260426T000649
CREATED:20250528T193855Z
LAST-MODIFIED:20250615T172258Z
UID:4155-1758828600-1758828600@ensemble360.co.uk
SUMMARY:Music in the Round: Nottinghamshire
DESCRIPTION:
URL:https://ensemble360.co.uk/concert/music-in-the-round-nottinghamshire-8/
LOCATION:Mansfield Palace Theatre\, Leeming Street\, Mansfield\, Nottinghamshire\, NG18 1NJ\, England
CATEGORIES:Ensemble 360,Robert Plane
ATTACH;FMTTYPE=image/png:https://ensemble360.co.uk/wp-content/uploads/MusicintheRoundLogo-Smed-H80vRQ.tmp_.png
END:VEVENT
BEGIN:VEVENT
DTSTART;TZID=Europe/London:20250926T130000
DTEND;TZID=Europe/London:20250926T130000
DTSTAMP:20260426T000649
CREATED:20250501T172216Z
LAST-MODIFIED:20250615T172258Z
UID:4107-1758891600-1758891600@ensemble360.co.uk
SUMMARY:Music in the Round: Sheffield
DESCRIPTION:Wolfgang Amadeus Mozart: Sonata in E Minor\, K. 304Robert Schumann: F-A-E sonata\, II. IntermezziWolfgang Amadeus Mozart: Violin Sonata no. 18 in G major\, K. 301Robert Schumann: Sonata no. 1 for Violin and Piano in A minor\, op. 105Wolfgang Amadeus Mozart: Violin Sonata no. 22 in A major\, K. 305
URL:https://ensemble360.co.uk/concert/music-in-the-round-sheffield-54/
LOCATION:Upper Chapel\, Norfolk Street\, Sheffield\, S1 2JD\, England
CATEGORIES:Ensemble 360,Tim Horton
ATTACH;FMTTYPE=image/png:https://ensemble360.co.uk/wp-content/uploads/MusicintheRoundLogo-Smed-H80vRQ.tmp_.png
END:VEVENT
BEGIN:VEVENT
DTSTART;TZID=Europe/London:20250926T190000
DTEND;TZID=Europe/London:20250926T190000
DTSTAMP:20260426T000649
CREATED:20250501T172217Z
LAST-MODIFIED:20250615T172258Z
UID:4108-1758913200-1758913200@ensemble360.co.uk
SUMMARY:Music in the Round: Sheffield
DESCRIPTION:Wolfgang Amadeus Mozart: Sonata in E Minor\, K. 304Robert Schumann: F-A-E sonata\, II. IntermezziWolfgang Amadeus Mozart: Violin Sonata no. 18 in G major\, K. 301Robert Schumann: Sonata no. 1 for Violin and Piano in A minor\, op. 105Wolfgang Amadeus Mozart: Violin Sonata no. 22 in A major\, K. 305
URL:https://ensemble360.co.uk/concert/music-in-the-round-sheffield-55/
LOCATION:Upper Chapel\, Norfolk Street\, Sheffield\, S1 2JD\, England
CATEGORIES:Ensemble 360,Tim Horton
ATTACH;FMTTYPE=image/png:https://ensemble360.co.uk/wp-content/uploads/MusicintheRoundLogo-Smed-H80vRQ.tmp_.png
END:VEVENT
END:VCALENDAR