BEGIN:VCALENDAR
VERSION:2.0
PRODID:-//Ensemble 360 - ECPv6.15.20//NONSGML v1.0//EN
CALSCALE:GREGORIAN
METHOD:PUBLISH
X-ORIGINAL-URL:https://ensemble360.co.uk
X-WR-CALDESC:Events for Ensemble 360
REFRESH-INTERVAL;VALUE=DURATION:PT1H
X-Robots-Tag:noindex
X-PUBLISHED-TTL:PT1H
BEGIN:VTIMEZONE
TZID:Europe/London
BEGIN:DAYLIGHT
TZOFFSETFROM:+0000
TZOFFSETTO:+0100
TZNAME:BST
DTSTART:20240331T010000
END:DAYLIGHT
BEGIN:STANDARD
TZOFFSETFROM:+0100
TZOFFSETTO:+0000
TZNAME:GMT
DTSTART:20241027T010000
END:STANDARD
BEGIN:DAYLIGHT
TZOFFSETFROM:+0000
TZOFFSETTO:+0100
TZNAME:BST
DTSTART:20250330T010000
END:DAYLIGHT
BEGIN:STANDARD
TZOFFSETFROM:+0100
TZOFFSETTO:+0000
TZNAME:GMT
DTSTART:20251026T010000
END:STANDARD
BEGIN:DAYLIGHT
TZOFFSETFROM:+0000
TZOFFSETTO:+0100
TZNAME:BST
DTSTART:20260329T010000
END:DAYLIGHT
BEGIN:STANDARD
TZOFFSETFROM:+0100
TZOFFSETTO:+0000
TZNAME:GMT
DTSTART:20261025T010000
END:STANDARD
END:VTIMEZONE
BEGIN:VEVENT
DTSTART;TZID=Europe/London:20250811T160000
DTEND;TZID=Europe/London:20250811T160000
DTSTAMP:20260426T014655
CREATED:20250425T081305Z
LAST-MODIFIED:20250615T172257Z
UID:4016-1754928000-1754928000@ensemble360.co.uk
SUMMARY:North Norfolk Music Festival: Norfolk
DESCRIPTION:Franz Joseph Haydn: Quartet no. 35 in D minor\, op. 42Simon Rowland-Jones: Piano Trio no. 1 ‘Holkham Beach’Johannes Brahms: Piano Trio no. 2 in C major\, op. 87
URL:https://ensemble360.co.uk/concert/north-norfolk-music-festival-norfolk/
LOCATION:St. Mary’s Church\, South Creake\, Fakenham\, Norfolk\, NR21 9LX\, England
CATEGORIES:Ensemble 360,Rachel Roberts,Tim Horton
ATTACH;FMTTYPE=image/jpeg:https://ensemble360.co.uk/wp-content/uploads/Ensemble_360_StringsPiano_Ref-3_please_credit_Kaupo_Kikkas-1200x800-1-ucG6Io.tmp_.jpg
END:VEVENT
BEGIN:VEVENT
DTSTART;TZID=Europe/London:20250811T190000
DTEND;TZID=Europe/London:20250811T190000
DTSTAMP:20260426T014655
CREATED:20250425T081305Z
LAST-MODIFIED:20250615T172258Z
UID:4017-1754938800-1754938800@ensemble360.co.uk
SUMMARY:North Norfolk Music Festival: Norfolk
DESCRIPTION:With Dafydd Jones\, tenor \nArnold Bax: Clarinet SonataRalph Vaughan Williams: On Wenlock EdgeIntervalFrank Bridge: Phantasy for Piano Quartet\, H.94Arthur Bliss: Quintet for Clarinet and String Quartet
URL:https://ensemble360.co.uk/concert/north-norfolk-music-festival-norfolk-2/
LOCATION:St. Mary’s Church\, South Creake\, Fakenham\, Norfolk\, NR21 9LX\, England
CATEGORIES:Ensemble 360,Rachel Roberts,Robert Plane,Tim Horton
ATTACH;FMTTYPE=image/jpeg:https://ensemble360.co.uk/wp-content/uploads/Ensemble_360_2024_ref_7_and_Ref_8_please_credit_Matthew_Johnson_and_Music_in_the_Round_clarinet_and_string_quartet_montage-pYZxxE.tmp_.jpg
END:VEVENT
END:VCALENDAR