BEGIN:VCALENDAR
VERSION:2.0
PRODID:-//Ensemble 360 - ECPv6.15.20//NONSGML v1.0//EN
CALSCALE:GREGORIAN
METHOD:PUBLISH
X-WR-CALNAME:Ensemble 360
X-ORIGINAL-URL:https://ensemble360.co.uk
X-WR-CALDESC:Events for Ensemble 360
REFRESH-INTERVAL;VALUE=DURATION:PT1H
X-Robots-Tag:noindex
X-PUBLISHED-TTL:PT1H
BEGIN:VTIMEZONE
TZID:Europe/London
BEGIN:DAYLIGHT
TZOFFSETFROM:+0000
TZOFFSETTO:+0100
TZNAME:BST
DTSTART:20240331T010000
END:DAYLIGHT
BEGIN:STANDARD
TZOFFSETFROM:+0100
TZOFFSETTO:+0000
TZNAME:GMT
DTSTART:20241027T010000
END:STANDARD
BEGIN:DAYLIGHT
TZOFFSETFROM:+0000
TZOFFSETTO:+0100
TZNAME:BST
DTSTART:20250330T010000
END:DAYLIGHT
BEGIN:STANDARD
TZOFFSETFROM:+0100
TZOFFSETTO:+0000
TZNAME:GMT
DTSTART:20251026T010000
END:STANDARD
BEGIN:DAYLIGHT
TZOFFSETFROM:+0000
TZOFFSETTO:+0100
TZNAME:BST
DTSTART:20260329T010000
END:DAYLIGHT
BEGIN:STANDARD
TZOFFSETFROM:+0100
TZOFFSETTO:+0000
TZNAME:GMT
DTSTART:20261025T010000
END:STANDARD
END:VTIMEZONE
BEGIN:VEVENT
DTSTART;TZID=Europe/London:20250703T193000
DTEND;TZID=Europe/London:20250703T193000
DTSTAMP:20260426T031058
CREATED:20250425T081304Z
LAST-MODIFIED:20250615T172257Z
UID:4015-1751571000-1751571000@ensemble360.co.uk
SUMMARY:Mananan Festival: Port Erin
DESCRIPTION:Francis Poulenc: Trio for Oboe\, Bassoon and PianoLudwig van Beethoven: Quintet for Piano and Wind in E flat major\, op. 16\, first movementIntervalFrancis Poulenc: Elégie for Horn and PianoWolfgang Amadeus Mozart: Quintet in E flat major for Piano and Winds\, K. 452
URL:https://ensemble360.co.uk/concert/mananan-international-festival-of-music-and-the-arts-port-erin/
LOCATION:Erin Arts Centre\, Victoria Square\, Off Upper Promenade\, Port Erin\, IM9 6LD\, Isle of Man
CATEGORIES:Ensemble 360,Robert Plane,Tim Horton
ATTACH;FMTTYPE=image/jpeg:https://ensemble360.co.uk/wp-content/uploads/mananan-2025-posters-2-724x1024-1-ZaK9De.tmp_.jpg
END:VEVENT
END:VCALENDAR