BEGIN:VCALENDAR
VERSION:2.0
PRODID:-//Ensemble 360 - ECPv6.15.20//NONSGML v1.0//EN
CALSCALE:GREGORIAN
METHOD:PUBLISH
X-ORIGINAL-URL:https://ensemble360.co.uk
X-WR-CALDESC:Events for Ensemble 360
REFRESH-INTERVAL;VALUE=DURATION:PT1H
X-Robots-Tag:noindex
X-PUBLISHED-TTL:PT1H
BEGIN:VTIMEZONE
TZID:Europe/London
BEGIN:DAYLIGHT
TZOFFSETFROM:+0000
TZOFFSETTO:+0100
TZNAME:BST
DTSTART:20240331T010000
END:DAYLIGHT
BEGIN:STANDARD
TZOFFSETFROM:+0100
TZOFFSETTO:+0000
TZNAME:GMT
DTSTART:20241027T010000
END:STANDARD
BEGIN:DAYLIGHT
TZOFFSETFROM:+0000
TZOFFSETTO:+0100
TZNAME:BST
DTSTART:20250330T010000
END:DAYLIGHT
BEGIN:STANDARD
TZOFFSETFROM:+0100
TZOFFSETTO:+0000
TZNAME:GMT
DTSTART:20251026T010000
END:STANDARD
BEGIN:DAYLIGHT
TZOFFSETFROM:+0000
TZOFFSETTO:+0100
TZNAME:BST
DTSTART:20260329T010000
END:DAYLIGHT
BEGIN:STANDARD
TZOFFSETFROM:+0100
TZOFFSETTO:+0000
TZNAME:GMT
DTSTART:20261025T010000
END:STANDARD
END:VTIMEZONE
BEGIN:VEVENT
DTSTART;TZID=Europe/London:20250605T104500
DTEND;TZID=Europe/London:20250605T104500
DTSTAMP:20260426T043321
CREATED:20250425T081307Z
LAST-MODIFIED:20250605T162214Z
UID:4044-1749120300-1749120300@ensemble360.co.uk
SUMMARY:Music in the Round
DESCRIPTION:Rissmann Giddy Goat
URL:https://ensemble360.co.uk/concert/music-in-the-round-3/
LOCATION:Dagenham Park Church of England School\, School Road\, RM10 9QH
CATEGORIES:Ensemble 360,Rachel Roberts
ATTACH;FMTTYPE=image/png:https://ensemble360.co.uk/wp-content/uploads/MusicintheRoundLogo-Smed-H80vRQ.tmp_.png
END:VEVENT
BEGIN:VEVENT
DTSTART;TZID=Europe/London:20250605T133000
DTEND;TZID=Europe/London:20250605T133000
DTSTAMP:20260426T043321
CREATED:20250425T081307Z
LAST-MODIFIED:20250605T162215Z
UID:4045-1749130200-1749130200@ensemble360.co.uk
SUMMARY:Music in the Round
DESCRIPTION:Rissmann Giddy Goat
URL:https://ensemble360.co.uk/concert/music-in-the-round-4/
LOCATION:Dagenham Park Church of England School\, School Road\, RM10 9QH
CATEGORIES:Ensemble 360,Rachel Roberts
ATTACH;FMTTYPE=image/png:https://ensemble360.co.uk/wp-content/uploads/MusicintheRoundLogo-Smed-H80vRQ.tmp_.png
END:VEVENT
BEGIN:VEVENT
DTSTART;TZID=Europe/London:20250607T140000
DTEND;TZID=Europe/London:20250607T140000
DTSTAMP:20260426T043321
CREATED:20250425T081308Z
LAST-MODIFIED:20250607T163440Z
UID:4046-1749304800-1749304800@ensemble360.co.uk
SUMMARY:Music in the Round: East Riding of Yorkshire
DESCRIPTION:Paul Rissmann: Giddy Goat
URL:https://ensemble360.co.uk/concert/music-in-the-round-east-riding-of-yorkshire-13/
LOCATION:Junction Goole\, Paradise Place\, East Riding of Yorkshire\, DN14 5DL\, England
CATEGORIES:Ensemble 360,Rachel Roberts
ATTACH;FMTTYPE=image/png:https://ensemble360.co.uk/wp-content/uploads/MusicintheRoundLogo-Smed-H80vRQ.tmp_.png
END:VEVENT
BEGIN:VEVENT
DTSTART;TZID=Europe/London:20250607T190000
DTEND;TZID=Europe/London:20250607T190000
DTSTAMP:20260426T043321
CREATED:20250425T081308Z
LAST-MODIFIED:20250607T163440Z
UID:4047-1749322800-1749322800@ensemble360.co.uk
SUMMARY:Music in the Round: East Riding of Yorkshire
DESCRIPTION:Benjamin Britten: Three DivertimentiWolfgang Amadeus Mozart: String Quartet D Major\, K. 499\, HoffmeisterIntervalLudwig van Beethoven: Quartet no. 8 in E minor\, op. 59\, no. 2\, Rasumovsky
URL:https://ensemble360.co.uk/concert/music-in-the-round-east-riding-of-yorkshire-14/
LOCATION:Junction Goole\, Paradise Place\, East Riding of Yorkshire\, DN14 5DL\, England
CATEGORIES:Ensemble 360,Rachel Roberts
ATTACH;FMTTYPE=image/png:https://ensemble360.co.uk/wp-content/uploads/MusicintheRoundLogo-Smed-H80vRQ.tmp_.png
END:VEVENT
BEGIN:VEVENT
DTSTART;TZID=Europe/London:20250613T103000
DTEND;TZID=Europe/London:20250613T103000
DTSTAMP:20260426T043321
CREATED:20250515T191930Z
LAST-MODIFIED:20250613T171205Z
UID:4130-1749810600-1749810600@ensemble360.co.uk
SUMMARY:Music in the Round: Barnsley
DESCRIPTION:Giddy Goat (schools)
URL:https://ensemble360.co.uk/concert/music-in-the-round-barnsley-11/
LOCATION:Barnsley Civic\, Hanson Street\, Barnsley\, S70 2HZ\, England
CATEGORIES:Ensemble 360,Robert Plane
ATTACH;FMTTYPE=image/png:https://ensemble360.co.uk/wp-content/uploads/MusicintheRoundLogo-Smed-H80vRQ.tmp_.png
END:VEVENT
BEGIN:VEVENT
DTSTART;TZID=Europe/London:20250613T104500
DTEND;TZID=Europe/London:20250613T104500
DTSTAMP:20260426T043321
CREATED:20250425T081308Z
LAST-MODIFIED:20250613T171206Z
UID:4048-1749811500-1749811500@ensemble360.co.uk
SUMMARY:Music in the Round: Barnsley
DESCRIPTION:Giddy Goat (schools)
URL:https://ensemble360.co.uk/concert/music-in-the-round-barnsley-8/
LOCATION:Barnsley Civic\, Hanson Street\, Barnsley\, S70 2HZ\, England
CATEGORIES:Ensemble 360
ATTACH;FMTTYPE=image/png:https://ensemble360.co.uk/wp-content/uploads/MusicintheRoundLogo-Smed-H80vRQ.tmp_.png
END:VEVENT
BEGIN:VEVENT
DTSTART;TZID=Europe/London:20250613T193000
DTEND;TZID=Europe/London:20250613T193000
DTSTAMP:20260426T043321
CREATED:20250425T081308Z
LAST-MODIFIED:20250613T171206Z
UID:4049-1749843000-1749843000@ensemble360.co.uk
SUMMARY:Music in the Round: Barnsley
DESCRIPTION:Programme includes \nImogen Holst: Phantasy String QuartetBenjamin Britten: Three DivertimentiHerbert Howells: Phantasy String Quartet op. 25IntervalHenry Purcell\, arr. Peter Warlock:  Three-Part Fantasias no. 1-3Ralph Vaughan Williams\, arr. Martin Gerigk: The Lark Ascending
URL:https://ensemble360.co.uk/concert/music-in-the-round-barnsley-9/
LOCATION:Barnsley Civic\, Hanson Street\, Barnsley\, S70 2HZ\, England
CATEGORIES:Ensemble 360
ATTACH;FMTTYPE=image/png:https://ensemble360.co.uk/wp-content/uploads/MusicintheRoundLogo-Smed-H80vRQ.tmp_.png
END:VEVENT
END:VCALENDAR